{"text_format":"1","workbook":"xlsx","n_sheets":9,"sheets":["配布","集計","集計２","解答","集計3","1101","1102","1103","最後"],"not_rendered":{"charts":0,"images":0,"macros":1,"external_links":0,"defined_names":1,"comments":4,"pivot_tables":0},"unopened":[],"bounds":{"document_bytes":16777216,"sheet_cells":100000,"rows_first":2000,"rows_last":500,"rows_between":2000,"halvings":0,"cell_chars":16384,"cell_head_chars":4096},"cells_cut":0,"cells_raw":0,"read":"whole","date_system":"1900"}

{"sheet":"配布","index":0,"n_rows":53,"n_cols":31,"rows_kept":53,"cut":false,"hidden":false,"merged":[[6,6,6,8],[0,0,0,3],[2,6,2,8],[3,6,3,8],[4,6,4,8],[5,6,5,8],[18,6,18,8],[7,6,7,8],[8,6,8,8],[9,6,9,8],[10,6,10,8],[11,6,11,8],[12,6,12,8],[13,6,13,8],[14,6,14,8],[15,6,15,8],[16,6,16,8],[17,6,17,8],[30,6,30,8],[19,6,19,8],[20,6,20,8],[21,6,21,8],[22,6,22,8],[23,6,23,8],[24,6,24,8],[25,6,25,8],[26,6,26,8],[27,6,27,8],[28,6,28,8],[29,6,29,8],[42,6,42,8],[31,6,31,8],[32,6,32,8],[33,6,33,8],[34,6,34,8],[35,6,35,8],[36,6,36,8],[37,6,37,8],[38,6,38,8],[39,6,39,8],[40,6,40,8],[41,6,41,8],[49,6,49,8],[50,6,50,8],[51,6,51,8],[52,6,52,8],[43,6,43,8],[44,6,44,8],[45,6,45,8],[46,6,46,8],[47,6,47,8],[48,6,48,8]]}
["学習の記録",null,null,null,null,"HRNO",1100,"氏名","情報太郎",null,"時間数",1,"出席",{"$f":"COUNT(C4:C53)","v":0},"欠席",{"$f":"L1-N1","v":1},"総文字数",{"$f":"SUM(J4:J53)","v":0},"達成数",{"$f":"COUNTIF(J4:J53,\">=30\")","v":0}]
[]
["No","日付","出欠\n(出1,遅2,早3)","欠席者No.","ノート","評価","反省・感想・備考",null,null,"文字数","A1","A2","A3","A4","A5","A6","A7","A8","A9","A10","S1","S2","S3","S4","S5","S6","S7","S8","S9","S10","T"]
[1,null,null,null,null,null,null,null,null,{"$f":"LEN(G4)","v":0},null,null,null,null,null,null,null,null,null,null,{"$f":"IF(解答!B2=\"\",\"\",IF(K4=解答!B2,1,0))","v":0},{"$f":"IF(解答!C2=\"\",\"\",IF(L4=解答!C2,1,0))","v":0},{"$f":"IF(解答!D2=\"\",\"\",IF(M4=解答!D2,1,0))","v":0},{"$f":"IF(解答!E2=\"\",\"\",IF(N4=解答!E2,1,0))","v":0},{"$f":"IF(解答!F2=\"\",\"\",IF(O4=解答!F2,1,0))","v":0},{"$f":"IF(解答!G2=\"\",\"\",IF(P4=解答!G2,1,0))","v":0},{"$f":"IF(解答!H2=\"\",\"\",IF(Q4=解答!H2,1,0))","v":0},{"$f":"IF(解答!I2=\"\",\"\",IF(R4=解答!I2,1,0))","v":0},{"$f":"IF(解答!J2=\"\",\"\",IF(S4=解答!J2,1,0))","v":0},{"$f":"IF(解答!K2=\"\",\"\",IF(T4=解答!K2,1,0))","v":0},{"$f":"SUM(U4:AD4)","v":0}]
[2,null,null,null,null,null,null,null,null,{"$f":"LEN(G5)","v":0},null,null,null,null,null,null,null,null,null,null,{"$f":"IF(解答!B3=\"\",\"\",IF(K5=解答!B3,1,0))","v":""},{"$f":"IF(解答!C3=\"\",\"\",IF(L5=解答!C3,1,0))","v":""},{"$f":"IF(解答!D3=\"\",\"\",IF(M5=解答!D3,1,0))","v":""},{"$f":"IF(解答!E3=\"\",\"\",IF(N5=解答!E3,1,0))","v":""},{"$f":"IF(解答!F3=\"\",\"\",IF(O5=解答!F3,1,0))","v":""},{"$f":"IF(解答!G3=\"\",\"\",IF(P5=解答!G3,1,0))","v":""},{"$f":"IF(解答!H3=\"\",\"\",IF(Q5=解答!H3,1,0))","v":""},{"$f":"IF(解答!I3=\"\",\"\",IF(R5=解答!I3,1,0))","v":""},{"$f":"IF(解答!J3=\"\",\"\",IF(S5=解答!J3,1,0))","v":""},{"$f":"IF(解答!K3=\"\",\"\",IF(T5=解答!K3,1,0))","v":""},{"$f":"IF(解答!B3=\"\",\"\",SUM(U5:AD5))","v":""}]
[3,null,null,null,null,null,null,null,null,0,null,null,null,null,null,null,null,null,null,null,{"$f":"IF(解答!B4=\"\",\"\",IF(K6=解答!B4,1,0))","v":""},{"$f":"IF(解答!C4=\"\",\"\",IF(L6=解答!C4,1,0))","v":""},{"$f":"IF(解答!D4=\"\",\"\",IF(M6=解答!D4,1,0))","v":""},{"$f":"IF(解答!E4=\"\",\"\",IF(N6=解答!E4,1,0))","v":""},{"$f":"IF(解答!F4=\"\",\"\",IF(O6=解答!F4,1,0))","v":""},{"$f":"IF(解答!G4=\"\",\"\",IF(P6=解答!G4,1,0))","v":""},{"$f":"IF(解答!H4=\"\",\"\",IF(Q6=解答!H4,1,0))","v":""},{"$f":"IF(解答!I4=\"\",\"\",IF(R6=解答!I4,1,0))","v":""},{"$f":"IF(解答!J4=\"\",\"\",IF(S6=解答!J4,1,0))","v":""},{"$f":"IF(解答!K4=\"\",\"\",IF(T6=解答!K4,1,0))","v":""},{"$f":"IF(解答!B4=\"\",\"\",SUM(U6:AD6))","v":""}]
[4,null,null,null,null,null,null,null,null,0,null,null,null,null,null,null,null,null,null,null,{"$f":"IF(解答!B5=\"\",\"\",IF(K7=解答!B5,1,0))","v":""},{"$f":"IF(解答!C5=\"\",\"\",IF(L7=解答!C5,1,0))","v":""},{"$f":"IF(解答!D5=\"\",\"\",IF(M7=解答!D5,1,0))","v":""},{"$f":"IF(解答!E5=\"\",\"\",IF(N7=解答!E5,1,0))","v":""},{"$f":"IF(解答!F5=\"\",\"\",IF(O7=解答!F5,1,0))","v":""},{"$f":"IF(解答!G5=\"\",\"\",IF(P7=解答!G5,1,0))","v":""},{"$f":"IF(解答!H5=\"\",\"\",IF(Q7=解答!H5,1,0))","v":""},{"$f":"IF(解答!I5=\"\",\"\",IF(R7=解答!I5,1,0))","v":""},{"$f":"IF(解答!J5=\"\",\"\",IF(S7=解答!J5,1,0))","v":""},{"$f":"IF(解答!K5=\"\",\"\",IF(T7=解答!K5,1,0))","v":""},{"$f":"IF(解答!B5=\"\",\"\",SUM(U7:AD7))","v":""}]
[5,null,null,null,null,null,null,null,null,0,null,null,null,null,null,null,null,null,null,null,{"$f":"IF(解答!B6=\"\",\"\",IF(K8=解答!B6,1,0))","v":""},{"$f":"IF(解答!C6=\"\",\"\",IF(L8=解答!C6,1,0))","v":""},{"$f":"IF(解答!D6=\"\",\"\",IF(M8=解答!D6,1,0))","v":""},{"$f":"IF(解答!E6=\"\",\"\",IF(N8=解答!E6,1,0))","v":""},{"$f":"IF(解答!F6=\"\",\"\",IF(O8=解答!F6,1,0))","v":""},{"$f":"IF(解答!G6=\"\",\"\",IF(P8=解答!G6,1,0))","v":""},{"$f":"IF(解答!H6=\"\",\"\",IF(Q8=解答!H6,1,0))","v":""},{"$f":"IF(解答!I6=\"\",\"\",IF(R8=解答!I6,1,0))","v":""},{"$f":"IF(解答!J6=\"\",\"\",IF(S8=解答!J6,1,0))","v":""},{"$f":"IF(解答!K6=\"\",\"\",IF(T8=解答!K6,1,0))","v":""},{"$f":"IF(解答!B6=\"\",\"\",SUM(U8:AD8))","v":""}]
[6,null,null,null,null,null,null,null,null,0,null,null,null,null,null,null,null,null,null,null,{"$f":"IF(解答!B7=\"\",\"\",IF(K9=解答!B7,1,0))","v":""},{"$f":"IF(解答!C7=\"\",\"\",IF(L9=解答!C7,1,0))","v":""},{"$f":"IF(解答!D7=\"\",\"\",IF(M9=解答!D7,1,0))","v":""},{"$f":"IF(解答!E7=\"\",\"\",IF(N9=解答!E7,1,0))","v":""},{"$f":"IF(解答!F7=\"\",\"\",IF(O9=解答!F7,1,0))","v":""},{"$f":"IF(解答!G7=\"\",\"\",IF(P9=解答!G7,1,0))","v":""},{"$f":"IF(解答!H7=\"\",\"\",IF(Q9=解答!H7,1,0))","v":""},{"$f":"IF(解答!I7=\"\",\"\",IF(R9=解答!I7,1,0))","v":""},{"$f":"IF(解答!J7=\"\",\"\",IF(S9=解答!J7,1,0))","v":""},{"$f":"IF(解答!K7=\"\",\"\",IF(T9=解答!K7,1,0))","v":""},{"$f":"IF(解答!B7=\"\",\"\",SUM(U9:AD9))","v":""}]
[7,null,null,null,null,null,null,null,null,0,null,null,null,null,null,null,null,null,null,null,{"$f":"IF(解答!B8=\"\",\"\",IF(K10=解答!B8,1,0))","v":""},{"$f":"IF(解答!C8=\"\",\"\",IF(L10=解答!C8,1,0))","v":""},{"$f":"IF(解答!D8=\"\",\"\",IF(M10=解答!D8,1,0))","v":""},{"$f":"IF(解答!E8=\"\",\"\",IF(N10=解答!E8,1,0))","v":""},{"$f":"IF(解答!F8=\"\",\"\",IF(O10=解答!F8,1,0))","v":""},{"$f":"IF(解答!G8=\"\",\"\",IF(P10=解答!G8,1,0))","v":""},{"$f":"IF(解答!H8=\"\",\"\",IF(Q10=解答!H8,1,0))","v":""},{"$f":"IF(解答!I8=\"\",\"\",IF(R10=解答!I8,1,0))","v":""},{"$f":"IF(解答!J8=\"\",\"\",IF(S10=解答!J8,1,0))","v":""},{"$f":"IF(解答!K8=\"\",\"\",IF(T10=解答!K8,1,0))","v":""},{"$f":"IF(解答!B8=\"\",\"\",SUM(U10:AD10))","v":""}]
[8,null,null,null,null,null,null,null,null,0,null,null,null,null,null,null,null,null,null,null,{"$f":"IF(解答!B9=\"\",\"\",IF(K11=解答!B9,1,0))","v":""},{"$f":"IF(解答!C9=\"\",\"\",IF(L11=解答!C9,1,0))","v":""},{"$f":"IF(解答!D9=\"\",\"\",IF(M11=解答!D9,1,0))","v":""},{"$f":"IF(解答!E9=\"\",\"\",IF(N11=解答!E9,1,0))","v":""},{"$f":"IF(解答!F9=\"\",\"\",IF(O11=解答!F9,1,0))","v":""},{"$f":"IF(解答!G9=\"\",\"\",IF(P11=解答!G9,1,0))","v":""},{"$f":"IF(解答!H9=\"\",\"\",IF(Q11=解答!H9,1,0))","v":""},{"$f":"IF(解答!I9=\"\",\"\",IF(R11=解答!I9,1,0))","v":""},{"$f":"IF(解答!J9=\"\",\"\",IF(S11=解答!J9,1,0))","v":""},{"$f":"IF(解答!K9=\"\",\"\",IF(T11=解答!K9,1,0))","v":""},{"$f":"IF(解答!B9=\"\",\"\",SUM(U11:AD11))","v":""}]
[9,null,null,null,null,null,null,null,null,0,null,null,null,null,null,null,null,null,null,null,{"$f":"IF(解答!B10=\"\",\"\",IF(K12=解答!B10,1,0))","v":""},{"$f":"IF(解答!C10=\"\",\"\",IF(L12=解答!C10,1,0))","v":""},{"$f":"IF(解答!D10=\"\",\"\",IF(M12=解答!D10,1,0))","v":""},{"$f":"IF(解答!E10=\"\",\"\",IF(N12=解答!E10,1,0))","v":""},{"$f":"IF(解答!F10=\"\",\"\",IF(O12=解答!F10,1,0))","v":""},{"$f":"IF(解答!G10=\"\",\"\",IF(P12=解答!G10,1,0))","v":""},{"$f":"IF(解答!H10=\"\",\"\",IF(Q12=解答!H10,1,0))","v":""},{"$f":"IF(解答!I10=\"\",\"\",IF(R12=解答!I10,1,0))","v":""},{"$f":"IF(解答!J10=\"\",\"\",IF(S12=解答!J10,1,0))","v":""},{"$f":"IF(解答!K10=\"\",\"\",IF(T12=解答!K10,1,0))","v":""},{"$f":"IF(解答!B10=\"\",\"\",SUM(U12:AD12))","v":""}]
[10,null,null,null,null,null,null,null,null,0,null,null,null,null,null,null,null,null,null,null,{"$f":"IF(解答!B11=\"\",\"\",IF(K13=解答!B11,1,0))","v":""},{"$f":"IF(解答!C11=\"\",\"\",IF(L13=解答!C11,1,0))","v":""},{"$f":"IF(解答!D11=\"\",\"\",IF(M13=解答!D11,1,0))","v":""},{"$f":"IF(解答!E11=\"\",\"\",IF(N13=解答!E11,1,0))","v":""},{"$f":"IF(解答!F11=\"\",\"\",IF(O13=解答!F11,1,0))","v":""},{"$f":"IF(解答!G11=\"\",\"\",IF(P13=解答!G11,1,0))","v":""},{"$f":"IF(解答!H11=\"\",\"\",IF(Q13=解答!H11,1,0))","v":""},{"$f":"IF(解答!I11=\"\",\"\",IF(R13=解答!I11,1,0))","v":""},{"$f":"IF(解答!J11=\"\",\"\",IF(S13=解答!J11,1,0))","v":""},{"$f":"IF(解答!K11=\"\",\"\",IF(T13=解答!K11,1,0))","v":""},{"$f":"IF(解答!B11=\"\",\"\",SUM(U13:AD13))","v":""}]
[11,null,null,null,null,null,null,null,null,0,null,null,null,null,null,null,null,null,null,null,{"$f":"IF(解答!B12=\"\",\"\",IF(K14=解答!B12,1,0))","v":""},{"$f":"IF(解答!C12=\"\",\"\",IF(L14=解答!C12,1,0))","v":""},{"$f":"IF(解答!D12=\"\",\"\",IF(M14=解答!D12,1,0))","v":""},{"$f":"IF(解答!E12=\"\",\"\",IF(N14=解答!E12,1,0))","v":""},{"$f":"IF(解答!F12=\"\",\"\",IF(O14=解答!F12,1,0))","v":""},{"$f":"IF(解答!G12=\"\",\"\",IF(P14=解答!G12,1,0))","v":""},{"$f":"IF(解答!H12=\"\",\"\",IF(Q14=解答!H12,1,0))","v":""},{"$f":"IF(解答!I12=\"\",\"\",IF(R14=解答!I12,1,0))","v":""},{"$f":"IF(解答!J12=\"\",\"\",IF(S14=解答!J12,1,0))","v":""},{"$f":"IF(解答!K12=\"\",\"\",IF(T14=解答!K12,1,0))","v":""},{"$f":"IF(解答!B12=\"\",\"\",SUM(U14:AD14))","v":""}]
[12,null,null,null,null,null,null,null,null,0,null,null,null,null,null,null,null,null,null,null,{"$f":"IF(解答!B13=\"\",\"\",IF(K15=解答!B13,1,0))","v":""},{"$f":"IF(解答!C13=\"\",\"\",IF(L15=解答!C13,1,0))","v":""},{"$f":"IF(解答!D13=\"\",\"\",IF(M15=解答!D13,1,0))","v":""},{"$f":"IF(解答!E13=\"\",\"\",IF(N15=解答!E13,1,0))","v":""},{"$f":"IF(解答!F13=\"\",\"\",IF(O15=解答!F13,1,0))","v":""},{"$f":"IF(解答!G13=\"\",\"\",IF(P15=解答!G13,1,0))","v":""},{"$f":"IF(解答!H13=\"\",\"\",IF(Q15=解答!H13,1,0))","v":""},{"$f":"IF(解答!I13=\"\",\"\",IF(R15=解答!I13,1,0))","v":""},{"$f":"IF(解答!J13=\"\",\"\",IF(S15=解答!J13,1,0))","v":""},{"$f":"IF(解答!K13=\"\",\"\",IF(T15=解答!K13,1,0))","v":""},{"$f":"IF(解答!B13=\"\",\"\",SUM(U15:AD15))","v":""}]
[13,null,null,null,null,null,null,null,null,0,null,null,null,null,null,null,null,null,null,null,{"$f":"IF(解答!B14=\"\",\"\",IF(K16=解答!B14,1,0))","v":""},{"$f":"IF(解答!C14=\"\",\"\",IF(L16=解答!C14,1,0))","v":""},{"$f":"IF(解答!D14=\"\",\"\",IF(M16=解答!D14,1,0))","v":""},{"$f":"IF(解答!E14=\"\",\"\",IF(N16=解答!E14,1,0))","v":""},{"$f":"IF(解答!F14=\"\",\"\",IF(O16=解答!F14,1,0))","v":""},{"$f":"IF(解答!G14=\"\",\"\",IF(P16=解答!G14,1,0))","v":""},{"$f":"IF(解答!H14=\"\",\"\",IF(Q16=解答!H14,1,0))","v":""},{"$f":"IF(解答!I14=\"\",\"\",IF(R16=解答!I14,1,0))","v":""},{"$f":"IF(解答!J14=\"\",\"\",IF(S16=解答!J14,1,0))","v":""},{"$f":"IF(解答!K14=\"\",\"\",IF(T16=解答!K14,1,0))","v":""},{"$f":"IF(解答!B14=\"\",\"\",SUM(U16:AD16))","v":""}]
[14,null,null,null,null,null,null,null,null,0,null,null,null,null,null,null,null,null,null,null,{"$f":"IF(解答!B15=\"\",\"\",IF(K17=解答!B15,1,0))","v":""},{"$f":"IF(解答!C15=\"\",\"\",IF(L17=解答!C15,1,0))","v":""},{"$f":"IF(解答!D15=\"\",\"\",IF(M17=解答!D15,1,0))","v":""},{"$f":"IF(解答!E15=\"\",\"\",IF(N17=解答!E15,1,0))","v":""},{"$f":"IF(解答!F15=\"\",\"\",IF(O17=解答!F15,1,0))","v":""},{"$f":"IF(解答!G15=\"\",\"\",IF(P17=解答!G15,1,0))","v":""},{"$f":"IF(解答!H15=\"\",\"\",IF(Q17=解答!H15,1,0))","v":""},{"$f":"IF(解答!I15=\"\",\"\",IF(R17=解答!I15,1,0))","v":""},{"$f":"IF(解答!J15=\"\",\"\",IF(S17=解答!J15,1,0))","v":""},{"$f":"IF(解答!K15=\"\",\"\",IF(T17=解答!K15,1,0))","v":""},{"$f":"IF(解答!B15=\"\",\"\",SUM(U17:AD17))","v":""}]
[15,null,null,null,null,null,null,null,null,0,null,null,null,null,null,null,null,null,null,null,{"$f":"IF(解答!B16=\"\",\"\",IF(K18=解答!B16,1,0))","v":""},{"$f":"IF(解答!C16=\"\",\"\",IF(L18=解答!C16,1,0))","v":""},{"$f":"IF(解答!D16=\"\",\"\",IF(M18=解答!D16,1,0))","v":""},{"$f":"IF(解答!E16=\"\",\"\",IF(N18=解答!E16,1,0))","v":""},{"$f":"IF(解答!F16=\"\",\"\",IF(O18=解答!F16,1,0))","v":""},{"$f":"IF(解答!G16=\"\",\"\",IF(P18=解答!G16,1,0))","v":""},{"$f":"IF(解答!H16=\"\",\"\",IF(Q18=解答!H16,1,0))","v":""},{"$f":"IF(解答!I16=\"\",\"\",IF(R18=解答!I16,1,0))","v":""},{"$f":"IF(解答!J16=\"\",\"\",IF(S18=解答!J16,1,0))","v":""},{"$f":"IF(解答!K16=\"\",\"\",IF(T18=解答!K16,1,0))","v":""},{"$f":"IF(解答!B16=\"\",\"\",SUM(U18:AD18))","v":""}]
[16,null,null,null,null,null,null,null,null,0,null,null,null,null,null,null,null,null,null,null,{"$f":"IF(解答!B17=\"\",\"\",IF(K19=解答!B17,1,0))","v":""},{"$f":"IF(解答!C17=\"\",\"\",IF(L19=解答!C17,1,0))","v":""},{"$f":"IF(解答!D17=\"\",\"\",IF(M19=解答!D17,1,0))","v":""},{"$f":"IF(解答!E17=\"\",\"\",IF(N19=解答!E17,1,0))","v":""},{"$f":"IF(解答!F17=\"\",\"\",IF(O19=解答!F17,1,0))","v":""},{"$f":"IF(解答!G17=\"\",\"\",IF(P19=解答!G17,1,0))","v":""},{"$f":"IF(解答!H17=\"\",\"\",IF(Q19=解答!H17,1,0))","v":""},{"$f":"IF(解答!I17=\"\",\"\",IF(R19=解答!I17,1,0))","v":""},{"$f":"IF(解答!J17=\"\",\"\",IF(S19=解答!J17,1,0))","v":""},{"$f":"IF(解答!K17=\"\",\"\",IF(T19=解答!K17,1,0))","v":""},{"$f":"IF(解答!B17=\"\",\"\",SUM(U19:AD19))","v":""}]
[17,null,null,null,null,null,null,null,null,0,null,null,null,null,null,null,null,null,null,null,{"$f":"IF(解答!B18=\"\",\"\",IF(K20=解答!B18,1,0))","v":""},{"$f":"IF(解答!C18=\"\",\"\",IF(L20=解答!C18,1,0))","v":""},{"$f":"IF(解答!D18=\"\",\"\",IF(M20=解答!D18,1,0))","v":""},{"$f":"IF(解答!E18=\"\",\"\",IF(N20=解答!E18,1,0))","v":""},{"$f":"IF(解答!F18=\"\",\"\",IF(O20=解答!F18,1,0))","v":""},{"$f":"IF(解答!G18=\"\",\"\",IF(P20=解答!G18,1,0))","v":""},{"$f":"IF(解答!H18=\"\",\"\",IF(Q20=解答!H18,1,0))","v":""},{"$f":"IF(解答!I18=\"\",\"\",IF(R20=解答!I18,1,0))","v":""},{"$f":"IF(解答!J18=\"\",\"\",IF(S20=解答!J18,1,0))","v":""},{"$f":"IF(解答!K18=\"\",\"\",IF(T20=解答!K18,1,0))","v":""},{"$f":"IF(解答!B18=\"\",\"\",SUM(U20:AD20))","v":""}]
[18,null,null,null,null,null,null,null,null,0,null,null,null,null,null,null,null,null,null,null,{"$f":"IF(解答!B19=\"\",\"\",IF(K21=解答!B19,1,0))","v":""},{"$f":"IF(解答!C19=\"\",\"\",IF(L21=解答!C19,1,0))","v":""},{"$f":"IF(解答!D19=\"\",\"\",IF(M21=解答!D19,1,0))","v":""},{"$f":"IF(解答!E19=\"\",\"\",IF(N21=解答!E19,1,0))","v":""},{"$f":"IF(解答!F19=\"\",\"\",IF(O21=解答!F19,1,0))","v":""},{"$f":"IF(解答!G19=\"\",\"\",IF(P21=解答!G19,1,0))","v":""},{"$f":"IF(解答!H19=\"\",\"\",IF(Q21=解答!H19,1,0))","v":""},{"$f":"IF(解答!I19=\"\",\"\",IF(R21=解答!I19,1,0))","v":""},{"$f":"IF(解答!J19=\"\",\"\",IF(S21=解答!J19,1,0))","v":""},{"$f":"IF(解答!K19=\"\",\"\",IF(T21=解答!K19,1,0))","v":""},{"$f":"IF(解答!B19=\"\",\"\",SUM(U21:AD21))","v":""}]
[19,null,null,null,null,null,null,null,null,0,null,null,null,null,null,null,null,null,null,null,{"$f":"IF(解答!B20=\"\",\"\",IF(K22=解答!B20,1,0))","v":""},{"$f":"IF(解答!C20=\"\",\"\",IF(L22=解答!C20,1,0))","v":""},{"$f":"IF(解答!D20=\"\",\"\",IF(M22=解答!D20,1,0))","v":""},{"$f":"IF(解答!E20=\"\",\"\",IF(N22=解答!E20,1,0))","v":""},{"$f":"IF(解答!F20=\"\",\"\",IF(O22=解答!F20,1,0))","v":""},{"$f":"IF(解答!G20=\"\",\"\",IF(P22=解答!G20,1,0))","v":""},{"$f":"IF(解答!H20=\"\",\"\",IF(Q22=解答!H20,1,0))","v":""},{"$f":"IF(解答!I20=\"\",\"\",IF(R22=解答!I20,1,0))","v":""},{"$f":"IF(解答!J20=\"\",\"\",IF(S22=解答!J20,1,0))","v":""},{"$f":"IF(解答!K20=\"\",\"\",IF(T22=解答!K20,1,0))","v":""},{"$f":"IF(解答!B20=\"\",\"\",SUM(U22:AD22))","v":""}]
[20,null,null,null,null,null,null,null,null,0,null,null,null,null,null,null,null,null,null,null,{"$f":"IF(解答!B21=\"\",\"\",IF(K23=解答!B21,1,0))","v":""},{"$f":"IF(解答!C21=\"\",\"\",IF(L23=解答!C21,1,0))","v":""},{"$f":"IF(解答!D21=\"\",\"\",IF(M23=解答!D21,1,0))","v":""},{"$f":"IF(解答!E21=\"\",\"\",IF(N23=解答!E21,1,0))","v":""},{"$f":"IF(解答!F21=\"\",\"\",IF(O23=解答!F21,1,0))","v":""},{"$f":"IF(解答!G21=\"\",\"\",IF(P23=解答!G21,1,0))","v":""},{"$f":"IF(解答!H21=\"\",\"\",IF(Q23=解答!H21,1,0))","v":""},{"$f":"IF(解答!I21=\"\",\"\",IF(R23=解答!I21,1,0))","v":""},{"$f":"IF(解答!J21=\"\",\"\",IF(S23=解答!J21,1,0))","v":""},{"$f":"IF(解答!K21=\"\",\"\",IF(T23=解答!K21,1,0))","v":""},{"$f":"IF(解答!B21=\"\",\"\",SUM(U23:AD23))","v":""}]
[21,null,null,null,null,null,null,null,null,0,null,null,null,null,null,null,null,null,null,null,{"$f":"IF(解答!B22=\"\",\"\",IF(K24=解答!B22,1,0))","v":""},{"$f":"IF(解答!C22=\"\",\"\",IF(L24=解答!C22,1,0))","v":""},{"$f":"IF(解答!D22=\"\",\"\",IF(M24=解答!D22,1,0))","v":""},{"$f":"IF(解答!E22=\"\",\"\",IF(N24=解答!E22,1,0))","v":""},{"$f":"IF(解答!F22=\"\",\"\",IF(O24=解答!F22,1,0))","v":""},{"$f":"IF(解答!G22=\"\",\"\",IF(P24=解答!G22,1,0))","v":""},{"$f":"IF(解答!H22=\"\",\"\",IF(Q24=解答!H22,1,0))","v":""},{"$f":"IF(解答!I22=\"\",\"\",IF(R24=解答!I22,1,0))","v":""},{"$f":"IF(解答!J22=\"\",\"\",IF(S24=解答!J22,1,0))","v":""},{"$f":"IF(解答!K22=\"\",\"\",IF(T24=解答!K22,1,0))","v":""},{"$f":"IF(解答!B22=\"\",\"\",SUM(U24:AD24))","v":""}]
[22,null,null,null,null,null,null,null,null,0,null,null,null,null,null,null,null,null,null,null,{"$f":"IF(解答!B23=\"\",\"\",IF(K25=解答!B23,1,0))","v":""},{"$f":"IF(解答!C23=\"\",\"\",IF(L25=解答!C23,1,0))","v":""},{"$f":"IF(解答!D23=\"\",\"\",IF(M25=解答!D23,1,0))","v":""},{"$f":"IF(解答!E23=\"\",\"\",IF(N25=解答!E23,1,0))","v":""},{"$f":"IF(解答!F23=\"\",\"\",IF(O25=解答!F23,1,0))","v":""},{"$f":"IF(解答!G23=\"\",\"\",IF(P25=解答!G23,1,0))","v":""},{"$f":"IF(解答!H23=\"\",\"\",IF(Q25=解答!H23,1,0))","v":""},{"$f":"IF(解答!I23=\"\",\"\",IF(R25=解答!I23,1,0))","v":""},{"$f":"IF(解答!J23=\"\",\"\",IF(S25=解答!J23,1,0))","v":""},{"$f":"IF(解答!K23=\"\",\"\",IF(T25=解答!K23,1,0))","v":""},{"$f":"IF(解答!B23=\"\",\"\",SUM(U25:AD25))","v":""}]
[23,null,null,null,null,null,null,null,null,0,null,null,null,null,null,null,null,null,null,null,{"$f":"IF(解答!B24=\"\",\"\",IF(K26=解答!B24,1,0))","v":""},{"$f":"IF(解答!C24=\"\",\"\",IF(L26=解答!C24,1,0))","v":""},{"$f":"IF(解答!D24=\"\",\"\",IF(M26=解答!D24,1,0))","v":""},{"$f":"IF(解答!E24=\"\",\"\",IF(N26=解答!E24,1,0))","v":""},{"$f":"IF(解答!F24=\"\",\"\",IF(O26=解答!F24,1,0))","v":""},{"$f":"IF(解答!G24=\"\",\"\",IF(P26=解答!G24,1,0))","v":""},{"$f":"IF(解答!H24=\"\",\"\",IF(Q26=解答!H24,1,0))","v":""},{"$f":"IF(解答!I24=\"\",\"\",IF(R26=解答!I24,1,0))","v":""},{"$f":"IF(解答!J24=\"\",\"\",IF(S26=解答!J24,1,0))","v":""},{"$f":"IF(解答!K24=\"\",\"\",IF(T26=解答!K24,1,0))","v":""},{"$f":"IF(解答!B24=\"\",\"\",SUM(U26:AD26))","v":""}]
[24,null,null,null,null,null,null,null,null,0,null,null,null,null,null,null,null,null,null,null,{"$f":"IF(解答!B25=\"\",\"\",IF(K27=解答!B25,1,0))","v":""},{"$f":"IF(解答!C25=\"\",\"\",IF(L27=解答!C25,1,0))","v":""},{"$f":"IF(解答!D25=\"\",\"\",IF(M27=解答!D25,1,0))","v":""},{"$f":"IF(解答!E25=\"\",\"\",IF(N27=解答!E25,1,0))","v":""},{"$f":"IF(解答!F25=\"\",\"\",IF(O27=解答!F25,1,0))","v":""},{"$f":"IF(解答!G25=\"\",\"\",IF(P27=解答!G25,1,0))","v":""},{"$f":"IF(解答!H25=\"\",\"\",IF(Q27=解答!H25,1,0))","v":""},{"$f":"IF(解答!I25=\"\",\"\",IF(R27=解答!I25,1,0))","v":""},{"$f":"IF(解答!J25=\"\",\"\",IF(S27=解答!J25,1,0))","v":""},{"$f":"IF(解答!K25=\"\",\"\",IF(T27=解答!K25,1,0))","v":""},{"$f":"IF(解答!B25=\"\",\"\",SUM(U27:AD27))","v":""}]
[25,null,null,null,null,null,null,null,null,0,null,null,null,null,null,null,null,null,null,null,{"$f":"IF(解答!B26=\"\",\"\",IF(K28=解答!B26,1,0))","v":""},{"$f":"IF(解答!C26=\"\",\"\",IF(L28=解答!C26,1,0))","v":""},{"$f":"IF(解答!D26=\"\",\"\",IF(M28=解答!D26,1,0))","v":""},{"$f":"IF(解答!E26=\"\",\"\",IF(N28=解答!E26,1,0))","v":""},{"$f":"IF(解答!F26=\"\",\"\",IF(O28=解答!F26,1,0))","v":""},{"$f":"IF(解答!G26=\"\",\"\",IF(P28=解答!G26,1,0))","v":""},{"$f":"IF(解答!H26=\"\",\"\",IF(Q28=解答!H26,1,0))","v":""},{"$f":"IF(解答!I26=\"\",\"\",IF(R28=解答!I26,1,0))","v":""},{"$f":"IF(解答!J26=\"\",\"\",IF(S28=解答!J26,1,0))","v":""},{"$f":"IF(解答!K26=\"\",\"\",IF(T28=解答!K26,1,0))","v":""},{"$f":"IF(解答!B26=\"\",\"\",SUM(U28:AD28))","v":""}]
[26,null,null,null,null,null,null,null,null,0,null,null,null,null,null,null,null,null,null,null,{"$f":"IF(解答!B27=\"\",\"\",IF(K29=解答!B27,1,0))","v":""},{"$f":"IF(解答!C27=\"\",\"\",IF(L29=解答!C27,1,0))","v":""},{"$f":"IF(解答!D27=\"\",\"\",IF(M29=解答!D27,1,0))","v":""},{"$f":"IF(解答!E27=\"\",\"\",IF(N29=解答!E27,1,0))","v":""},{"$f":"IF(解答!F27=\"\",\"\",IF(O29=解答!F27,1,0))","v":""},{"$f":"IF(解答!G27=\"\",\"\",IF(P29=解答!G27,1,0))","v":""},{"$f":"IF(解答!H27=\"\",\"\",IF(Q29=解答!H27,1,0))","v":""},{"$f":"IF(解答!I27=\"\",\"\",IF(R29=解答!I27,1,0))","v":""},{"$f":"IF(解答!J27=\"\",\"\",IF(S29=解答!J27,1,0))","v":""},{"$f":"IF(解答!K27=\"\",\"\",IF(T29=解答!K27,1,0))","v":""},{"$f":"IF(解答!B27=\"\",\"\",SUM(U29:AD29))","v":""}]
[27,null,null,null,null,null,null,null,null,0,null,null,null,null,null,null,null,null,null,null,{"$f":"IF(解答!B28=\"\",\"\",IF(K30=解答!B28,1,0))","v":""},{"$f":"IF(解答!C28=\"\",\"\",IF(L30=解答!C28,1,0))","v":""},{"$f":"IF(解答!D28=\"\",\"\",IF(M30=解答!D28,1,0))","v":""},{"$f":"IF(解答!E28=\"\",\"\",IF(N30=解答!E28,1,0))","v":""},{"$f":"IF(解答!F28=\"\",\"\",IF(O30=解答!F28,1,0))","v":""},{"$f":"IF(解答!G28=\"\",\"\",IF(P30=解答!G28,1,0))","v":""},{"$f":"IF(解答!H28=\"\",\"\",IF(Q30=解答!H28,1,0))","v":""},{"$f":"IF(解答!I28=\"\",\"\",IF(R30=解答!I28,1,0))","v":""},{"$f":"IF(解答!J28=\"\",\"\",IF(S30=解答!J28,1,0))","v":""},{"$f":"IF(解答!K28=\"\",\"\",IF(T30=解答!K28,1,0))","v":""},{"$f":"IF(解答!B28=\"\",\"\",SUM(U30:AD30))","v":""}]
[28,null,null,null,null,null,null,null,null,0,null,null,null,null,null,null,null,null,null,null,{"$f":"IF(解答!B29=\"\",\"\",IF(K31=解答!B29,1,0))","v":""},{"$f":"IF(解答!C29=\"\",\"\",IF(L31=解答!C29,1,0))","v":""},{"$f":"IF(解答!D29=\"\",\"\",IF(M31=解答!D29,1,0))","v":""},{"$f":"IF(解答!E29=\"\",\"\",IF(N31=解答!E29,1,0))","v":""},{"$f":"IF(解答!F29=\"\",\"\",IF(O31=解答!F29,1,0))","v":""},{"$f":"IF(解答!G29=\"\",\"\",IF(P31=解答!G29,1,0))","v":""},{"$f":"IF(解答!H29=\"\",\"\",IF(Q31=解答!H29,1,0))","v":""},{"$f":"IF(解答!I29=\"\",\"\",IF(R31=解答!I29,1,0))","v":""},{"$f":"IF(解答!J29=\"\",\"\",IF(S31=解答!J29,1,0))","v":""},{"$f":"IF(解答!K29=\"\",\"\",IF(T31=解答!K29,1,0))","v":""},{"$f":"IF(解答!B29=\"\",\"\",SUM(U31:AD31))","v":""}]
[29,null,null,null,null,null,null,null,null,0,null,null,null,null,null,null,null,null,null,null,{"$f":"IF(解答!B30=\"\",\"\",IF(K32=解答!B30,1,0))","v":""},{"$f":"IF(解答!C30=\"\",\"\",IF(L32=解答!C30,1,0))","v":""},{"$f":"IF(解答!D30=\"\",\"\",IF(M32=解答!D30,1,0))","v":""},{"$f":"IF(解答!E30=\"\",\"\",IF(N32=解答!E30,1,0))","v":""},{"$f":"IF(解答!F30=\"\",\"\",IF(O32=解答!F30,1,0))","v":""},{"$f":"IF(解答!G30=\"\",\"\",IF(P32=解答!G30,1,0))","v":""},{"$f":"IF(解答!H30=\"\",\"\",IF(Q32=解答!H30,1,0))","v":""},{"$f":"IF(解答!I30=\"\",\"\",IF(R32=解答!I30,1,0))","v":""},{"$f":"IF(解答!J30=\"\",\"\",IF(S32=解答!J30,1,0))","v":""},{"$f":"IF(解答!K30=\"\",\"\",IF(T32=解答!K30,1,0))","v":""},{"$f":"IF(解答!B30=\"\",\"\",SUM(U32:AD32))","v":""}]
[30,null,null,null,null,null,null,null,null,0,null,null,null,null,null,null,null,null,null,null,{"$f":"IF(解答!B31=\"\",\"\",IF(K33=解答!B31,1,0))","v":""},{"$f":"IF(解答!C31=\"\",\"\",IF(L33=解答!C31,1,0))","v":""},{"$f":"IF(解答!D31=\"\",\"\",IF(M33=解答!D31,1,0))","v":""},{"$f":"IF(解答!E31=\"\",\"\",IF(N33=解答!E31,1,0))","v":""},{"$f":"IF(解答!F31=\"\",\"\",IF(O33=解答!F31,1,0))","v":""},{"$f":"IF(解答!G31=\"\",\"\",IF(P33=解答!G31,1,0))","v":""},{"$f":"IF(解答!H31=\"\",\"\",IF(Q33=解答!H31,1,0))","v":""},{"$f":"IF(解答!I31=\"\",\"\",IF(R33=解答!I31,1,0))","v":""},{"$f":"IF(解答!J31=\"\",\"\",IF(S33=解答!J31,1,0))","v":""},{"$f":"IF(解答!K31=\"\",\"\",IF(T33=解答!K31,1,0))","v":""},{"$f":"IF(解答!B31=\"\",\"\",SUM(U33:AD33))","v":""}]
[31,null,null,null,null,null,null,null,null,0,null,null,null,null,null,null,null,null,null,null,{"$f":"IF(解答!B32=\"\",\"\",IF(K34=解答!B32,1,0))","v":""},{"$f":"IF(解答!C32=\"\",\"\",IF(L34=解答!C32,1,0))","v":""},{"$f":"IF(解答!D32=\"\",\"\",IF(M34=解答!D32,1,0))","v":""},{"$f":"IF(解答!E32=\"\",\"\",IF(N34=解答!E32,1,0))","v":""},{"$f":"IF(解答!F32=\"\",\"\",IF(O34=解答!F32,1,0))","v":""},{"$f":"IF(解答!G32=\"\",\"\",IF(P34=解答!G32,1,0))","v":""},{"$f":"IF(解答!H32=\"\",\"\",IF(Q34=解答!H32,1,0))","v":""},{"$f":"IF(解答!I32=\"\",\"\",IF(R34=解答!I32,1,0))","v":""},{"$f":"IF(解答!J32=\"\",\"\",IF(S34=解答!J32,1,0))","v":""},{"$f":"IF(解答!K32=\"\",\"\",IF(T34=解答!K32,1,0))","v":""},{"$f":"IF(解答!B32=\"\",\"\",SUM(U34:AD34))","v":""}]
[32,null,null,null,null,null,null,null,null,0,null,null,null,null,null,null,null,null,null,null,{"$f":"IF(解答!B33=\"\",\"\",IF(K35=解答!B33,1,0))","v":""},{"$f":"IF(解答!C33=\"\",\"\",IF(L35=解答!C33,1,0))","v":""},{"$f":"IF(解答!D33=\"\",\"\",IF(M35=解答!D33,1,0))","v":""},{"$f":"IF(解答!E33=\"\",\"\",IF(N35=解答!E33,1,0))","v":""},{"$f":"IF(解答!F33=\"\",\"\",IF(O35=解答!F33,1,0))","v":""},{"$f":"IF(解答!G33=\"\",\"\",IF(P35=解答!G33,1,0))","v":""},{"$f":"IF(解答!H33=\"\",\"\",IF(Q35=解答!H33,1,0))","v":""},{"$f":"IF(解答!I33=\"\",\"\",IF(R35=解答!I33,1,0))","v":""},{"$f":"IF(解答!J33=\"\",\"\",IF(S35=解答!J33,1,0))","v":""},{"$f":"IF(解答!K33=\"\",\"\",IF(T35=解答!K33,1,0))","v":""},{"$f":"IF(解答!B33=\"\",\"\",SUM(U35:AD35))","v":""}]
[33,null,null,null,null,null,null,null,null,0,null,null,null,null,null,null,null,null,null,null,{"$f":"IF(解答!B34=\"\",\"\",IF(K36=解答!B34,1,0))","v":""},{"$f":"IF(解答!C34=\"\",\"\",IF(L36=解答!C34,1,0))","v":""},{"$f":"IF(解答!D34=\"\",\"\",IF(M36=解答!D34,1,0))","v":""},{"$f":"IF(解答!E34=\"\",\"\",IF(N36=解答!E34,1,0))","v":""},{"$f":"IF(解答!F34=\"\",\"\",IF(O36=解答!F34,1,0))","v":""},{"$f":"IF(解答!G34=\"\",\"\",IF(P36=解答!G34,1,0))","v":""},{"$f":"IF(解答!H34=\"\",\"\",IF(Q36=解答!H34,1,0))","v":""},{"$f":"IF(解答!I34=\"\",\"\",IF(R36=解答!I34,1,0))","v":""},{"$f":"IF(解答!J34=\"\",\"\",IF(S36=解答!J34,1,0))","v":""},{"$f":"IF(解答!K34=\"\",\"\",IF(T36=解答!K34,1,0))","v":""},{"$f":"IF(解答!B34=\"\",\"\",SUM(U36:AD36))","v":""}]
[34,null,null,null,null,null,null,null,null,0,null,null,null,null,null,null,null,null,null,null,{"$f":"IF(解答!B35=\"\",\"\",IF(K37=解答!B35,1,0))","v":""},{"$f":"IF(解答!C35=\"\",\"\",IF(L37=解答!C35,1,0))","v":""},{"$f":"IF(解答!D35=\"\",\"\",IF(M37=解答!D35,1,0))","v":""},{"$f":"IF(解答!E35=\"\",\"\",IF(N37=解答!E35,1,0))","v":""},{"$f":"IF(解答!F35=\"\",\"\",IF(O37=解答!F35,1,0))","v":""},{"$f":"IF(解答!G35=\"\",\"\",IF(P37=解答!G35,1,0))","v":""},{"$f":"IF(解答!H35=\"\",\"\",IF(Q37=解答!H35,1,0))","v":""},{"$f":"IF(解答!I35=\"\",\"\",IF(R37=解答!I35,1,0))","v":""},{"$f":"IF(解答!J35=\"\",\"\",IF(S37=解答!J35,1,0))","v":""},{"$f":"IF(解答!K35=\"\",\"\",IF(T37=解答!K35,1,0))","v":""},{"$f":"IF(解答!B35=\"\",\"\",SUM(U37:AD37))","v":""}]
[35,null,null,null,null,null,null,null,null,0,null,null,null,null,null,null,null,null,null,null,{"$f":"IF(解答!B36=\"\",\"\",IF(K38=解答!B36,1,0))","v":""},{"$f":"IF(解答!C36=\"\",\"\",IF(L38=解答!C36,1,0))","v":""},{"$f":"IF(解答!D36=\"\",\"\",IF(M38=解答!D36,1,0))","v":""},{"$f":"IF(解答!E36=\"\",\"\",IF(N38=解答!E36,1,0))","v":""},{"$f":"IF(解答!F36=\"\",\"\",IF(O38=解答!F36,1,0))","v":""},{"$f":"IF(解答!G36=\"\",\"\",IF(P38=解答!G36,1,0))","v":""},{"$f":"IF(解答!H36=\"\",\"\",IF(Q38=解答!H36,1,0))","v":""},{"$f":"IF(解答!I36=\"\",\"\",IF(R38=解答!I36,1,0))","v":""},{"$f":"IF(解答!J36=\"\",\"\",IF(S38=解答!J36,1,0))","v":""},{"$f":"IF(解答!K36=\"\",\"\",IF(T38=解答!K36,1,0))","v":""},{"$f":"IF(解答!B36=\"\",\"\",SUM(U38:AD38))","v":""}]
[36,null,null,null,null,null,null,null,null,0,null,null,null,null,null,null,null,null,null,null,{"$f":"IF(解答!B37=\"\",\"\",IF(K39=解答!B37,1,0))","v":""},{"$f":"IF(解答!C37=\"\",\"\",IF(L39=解答!C37,1,0))","v":""},{"$f":"IF(解答!D37=\"\",\"\",IF(M39=解答!D37,1,0))","v":""},{"$f":"IF(解答!E37=\"\",\"\",IF(N39=解答!E37,1,0))","v":""},{"$f":"IF(解答!F37=\"\",\"\",IF(O39=解答!F37,1,0))","v":""},{"$f":"IF(解答!G37=\"\",\"\",IF(P39=解答!G37,1,0))","v":""},{"$f":"IF(解答!H37=\"\",\"\",IF(Q39=解答!H37,1,0))","v":""},{"$f":"IF(解答!I37=\"\",\"\",IF(R39=解答!I37,1,0))","v":""},{"$f":"IF(解答!J37=\"\",\"\",IF(S39=解答!J37,1,0))","v":""},{"$f":"IF(解答!K37=\"\",\"\",IF(T39=解答!K37,1,0))","v":""},{"$f":"IF(解答!B37=\"\",\"\",SUM(U39:AD39))","v":""}]
[37,null,null,null,null,null,null,null,null,0,null,null,null,null,null,null,null,null,null,null,{"$f":"IF(解答!B38=\"\",\"\",IF(K40=解答!B38,1,0))","v":""},{"$f":"IF(解答!C38=\"\",\"\",IF(L40=解答!C38,1,0))","v":""},{"$f":"IF(解答!D38=\"\",\"\",IF(M40=解答!D38,1,0))","v":""},{"$f":"IF(解答!E38=\"\",\"\",IF(N40=解答!E38,1,0))","v":""},{"$f":"IF(解答!F38=\"\",\"\",IF(O40=解答!F38,1,0))","v":""},{"$f":"IF(解答!G38=\"\",\"\",IF(P40=解答!G38,1,0))","v":""},{"$f":"IF(解答!H38=\"\",\"\",IF(Q40=解答!H38,1,0))","v":""},{"$f":"IF(解答!I38=\"\",\"\",IF(R40=解答!I38,1,0))","v":""},{"$f":"IF(解答!J38=\"\",\"\",IF(S40=解答!J38,1,0))","v":""},{"$f":"IF(解答!K38=\"\",\"\",IF(T40=解答!K38,1,0))","v":""},{"$f":"IF(解答!B38=\"\",\"\",SUM(U40:AD40))","v":""}]
[38,null,null,null,null,null,null,null,null,0,null,null,null,null,null,null,null,null,null,null,{"$f":"IF(解答!B39=\"\",\"\",IF(K41=解答!B39,1,0))","v":""},{"$f":"IF(解答!C39=\"\",\"\",IF(L41=解答!C39,1,0))","v":""},{"$f":"IF(解答!D39=\"\",\"\",IF(M41=解答!D39,1,0))","v":""},{"$f":"IF(解答!E39=\"\",\"\",IF(N41=解答!E39,1,0))","v":""},{"$f":"IF(解答!F39=\"\",\"\",IF(O41=解答!F39,1,0))","v":""},{"$f":"IF(解答!G39=\"\",\"\",IF(P41=解答!G39,1,0))","v":""},{"$f":"IF(解答!H39=\"\",\"\",IF(Q41=解答!H39,1,0))","v":""},{"$f":"IF(解答!I39=\"\",\"\",IF(R41=解答!I39,1,0))","v":""},{"$f":"IF(解答!J39=\"\",\"\",IF(S41=解答!J39,1,0))","v":""},{"$f":"IF(解答!K39=\"\",\"\",IF(T41=解答!K39,1,0))","v":""},{"$f":"IF(解答!B39=\"\",\"\",SUM(U41:AD41))","v":""}]
[39,null,null,null,null,null,null,null,null,0,null,null,null,null,null,null,null,null,null,null,{"$f":"IF(解答!B40=\"\",\"\",IF(K42=解答!B40,1,0))","v":""},{"$f":"IF(解答!C40=\"\",\"\",IF(L42=解答!C40,1,0))","v":""},{"$f":"IF(解答!D40=\"\",\"\",IF(M42=解答!D40,1,0))","v":""},{"$f":"IF(解答!E40=\"\",\"\",IF(N42=解答!E40,1,0))","v":""},{"$f":"IF(解答!F40=\"\",\"\",IF(O42=解答!F40,1,0))","v":""},{"$f":"IF(解答!G40=\"\",\"\",IF(P42=解答!G40,1,0))","v":""},{"$f":"IF(解答!H40=\"\",\"\",IF(Q42=解答!H40,1,0))","v":""},{"$f":"IF(解答!I40=\"\",\"\",IF(R42=解答!I40,1,0))","v":""},{"$f":"IF(解答!J40=\"\",\"\",IF(S42=解答!J40,1,0))","v":""},{"$f":"IF(解答!K40=\"\",\"\",IF(T42=解答!K40,1,0))","v":""},{"$f":"IF(解答!B40=\"\",\"\",SUM(U42:AD42))","v":""}]
[40,null,null,null,null,null,null,null,null,0,null,null,null,null,null,null,null,null,null,null,{"$f":"IF(解答!B41=\"\",\"\",IF(K43=解答!B41,1,0))","v":""},{"$f":"IF(解答!C41=\"\",\"\",IF(L43=解答!C41,1,0))","v":""},{"$f":"IF(解答!D41=\"\",\"\",IF(M43=解答!D41,1,0))","v":""},{"$f":"IF(解答!E41=\"\",\"\",IF(N43=解答!E41,1,0))","v":""},{"$f":"IF(解答!F41=\"\",\"\",IF(O43=解答!F41,1,0))","v":""},{"$f":"IF(解答!G41=\"\",\"\",IF(P43=解答!G41,1,0))","v":""},{"$f":"IF(解答!H41=\"\",\"\",IF(Q43=解答!H41,1,0))","v":""},{"$f":"IF(解答!I41=\"\",\"\",IF(R43=解答!I41,1,0))","v":""},{"$f":"IF(解答!J41=\"\",\"\",IF(S43=解答!J41,1,0))","v":""},{"$f":"IF(解答!K41=\"\",\"\",IF(T43=解答!K41,1,0))","v":""},{"$f":"IF(解答!B41=\"\",\"\",SUM(U43:AD43))","v":""}]
[41,null,null,null,null,null,null,null,null,0,null,null,null,null,null,null,null,null,null,null,{"$f":"IF(解答!B42=\"\",\"\",IF(K44=解答!B42,1,0))","v":""},{"$f":"IF(解答!C42=\"\",\"\",IF(L44=解答!C42,1,0))","v":""},{"$f":"IF(解答!D42=\"\",\"\",IF(M44=解答!D42,1,0))","v":""},{"$f":"IF(解答!E42=\"\",\"\",IF(N44=解答!E42,1,0))","v":""},{"$f":"IF(解答!F42=\"\",\"\",IF(O44=解答!F42,1,0))","v":""},{"$f":"IF(解答!G42=\"\",\"\",IF(P44=解答!G42,1,0))","v":""},{"$f":"IF(解答!H42=\"\",\"\",IF(Q44=解答!H42,1,0))","v":""},{"$f":"IF(解答!I42=\"\",\"\",IF(R44=解答!I42,1,0))","v":""},{"$f":"IF(解答!J42=\"\",\"\",IF(S44=解答!J42,1,0))","v":""},{"$f":"IF(解答!K42=\"\",\"\",IF(T44=解答!K42,1,0))","v":""},{"$f":"IF(解答!B42=\"\",\"\",SUM(U44:AD44))","v":""}]
[42,null,null,null,null,null,null,null,null,0,null,null,null,null,null,null,null,null,null,null,{"$f":"IF(解答!B43=\"\",\"\",IF(K45=解答!B43,1,0))","v":""},{"$f":"IF(解答!C43=\"\",\"\",IF(L45=解答!C43,1,0))","v":""},{"$f":"IF(解答!D43=\"\",\"\",IF(M45=解答!D43,1,0))","v":""},{"$f":"IF(解答!E43=\"\",\"\",IF(N45=解答!E43,1,0))","v":""},{"$f":"IF(解答!F43=\"\",\"\",IF(O45=解答!F43,1,0))","v":""},{"$f":"IF(解答!G43=\"\",\"\",IF(P45=解答!G43,1,0))","v":""},{"$f":"IF(解答!H43=\"\",\"\",IF(Q45=解答!H43,1,0))","v":""},{"$f":"IF(解答!I43=\"\",\"\",IF(R45=解答!I43,1,0))","v":""},{"$f":"IF(解答!J43=\"\",\"\",IF(S45=解答!J43,1,0))","v":""},{"$f":"IF(解答!K43=\"\",\"\",IF(T45=解答!K43,1,0))","v":""},{"$f":"IF(解答!B43=\"\",\"\",SUM(U45:AD45))","v":""}]
[43,null,null,null,null,null,null,null,null,0,null,null,null,null,null,null,null,null,null,null,{"$f":"IF(解答!B44=\"\",\"\",IF(K46=解答!B44,1,0))","v":""},{"$f":"IF(解答!C44=\"\",\"\",IF(L46=解答!C44,1,0))","v":""},{"$f":"IF(解答!D44=\"\",\"\",IF(M46=解答!D44,1,0))","v":""},{"$f":"IF(解答!E44=\"\",\"\",IF(N46=解答!E44,1,0))","v":""},{"$f":"IF(解答!F44=\"\",\"\",IF(O46=解答!F44,1,0))","v":""},{"$f":"IF(解答!G44=\"\",\"\",IF(P46=解答!G44,1,0))","v":""},{"$f":"IF(解答!H44=\"\",\"\",IF(Q46=解答!H44,1,0))","v":""},{"$f":"IF(解答!I44=\"\",\"\",IF(R46=解答!I44,1,0))","v":""},{"$f":"IF(解答!J44=\"\",\"\",IF(S46=解答!J44,1,0))","v":""},{"$f":"IF(解答!K44=\"\",\"\",IF(T46=解答!K44,1,0))","v":""},{"$f":"IF(解答!B44=\"\",\"\",SUM(U46:AD46))","v":""}]
[44,null,null,null,null,null,null,null,null,0,null,null,null,null,null,null,null,null,null,null,{"$f":"IF(解答!B45=\"\",\"\",IF(K47=解答!B45,1,0))","v":""},{"$f":"IF(解答!C45=\"\",\"\",IF(L47=解答!C45,1,0))","v":""},{"$f":"IF(解答!D45=\"\",\"\",IF(M47=解答!D45,1,0))","v":""},{"$f":"IF(解答!E45=\"\",\"\",IF(N47=解答!E45,1,0))","v":""},{"$f":"IF(解答!F45=\"\",\"\",IF(O47=解答!F45,1,0))","v":""},{"$f":"IF(解答!G45=\"\",\"\",IF(P47=解答!G45,1,0))","v":""},{"$f":"IF(解答!H45=\"\",\"\",IF(Q47=解答!H45,1,0))","v":""},{"$f":"IF(解答!I45=\"\",\"\",IF(R47=解答!I45,1,0))","v":""},{"$f":"IF(解答!J45=\"\",\"\",IF(S47=解答!J45,1,0))","v":""},{"$f":"IF(解答!K45=\"\",\"\",IF(T47=解答!K45,1,0))","v":""},{"$f":"IF(解答!B45=\"\",\"\",SUM(U47:AD47))","v":""}]
[45,null,null,null,null,null,null,null,null,0,null,null,null,null,null,null,null,null,null,null,{"$f":"IF(解答!B46=\"\",\"\",IF(K48=解答!B46,1,0))","v":""},{"$f":"IF(解答!C46=\"\",\"\",IF(L48=解答!C46,1,0))","v":""},{"$f":"IF(解答!D46=\"\",\"\",IF(M48=解答!D46,1,0))","v":""},{"$f":"IF(解答!E46=\"\",\"\",IF(N48=解答!E46,1,0))","v":""},{"$f":"IF(解答!F46=\"\",\"\",IF(O48=解答!F46,1,0))","v":""},{"$f":"IF(解答!G46=\"\",\"\",IF(P48=解答!G46,1,0))","v":""},{"$f":"IF(解答!H46=\"\",\"\",IF(Q48=解答!H46,1,0))","v":""},{"$f":"IF(解答!I46=\"\",\"\",IF(R48=解答!I46,1,0))","v":""},{"$f":"IF(解答!J46=\"\",\"\",IF(S48=解答!J46,1,0))","v":""},{"$f":"IF(解答!K46=\"\",\"\",IF(T48=解答!K46,1,0))","v":""},{"$f":"IF(解答!B46=\"\",\"\",SUM(U48:AD48))","v":""}]
[46,null,null,null,null,null,null,null,null,0,null,null,null,null,null,null,null,null,null,null,{"$f":"IF(解答!B47=\"\",\"\",IF(K49=解答!B47,1,0))","v":""},{"$f":"IF(解答!C47=\"\",\"\",IF(L49=解答!C47,1,0))","v":""},{"$f":"IF(解答!D47=\"\",\"\",IF(M49=解答!D47,1,0))","v":""},{"$f":"IF(解答!E47=\"\",\"\",IF(N49=解答!E47,1,0))","v":""},{"$f":"IF(解答!F47=\"\",\"\",IF(O49=解答!F47,1,0))","v":""},{"$f":"IF(解答!G47=\"\",\"\",IF(P49=解答!G47,1,0))","v":""},{"$f":"IF(解答!H47=\"\",\"\",IF(Q49=解答!H47,1,0))","v":""},{"$f":"IF(解答!I47=\"\",\"\",IF(R49=解答!I47,1,0))","v":""},{"$f":"IF(解答!J47=\"\",\"\",IF(S49=解答!J47,1,0))","v":""},{"$f":"IF(解答!K47=\"\",\"\",IF(T49=解答!K47,1,0))","v":""},{"$f":"IF(解答!B47=\"\",\"\",SUM(U49:AD49))","v":""}]
[47,null,null,null,null,null,null,null,null,0,null,null,null,null,null,null,null,null,null,null,{"$f":"IF(解答!B48=\"\",\"\",IF(K50=解答!B48,1,0))","v":""},{"$f":"IF(解答!C48=\"\",\"\",IF(L50=解答!C48,1,0))","v":""},{"$f":"IF(解答!D48=\"\",\"\",IF(M50=解答!D48,1,0))","v":""},{"$f":"IF(解答!E48=\"\",\"\",IF(N50=解答!E48,1,0))","v":""},{"$f":"IF(解答!F48=\"\",\"\",IF(O50=解答!F48,1,0))","v":""},{"$f":"IF(解答!G48=\"\",\"\",IF(P50=解答!G48,1,0))","v":""},{"$f":"IF(解答!H48=\"\",\"\",IF(Q50=解答!H48,1,0))","v":""},{"$f":"IF(解答!I48=\"\",\"\",IF(R50=解答!I48,1,0))","v":""},{"$f":"IF(解答!J48=\"\",\"\",IF(S50=解答!J48,1,0))","v":""},{"$f":"IF(解答!K48=\"\",\"\",IF(T50=解答!K48,1,0))","v":""},{"$f":"IF(解答!B48=\"\",\"\",SUM(U50:AD50))","v":""}]
[48,null,null,null,null,null,null,null,null,0,null,null,null,null,null,null,null,null,null,null,{"$f":"IF(解答!B49=\"\",\"\",IF(K51=解答!B49,1,0))","v":""},{"$f":"IF(解答!C49=\"\",\"\",IF(L51=解答!C49,1,0))","v":""},{"$f":"IF(解答!D49=\"\",\"\",IF(M51=解答!D49,1,0))","v":""},{"$f":"IF(解答!E49=\"\",\"\",IF(N51=解答!E49,1,0))","v":""},{"$f":"IF(解答!F49=\"\",\"\",IF(O51=解答!F49,1,0))","v":""},{"$f":"IF(解答!G49=\"\",\"\",IF(P51=解答!G49,1,0))","v":""},{"$f":"IF(解答!H49=\"\",\"\",IF(Q51=解答!H49,1,0))","v":""},{"$f":"IF(解答!I49=\"\",\"\",IF(R51=解答!I49,1,0))","v":""},{"$f":"IF(解答!J49=\"\",\"\",IF(S51=解答!J49,1,0))","v":""},{"$f":"IF(解答!K49=\"\",\"\",IF(T51=解答!K49,1,0))","v":""},{"$f":"IF(解答!B49=\"\",\"\",SUM(U51:AD51))","v":""}]
[49,null,null,null,null,null,null,null,null,0,null,null,null,null,null,null,null,null,null,null,{"$f":"IF(解答!B50=\"\",\"\",IF(K52=解答!B50,1,0))","v":""},{"$f":"IF(解答!C50=\"\",\"\",IF(L52=解答!C50,1,0))","v":""},{"$f":"IF(解答!D50=\"\",\"\",IF(M52=解答!D50,1,0))","v":""},{"$f":"IF(解答!E50=\"\",\"\",IF(N52=解答!E50,1,0))","v":""},{"$f":"IF(解答!F50=\"\",\"\",IF(O52=解答!F50,1,0))","v":""},{"$f":"IF(解答!G50=\"\",\"\",IF(P52=解答!G50,1,0))","v":""},{"$f":"IF(解答!H50=\"\",\"\",IF(Q52=解答!H50,1,0))","v":""},{"$f":"IF(解答!I50=\"\",\"\",IF(R52=解答!I50,1,0))","v":""},{"$f":"IF(解答!J50=\"\",\"\",IF(S52=解答!J50,1,0))","v":""},{"$f":"IF(解答!K50=\"\",\"\",IF(T52=解答!K50,1,0))","v":""},{"$f":"IF(解答!B50=\"\",\"\",SUM(U52:AD52))","v":""}]
[50,null,null,null,null,null,null,null,null,0,null,null,null,null,null,null,null,null,null,null,{"$f":"IF(解答!B51=\"\",\"\",IF(K53=解答!B51,1,0))","v":""},{"$f":"IF(解答!C51=\"\",\"\",IF(L53=解答!C51,1,0))","v":""},{"$f":"IF(解答!D51=\"\",\"\",IF(M53=解答!D51,1,0))","v":""},{"$f":"IF(解答!E51=\"\",\"\",IF(N53=解答!E51,1,0))","v":""},{"$f":"IF(解答!F51=\"\",\"\",IF(O53=解答!F51,1,0))","v":""},{"$f":"IF(解答!G51=\"\",\"\",IF(P53=解答!G51,1,0))","v":""},{"$f":"IF(解答!H51=\"\",\"\",IF(Q53=解答!H51,1,0))","v":""},{"$f":"IF(解答!I51=\"\",\"\",IF(R53=解答!I51,1,0))","v":""},{"$f":"IF(解答!J51=\"\",\"\",IF(S53=解答!J51,1,0))","v":""},{"$f":"IF(解答!K51=\"\",\"\",IF(T53=解答!K51,1,0))","v":""},{"$f":"IF(解答!B51=\"\",\"\",SUM(U53:AD53))","v":""}]

{"sheet":"集計","index":1,"n_rows":46,"n_cols":15,"rows_kept":46,"cut":false,"hidden":false,"merged":[]}
["連番","HRNO","名前","列１","列２","列３","列４","列５","列６","列７","達成","備考",null,"class",11]
[1,{"$f":"$O$1*100+A2","v":1101},{"$f":"INDIRECT($B2&\"!I1\")","v":"赤坂音羽"},{"$f":"INDIRECT($B2&\"!\"&$O$4&$O$3+3)","v":"2022-04-11"},{"$f":"INDIRECT($B2&\"!\"&$O$5&$O$3+3)","v":1},{"$f":"INDIRECT($B2&\"!\"&$O$6&$O$3+3)","v":0},{"$f":"INDIRECT($B2&\"!\"&$O$7&$O$3+3)","v":"学習の記録\n情報ノートの準備\n教科書P１６～P１７"},{"$f":"INDIRECT($B2&\"!\"&$O$8&$O$3+3)","v":2},{"$f":"INDIRECT($B2&\"!\"&$O$9&$O$3+3)","v":"今日の内容は分かりました。"},{"$f":"INDIRECT($B2&\"!\"&$O$10&$O$3+3)","v":13},{"$f":"IF(J2>=30,1,0)","v":0}]
[2,1102,{"$f":"INDIRECT($B3&\"!I1\")","v":"新居満里奈"},"2022-04-11",1,0,"学習の記録\n情報ノートの準備\n教科書P１６～P１７",2,"久しぶりにパソコンに触れたのですが、ちゃんと覚えていてよかったです。",34,{"$f":"IF(J3>=30,1,0)","v":1},null,null,"No",1]
[3,1103,"石部湖南","2022-04-11",1,0,"学習の記録\n情報ノートの準備\n教科書P１６～P１７",2,"学習の記録の仕方に早く慣れるように頑張ります。ギターのようにパソコンが使えたらいいと思っています。",49,1,null,null,"列１","B"]
[4,1104,{"$error":"#REF!"},{"$error":"#REF!"},{"$error":"#REF!"},{"$error":"#REF!"},{"$error":"#REF!"},{"$error":"#REF!"},{"$error":"#REF!"},{"$error":"#REF!"},{"$error":"#REF!"},null,null,"列２","C"]
[5,1105,{"$error":"#REF!"},{"$error":"#REF!"},{"$error":"#REF!"},{"$error":"#REF!"},{"$error":"#REF!"},{"$error":"#REF!"},{"$error":"#REF!"},{"$error":"#REF!"},{"$error":"#REF!"},null,null,"列３","D"]
[6,1106,{"$error":"#REF!"},{"$error":"#REF!"},{"$error":"#REF!"},{"$error":"#REF!"},{"$error":"#REF!"},{"$error":"#REF!"},{"$error":"#REF!"},{"$error":"#REF!"},{"$error":"#REF!"},null,null,"列４","E"]
[7,1107,{"$error":"#REF!"},{"$error":"#REF!"},{"$error":"#REF!"},{"$error":"#REF!"},{"$error":"#REF!"},{"$error":"#REF!"},{"$error":"#REF!"},{"$error":"#REF!"},{"$error":"#REF!"},null,null,"列５","F"]
[8,1108,{"$error":"#REF!"},{"$error":"#REF!"},{"$error":"#REF!"},{"$error":"#REF!"},{"$error":"#REF!"},{"$error":"#REF!"},{"$error":"#REF!"},{"$error":"#REF!"},{"$error":"#REF!"},null,null,"列６","G"]
[9,1109,{"$error":"#REF!"},{"$error":"#REF!"},{"$error":"#REF!"},{"$error":"#REF!"},{"$error":"#REF!"},{"$error":"#REF!"},{"$error":"#REF!"},{"$error":"#REF!"},{"$error":"#REF!"},null,null,"列７","Ｊ"]
[10,1110,{"$error":"#REF!"},{"$error":"#REF!"},{"$error":"#REF!"},{"$error":"#REF!"},{"$error":"#REF!"},{"$error":"#REF!"},{"$error":"#REF!"},{"$error":"#REF!"},{"$error":"#REF!"}]
[11,1111,{"$error":"#REF!"},{"$error":"#REF!"},{"$error":"#REF!"},{"$error":"#REF!"},{"$error":"#REF!"},{"$error":"#REF!"},{"$error":"#REF!"},{"$error":"#REF!"},{"$error":"#REF!"}]
[12,1112,{"$error":"#REF!"},{"$error":"#REF!"},{"$error":"#REF!"},{"$error":"#REF!"},{"$error":"#REF!"},{"$error":"#REF!"},{"$error":"#REF!"},{"$error":"#REF!"},{"$error":"#REF!"}]
[13,1113,{"$error":"#REF!"},{"$error":"#REF!"},{"$error":"#REF!"},{"$error":"#REF!"},{"$error":"#REF!"},{"$error":"#REF!"},{"$error":"#REF!"},{"$error":"#REF!"},{"$error":"#REF!"}]
[14,1114,{"$error":"#REF!"},{"$error":"#REF!"},{"$error":"#REF!"},{"$error":"#REF!"},{"$error":"#REF!"},{"$error":"#REF!"},{"$error":"#REF!"},{"$error":"#REF!"},{"$error":"#REF!"}]
[15,1115,{"$error":"#REF!"},{"$error":"#REF!"},{"$error":"#REF!"},{"$error":"#REF!"},{"$error":"#REF!"},{"$error":"#REF!"},{"$error":"#REF!"},{"$error":"#REF!"},{"$error":"#REF!"}]
[16,1116,{"$error":"#REF!"},{"$error":"#REF!"},{"$error":"#REF!"},{"$error":"#REF!"},{"$error":"#REF!"},{"$error":"#REF!"},{"$error":"#REF!"},{"$error":"#REF!"},{"$error":"#REF!"}]
[17,1117,{"$error":"#REF!"},{"$error":"#REF!"},{"$error":"#REF!"},{"$error":"#REF!"},{"$error":"#REF!"},{"$error":"#REF!"},{"$error":"#REF!"},{"$error":"#REF!"},{"$error":"#REF!"}]
[18,1118,{"$error":"#REF!"},{"$error":"#REF!"},{"$error":"#REF!"},{"$error":"#REF!"},{"$error":"#REF!"},{"$error":"#REF!"},{"$error":"#REF!"},{"$error":"#REF!"},{"$error":"#REF!"}]
[19,1119,{"$error":"#REF!"},{"$error":"#REF!"},{"$error":"#REF!"},{"$error":"#REF!"},{"$error":"#REF!"},{"$error":"#REF!"},{"$error":"#REF!"},{"$error":"#REF!"},{"$error":"#REF!"}]
[20,1120,{"$error":"#REF!"},{"$error":"#REF!"},{"$error":"#REF!"},{"$error":"#REF!"},{"$error":"#REF!"},{"$error":"#REF!"},{"$error":"#REF!"},{"$error":"#REF!"},{"$error":"#REF!"}]
[21,1121,{"$error":"#REF!"},{"$error":"#REF!"},{"$error":"#REF!"},{"$error":"#REF!"},{"$error":"#REF!"},{"$error":"#REF!"},{"$error":"#REF!"},{"$error":"#REF!"},{"$error":"#REF!"}]
[22,1122,{"$error":"#REF!"},{"$error":"#REF!"},{"$error":"#REF!"},{"$error":"#REF!"},{"$error":"#REF!"},{"$error":"#REF!"},{"$error":"#REF!"},{"$error":"#REF!"},{"$error":"#REF!"}]
[23,1123,{"$error":"#REF!"},{"$error":"#REF!"},{"$error":"#REF!"},{"$error":"#REF!"},{"$error":"#REF!"},{"$error":"#REF!"},{"$error":"#REF!"},{"$error":"#REF!"},{"$error":"#REF!"}]
[24,1124,{"$error":"#REF!"},{"$error":"#REF!"},{"$error":"#REF!"},{"$error":"#REF!"},{"$error":"#REF!"},{"$error":"#REF!"},{"$error":"#REF!"},{"$error":"#REF!"},{"$error":"#REF!"}]
[25,1125,{"$error":"#REF!"},{"$error":"#REF!"},{"$error":"#REF!"},{"$error":"#REF!"},{"$error":"#REF!"},{"$error":"#REF!"},{"$error":"#REF!"},{"$error":"#REF!"},{"$error":"#REF!"}]
[26,1126,{"$error":"#REF!"},{"$error":"#REF!"},{"$error":"#REF!"},{"$error":"#REF!"},{"$error":"#REF!"},{"$error":"#REF!"},{"$error":"#REF!"},{"$error":"#REF!"},{"$error":"#REF!"}]
[27,1127,{"$error":"#REF!"},{"$error":"#REF!"},{"$error":"#REF!"},{"$error":"#REF!"},{"$error":"#REF!"},{"$error":"#REF!"},{"$error":"#REF!"},{"$error":"#REF!"},{"$error":"#REF!"}]
[28,1128,{"$error":"#REF!"},{"$error":"#REF!"},{"$error":"#REF!"},{"$error":"#REF!"},{"$error":"#REF!"},{"$error":"#REF!"},{"$error":"#REF!"},{"$error":"#REF!"},{"$error":"#REF!"}]
[29,1129,{"$error":"#REF!"},{"$error":"#REF!"},{"$error":"#REF!"},{"$error":"#REF!"},{"$error":"#REF!"},{"$error":"#REF!"},{"$error":"#REF!"},{"$error":"#REF!"},{"$error":"#REF!"}]
[30,1130,{"$error":"#REF!"},{"$error":"#REF!"},{"$error":"#REF!"},{"$error":"#REF!"},{"$error":"#REF!"},{"$error":"#REF!"},{"$error":"#REF!"},{"$error":"#REF!"},{"$error":"#REF!"}]
[31,1131,{"$error":"#REF!"},{"$error":"#REF!"},{"$error":"#REF!"},{"$error":"#REF!"},{"$error":"#REF!"},{"$error":"#REF!"},{"$error":"#REF!"},{"$error":"#REF!"},{"$error":"#REF!"}]
[32,1132,{"$error":"#REF!"},{"$error":"#REF!"},{"$error":"#REF!"},{"$error":"#REF!"},{"$error":"#REF!"},{"$error":"#REF!"},{"$error":"#REF!"},{"$error":"#REF!"},{"$error":"#REF!"}]
[33,1133,{"$error":"#REF!"},{"$error":"#REF!"},{"$error":"#REF!"},{"$error":"#REF!"},{"$error":"#REF!"},{"$error":"#REF!"},{"$error":"#REF!"},{"$error":"#REF!"},{"$error":"#REF!"}]
[34,1134,{"$error":"#REF!"},{"$error":"#REF!"},{"$error":"#REF!"},{"$error":"#REF!"},{"$error":"#REF!"},{"$error":"#REF!"},{"$error":"#REF!"},{"$error":"#REF!"},{"$error":"#REF!"}]
[35,1135,{"$error":"#REF!"},{"$error":"#REF!"},{"$error":"#REF!"},{"$error":"#REF!"},{"$error":"#REF!"},{"$error":"#REF!"},{"$error":"#REF!"},{"$error":"#REF!"},{"$error":"#REF!"}]
[36,1136,{"$error":"#REF!"},{"$error":"#REF!"},{"$error":"#REF!"},{"$error":"#REF!"},{"$error":"#REF!"},{"$error":"#REF!"},{"$error":"#REF!"},{"$error":"#REF!"},{"$error":"#REF!"}]
[37,1137,{"$error":"#REF!"},{"$error":"#REF!"},{"$error":"#REF!"},{"$error":"#REF!"},{"$error":"#REF!"},{"$error":"#REF!"},{"$error":"#REF!"},{"$error":"#REF!"},{"$error":"#REF!"}]
[38,1138,{"$error":"#REF!"},{"$error":"#REF!"},{"$error":"#REF!"},{"$error":"#REF!"},{"$error":"#REF!"},{"$error":"#REF!"},{"$error":"#REF!"},{"$error":"#REF!"},{"$error":"#REF!"}]
[39,1139,{"$error":"#REF!"},{"$error":"#REF!"},{"$error":"#REF!"},{"$error":"#REF!"},{"$error":"#REF!"},{"$error":"#REF!"},{"$error":"#REF!"},{"$error":"#REF!"},{"$error":"#REF!"}]
[40,1140,{"$error":"#REF!"},{"$error":"#REF!"},{"$error":"#REF!"},{"$error":"#REF!"},{"$error":"#REF!"},{"$error":"#REF!"},{"$error":"#REF!"},{"$error":"#REF!"},{"$error":"#REF!"}]
[41,1141,{"$error":"#REF!"},{"$error":"#REF!"},{"$error":"#REF!"},{"$error":"#REF!"},{"$error":"#REF!"},{"$error":"#REF!"},{"$error":"#REF!"},{"$error":"#REF!"},{"$error":"#REF!"}]
[42,1142,{"$error":"#REF!"},{"$error":"#REF!"},{"$error":"#REF!"},{"$error":"#REF!"},{"$error":"#REF!"},{"$error":"#REF!"},{"$error":"#REF!"},{"$error":"#REF!"},{"$error":"#REF!"}]
[43,1143,{"$error":"#REF!"},{"$error":"#REF!"},{"$error":"#REF!"},{"$error":"#REF!"},{"$error":"#REF!"},{"$error":"#REF!"},{"$error":"#REF!"},{"$error":"#REF!"},{"$error":"#REF!"}]
[44,1144,{"$error":"#REF!"},{"$error":"#REF!"},{"$error":"#REF!"},{"$error":"#REF!"},{"$error":"#REF!"},{"$error":"#REF!"},{"$error":"#REF!"},{"$error":"#REF!"},{"$error":"#REF!"}]
[45,1145,{"$error":"#REF!"},{"$error":"#REF!"},{"$error":"#REF!"},{"$error":"#REF!"},{"$error":"#REF!"},{"$error":"#REF!"},{"$error":"#REF!"},{"$error":"#REF!"},{"$error":"#REF!"}]

{"sheet":"集計２","index":2,"n_rows":46,"n_cols":29,"rows_kept":46,"cut":false,"hidden":false,"merged":[]}
["連番","HRNO","名前","日付","A1","A2","A3","A4","A5","A6","A7","A8","A9","A10","Q1","Q2","Q3","Q4","Q5","Q6","Q7","Q8","Q9","Q10","得点","備考",null,"class",11]
[1,{"$f":"$AC$1*100+A2","v":1101},{"$f":"INDIRECT($B2&\"!I1\")","v":"赤坂音羽"},{"$f":"INDIRECT($B2&\"!\"&$AC$4&$AC$3+3)","v":"2022-04-11"},{"$f":"INDIRECT($B2&\"!\"&$AC$5&$AC$3+3)","v":1},{"$f":"INDIRECT($B2&\"!\"&$AC$6&$AC$3+3)","v":2},{"$f":"INDIRECT($B2&\"!\"&$AC$7&$AC$3+3)","v":3},{"$f":"INDIRECT($B2&\"!\"&$AC$8&$AC$3+3)","v":4},{"$f":"INDIRECT($B2&\"!\"&$AC$9&$AC$3+3)","v":5},{"$f":"INDIRECT($B2&\"!\"&$AC$10&$AC$3+3)","v":6},{"$f":"INDIRECT($B2&\"!\"&$AC$11&$AC$3+3)","v":7},{"$f":"INDIRECT($B2&\"!\"&$AC$12&$AC$3+3)","v":8},{"$f":"INDIRECT($B2&\"!\"&$AC$13&$AC$3+3)","v":9},{"$f":"INDIRECT($B2&\"!\"&$AC$14&$AC$3+3)","v":10},{"$f":"IF(E2=VLOOKUP($AC$3,解答!$A$2:$K$51,2,0),1,0)","v":1},{"$f":"IF(F2=VLOOKUP($AC$3,解答!$A$2:$K$51,3,0),1,0)","v":1},{"$f":"IF(G2=VLOOKUP($AC$3,解答!$A$2:$K$51,4,0),1,0)","v":1},{"$f":"IF(H2=VLOOKUP($AC$3,解答!$A$2:$K$51,5,0),1,0)","v":1},{"$f":"IF(I2=VLOOKUP($AC$3,解答!$A$2:$K$51,6,0),1,0)","v":1},{"$f":"IF(J2=VLOOKUP($AC$3,解答!$A$2:$K$51,7,0),1,0)","v":1},{"$f":"IF(K2=VLOOKUP($AC$3,解答!$A$2:$K$51,8,0),1,0)","v":1},{"$f":"IF(L2=VLOOKUP($AC$3,解答!$A$2:$K$51,9,0),1,0)","v":1},{"$f":"IF(M2=VLOOKUP($AC$3,解答!$A$2:$K$51,10,0),1,0)","v":1},{"$f":"IF(N2=VLOOKUP($AC$3,解答!$A$2:$K$51,11,0),1,0)","v":1},{"$f":"SUM(O2:X2)","v":10}]
[2,1102,{"$f":"INDIRECT($B3&\"!I1\")","v":"新居満里奈"},"2022-04-11",1,2,3,4,5,{"$f":"INDIRECT($B3&\"!\"&$AC$10&$AC$3+3)","v":5},{"$f":"INDIRECT($B3&\"!\"&$AC$11&$AC$3+3)","v":4},{"$f":"INDIRECT($B3&\"!\"&$AC$12&$AC$3+3)","v":3},{"$f":"INDIRECT($B3&\"!\"&$AC$13&$AC$3+3)","v":2},{"$f":"INDIRECT($B3&\"!\"&$AC$14&$AC$3+3)","v":1},{"$f":"IF(E3=VLOOKUP($AC$3,解答!$A$2:$K$51,2,0),1,0)","v":1},{"$f":"IF(F3=VLOOKUP($AC$3,解答!$A$2:$K$51,3,0),1,0)","v":1},{"$f":"IF(G3=VLOOKUP($AC$3,解答!$A$2:$K$51,4,0),1,0)","v":1},{"$f":"IF(H3=VLOOKUP($AC$3,解答!$A$2:$K$51,5,0),1,0)","v":1},{"$f":"IF(I3=VLOOKUP($AC$3,解答!$A$2:$K$51,6,0),1,0)","v":1},{"$f":"IF(J3=VLOOKUP($AC$3,解答!$A$2:$K$51,7,0),1,0)","v":0},{"$f":"IF(K3=VLOOKUP($AC$3,解答!$A$2:$K$51,8,0),1,0)","v":0},{"$f":"IF(L3=VLOOKUP($AC$3,解答!$A$2:$K$51,9,0),1,0)","v":0},{"$f":"IF(M3=VLOOKUP($AC$3,解答!$A$2:$K$51,10,0),1,0)","v":0},{"$f":"IF(N3=VLOOKUP($AC$3,解答!$A$2:$K$51,11,0),1,0)","v":0},{"$f":"SUM(O3:X3)","v":5},null,null,"No",1]
[3,1103,"石部湖南","2022-04-11",1,2,3,6,5,4,7,8,9,10,{"$f":"IF(E4=VLOOKUP($AC$3,解答!$A$2:$K$51,2,0),1,0)","v":1},{"$f":"IF(F4=VLOOKUP($AC$3,解答!$A$2:$K$51,3,0),1,0)","v":1},{"$f":"IF(G4=VLOOKUP($AC$3,解答!$A$2:$K$51,4,0),1,0)","v":1},{"$f":"IF(H4=VLOOKUP($AC$3,解答!$A$2:$K$51,5,0),1,0)","v":0},{"$f":"IF(I4=VLOOKUP($AC$3,解答!$A$2:$K$51,6,0),1,0)","v":1},{"$f":"IF(J4=VLOOKUP($AC$3,解答!$A$2:$K$51,7,0),1,0)","v":0},{"$f":"IF(K4=VLOOKUP($AC$3,解答!$A$2:$K$51,8,0),1,0)","v":1},{"$f":"IF(L4=VLOOKUP($AC$3,解答!$A$2:$K$51,9,0),1,0)","v":1},{"$f":"IF(M4=VLOOKUP($AC$3,解答!$A$2:$K$51,10,0),1,0)","v":1},{"$f":"IF(N4=VLOOKUP($AC$3,解答!$A$2:$K$51,11,0),1,0)","v":1},8,null,null,"日付","B"]
[4,1104,{"$error":"#REF!"},{"$error":"#REF!"},{"$error":"#REF!"},{"$error":"#REF!"},{"$error":"#REF!"},{"$error":"#REF!"},{"$error":"#REF!"},{"$error":"#REF!"},{"$error":"#REF!"},{"$error":"#REF!"},{"$error":"#REF!"},{"$error":"#REF!"},{"$f":"IF(E5=VLOOKUP($AC$3,解答!$A$2:$K$51,2,0),1,0)","v":{"$error":"#REF!"}},{"$f":"IF(F5=VLOOKUP($AC$3,解答!$A$2:$K$51,3,0),1,0)","v":{"$error":"#REF!"}},{"$f":"IF(G5=VLOOKUP($AC$3,解答!$A$2:$K$51,4,0),1,0)","v":{"$error":"#REF!"}},{"$f":"IF(H5=VLOOKUP($AC$3,解答!$A$2:$K$51,5,0),1,0)","v":{"$error":"#REF!"}},{"$f":"IF(I5=VLOOKUP($AC$3,解答!$A$2:$K$51,6,0),1,0)","v":{"$error":"#REF!"}},{"$f":"IF(J5=VLOOKUP($AC$3,解答!$A$2:$K$51,7,0),1,0)","v":{"$error":"#REF!"}},{"$f":"IF(K5=VLOOKUP($AC$3,解答!$A$2:$K$51,8,0),1,0)","v":{"$error":"#REF!"}},{"$f":"IF(L5=VLOOKUP($AC$3,解答!$A$2:$K$51,9,0),1,0)","v":{"$error":"#REF!"}},{"$f":"IF(M5=VLOOKUP($AC$3,解答!$A$2:$K$51,10,0),1,0)","v":{"$error":"#REF!"}},{"$f":"IF(N5=VLOOKUP($AC$3,解答!$A$2:$K$51,11,0),1,0)","v":{"$error":"#REF!"}},{"$error":"#REF!"},null,null,"A1","K"]
[5,1105,{"$error":"#REF!"},{"$error":"#REF!"},{"$error":"#REF!"},{"$error":"#REF!"},{"$error":"#REF!"},{"$error":"#REF!"},{"$error":"#REF!"},{"$error":"#REF!"},{"$error":"#REF!"},{"$error":"#REF!"},{"$error":"#REF!"},{"$error":"#REF!"},{"$f":"IF(E6=VLOOKUP($AC$3,解答!$A$2:$K$51,2,0),1,0)","v":{"$error":"#REF!"}},{"$f":"IF(F6=VLOOKUP($AC$3,解答!$A$2:$K$51,3,0),1,0)","v":{"$error":"#REF!"}},{"$f":"IF(G6=VLOOKUP($AC$3,解答!$A$2:$K$51,4,0),1,0)","v":{"$error":"#REF!"}},{"$f":"IF(H6=VLOOKUP($AC$3,解答!$A$2:$K$51,5,0),1,0)","v":{"$error":"#REF!"}},{"$f":"IF(I6=VLOOKUP($AC$3,解答!$A$2:$K$51,6,0),1,0)","v":{"$error":"#REF!"}},{"$f":"IF(J6=VLOOKUP($AC$3,解答!$A$2:$K$51,7,0),1,0)","v":{"$error":"#REF!"}},{"$f":"IF(K6=VLOOKUP($AC$3,解答!$A$2:$K$51,8,0),1,0)","v":{"$error":"#REF!"}},{"$f":"IF(L6=VLOOKUP($AC$3,解答!$A$2:$K$51,9,0),1,0)","v":{"$error":"#REF!"}},{"$f":"IF(M6=VLOOKUP($AC$3,解答!$A$2:$K$51,10,0),1,0)","v":{"$error":"#REF!"}},{"$f":"IF(N6=VLOOKUP($AC$3,解答!$A$2:$K$51,11,0),1,0)","v":{"$error":"#REF!"}},{"$error":"#REF!"},null,null,"A2","L"]
[6,1106,{"$error":"#REF!"},{"$error":"#REF!"},{"$error":"#REF!"},{"$error":"#REF!"},{"$error":"#REF!"},{"$error":"#REF!"},{"$error":"#REF!"},{"$error":"#REF!"},{"$error":"#REF!"},{"$error":"#REF!"},{"$error":"#REF!"},{"$error":"#REF!"},{"$f":"IF(E7=VLOOKUP($AC$3,解答!$A$2:$K$51,2,0),1,0)","v":{"$error":"#REF!"}},{"$f":"IF(F7=VLOOKUP($AC$3,解答!$A$2:$K$51,3,0),1,0)","v":{"$error":"#REF!"}},{"$f":"IF(G7=VLOOKUP($AC$3,解答!$A$2:$K$51,4,0),1,0)","v":{"$error":"#REF!"}},{"$f":"IF(H7=VLOOKUP($AC$3,解答!$A$2:$K$51,5,0),1,0)","v":{"$error":"#REF!"}},{"$f":"IF(I7=VLOOKUP($AC$3,解答!$A$2:$K$51,6,0),1,0)","v":{"$error":"#REF!"}},{"$f":"IF(J7=VLOOKUP($AC$3,解答!$A$2:$K$51,7,0),1,0)","v":{"$error":"#REF!"}},{"$f":"IF(K7=VLOOKUP($AC$3,解答!$A$2:$K$51,8,0),1,0)","v":{"$error":"#REF!"}},{"$f":"IF(L7=VLOOKUP($AC$3,解答!$A$2:$K$51,9,0),1,0)","v":{"$error":"#REF!"}},{"$f":"IF(M7=VLOOKUP($AC$3,解答!$A$2:$K$51,10,0),1,0)","v":{"$error":"#REF!"}},{"$f":"IF(N7=VLOOKUP($AC$3,解答!$A$2:$K$51,11,0),1,0)","v":{"$error":"#REF!"}},{"$error":"#REF!"},null,null,"A3","M"]
[7,1107,{"$error":"#REF!"},{"$error":"#REF!"},{"$error":"#REF!"},{"$error":"#REF!"},{"$error":"#REF!"},{"$error":"#REF!"},{"$error":"#REF!"},{"$error":"#REF!"},{"$error":"#REF!"},{"$error":"#REF!"},{"$error":"#REF!"},{"$error":"#REF!"},{"$f":"IF(E8=VLOOKUP($AC$3,解答!$A$2:$K$51,2,0),1,0)","v":{"$error":"#REF!"}},{"$f":"IF(F8=VLOOKUP($AC$3,解答!$A$2:$K$51,3,0),1,0)","v":{"$error":"#REF!"}},{"$f":"IF(G8=VLOOKUP($AC$3,解答!$A$2:$K$51,4,0),1,0)","v":{"$error":"#REF!"}},{"$f":"IF(H8=VLOOKUP($AC$3,解答!$A$2:$K$51,5,0),1,0)","v":{"$error":"#REF!"}},{"$f":"IF(I8=VLOOKUP($AC$3,解答!$A$2:$K$51,6,0),1,0)","v":{"$error":"#REF!"}},{"$f":"IF(J8=VLOOKUP($AC$3,解答!$A$2:$K$51,7,0),1,0)","v":{"$error":"#REF!"}},{"$f":"IF(K8=VLOOKUP($AC$3,解答!$A$2:$K$51,8,0),1,0)","v":{"$error":"#REF!"}},{"$f":"IF(L8=VLOOKUP($AC$3,解答!$A$2:$K$51,9,0),1,0)","v":{"$error":"#REF!"}},{"$f":"IF(M8=VLOOKUP($AC$3,解答!$A$2:$K$51,10,0),1,0)","v":{"$error":"#REF!"}},{"$f":"IF(N8=VLOOKUP($AC$3,解答!$A$2:$K$51,11,0),1,0)","v":{"$error":"#REF!"}},{"$error":"#REF!"},null,null,"A4","N"]
[8,1108,{"$error":"#REF!"},{"$error":"#REF!"},{"$error":"#REF!"},{"$error":"#REF!"},{"$error":"#REF!"},{"$error":"#REF!"},{"$error":"#REF!"},{"$error":"#REF!"},{"$error":"#REF!"},{"$error":"#REF!"},{"$error":"#REF!"},{"$error":"#REF!"},{"$f":"IF(E9=VLOOKUP($AC$3,解答!$A$2:$K$51,2,0),1,0)","v":{"$error":"#REF!"}},{"$f":"IF(F9=VLOOKUP($AC$3,解答!$A$2:$K$51,3,0),1,0)","v":{"$error":"#REF!"}},{"$f":"IF(G9=VLOOKUP($AC$3,解答!$A$2:$K$51,4,0),1,0)","v":{"$error":"#REF!"}},{"$f":"IF(H9=VLOOKUP($AC$3,解答!$A$2:$K$51,5,0),1,0)","v":{"$error":"#REF!"}},{"$f":"IF(I9=VLOOKUP($AC$3,解答!$A$2:$K$51,6,0),1,0)","v":{"$error":"#REF!"}},{"$f":"IF(J9=VLOOKUP($AC$3,解答!$A$2:$K$51,7,0),1,0)","v":{"$error":"#REF!"}},{"$f":"IF(K9=VLOOKUP($AC$3,解答!$A$2:$K$51,8,0),1,0)","v":{"$error":"#REF!"}},{"$f":"IF(L9=VLOOKUP($AC$3,解答!$A$2:$K$51,9,0),1,0)","v":{"$error":"#REF!"}},{"$f":"IF(M9=VLOOKUP($AC$3,解答!$A$2:$K$51,10,0),1,0)","v":{"$error":"#REF!"}},{"$f":"IF(N9=VLOOKUP($AC$3,解答!$A$2:$K$51,11,0),1,0)","v":{"$error":"#REF!"}},{"$error":"#REF!"},null,null,"A5","O"]
[9,1109,{"$error":"#REF!"},{"$error":"#REF!"},{"$error":"#REF!"},{"$error":"#REF!"},{"$error":"#REF!"},{"$error":"#REF!"},{"$error":"#REF!"},{"$error":"#REF!"},{"$error":"#REF!"},{"$error":"#REF!"},{"$error":"#REF!"},{"$error":"#REF!"},{"$f":"IF(E10=VLOOKUP($AC$3,解答!$A$2:$K$51,2,0),1,0)","v":{"$error":"#REF!"}},{"$f":"IF(F10=VLOOKUP($AC$3,解答!$A$2:$K$51,3,0),1,0)","v":{"$error":"#REF!"}},{"$f":"IF(G10=VLOOKUP($AC$3,解答!$A$2:$K$51,4,0),1,0)","v":{"$error":"#REF!"}},{"$f":"IF(H10=VLOOKUP($AC$3,解答!$A$2:$K$51,5,0),1,0)","v":{"$error":"#REF!"}},{"$f":"IF(I10=VLOOKUP($AC$3,解答!$A$2:$K$51,6,0),1,0)","v":{"$error":"#REF!"}},{"$f":"IF(J10=VLOOKUP($AC$3,解答!$A$2:$K$51,7,0),1,0)","v":{"$error":"#REF!"}},{"$f":"IF(K10=VLOOKUP($AC$3,解答!$A$2:$K$51,8,0),1,0)","v":{"$error":"#REF!"}},{"$f":"IF(L10=VLOOKUP($AC$3,解答!$A$2:$K$51,9,0),1,0)","v":{"$error":"#REF!"}},{"$f":"IF(M10=VLOOKUP($AC$3,解答!$A$2:$K$51,10,0),1,0)","v":{"$error":"#REF!"}},{"$f":"IF(N10=VLOOKUP($AC$3,解答!$A$2:$K$51,11,0),1,0)","v":{"$error":"#REF!"}},{"$error":"#REF!"},null,null,"A6","P"]
[10,1110,{"$error":"#REF!"},{"$error":"#REF!"},{"$error":"#REF!"},{"$error":"#REF!"},{"$error":"#REF!"},{"$error":"#REF!"},{"$error":"#REF!"},{"$error":"#REF!"},{"$error":"#REF!"},{"$error":"#REF!"},{"$error":"#REF!"},{"$error":"#REF!"},{"$f":"IF(E11=VLOOKUP($AC$3,解答!$A$2:$K$51,2,0),1,0)","v":{"$error":"#REF!"}},{"$f":"IF(F11=VLOOKUP($AC$3,解答!$A$2:$K$51,3,0),1,0)","v":{"$error":"#REF!"}},{"$f":"IF(G11=VLOOKUP($AC$3,解答!$A$2:$K$51,4,0),1,0)","v":{"$error":"#REF!"}},{"$f":"IF(H11=VLOOKUP($AC$3,解答!$A$2:$K$51,5,0),1,0)","v":{"$error":"#REF!"}},{"$f":"IF(I11=VLOOKUP($AC$3,解答!$A$2:$K$51,6,0),1,0)","v":{"$error":"#REF!"}},{"$f":"IF(J11=VLOOKUP($AC$3,解答!$A$2:$K$51,7,0),1,0)","v":{"$error":"#REF!"}},{"$f":"IF(K11=VLOOKUP($AC$3,解答!$A$2:$K$51,8,0),1,0)","v":{"$error":"#REF!"}},{"$f":"IF(L11=VLOOKUP($AC$3,解答!$A$2:$K$51,9,0),1,0)","v":{"$error":"#REF!"}},{"$f":"IF(M11=VLOOKUP($AC$3,解答!$A$2:$K$51,10,0),1,0)","v":{"$error":"#REF!"}},{"$f":"IF(N11=VLOOKUP($AC$3,解答!$A$2:$K$51,11,0),1,0)","v":{"$error":"#REF!"}},{"$error":"#REF!"},null,null,"A7","Q"]
[11,1111,{"$error":"#REF!"},{"$error":"#REF!"},{"$error":"#REF!"},{"$error":"#REF!"},{"$error":"#REF!"},{"$error":"#REF!"},{"$error":"#REF!"},{"$error":"#REF!"},{"$error":"#REF!"},{"$error":"#REF!"},{"$error":"#REF!"},{"$error":"#REF!"},{"$f":"IF(E12=VLOOKUP($AC$3,解答!$A$2:$K$51,2,0),1,0)","v":{"$error":"#REF!"}},{"$f":"IF(F12=VLOOKUP($AC$3,解答!$A$2:$K$51,3,0),1,0)","v":{"$error":"#REF!"}},{"$f":"IF(G12=VLOOKUP($AC$3,解答!$A$2:$K$51,4,0),1,0)","v":{"$error":"#REF!"}},{"$f":"IF(H12=VLOOKUP($AC$3,解答!$A$2:$K$51,5,0),1,0)","v":{"$error":"#REF!"}},{"$f":"IF(I12=VLOOKUP($AC$3,解答!$A$2:$K$51,6,0),1,0)","v":{"$error":"#REF!"}},{"$f":"IF(J12=VLOOKUP($AC$3,解答!$A$2:$K$51,7,0),1,0)","v":{"$error":"#REF!"}},{"$f":"IF(K12=VLOOKUP($AC$3,解答!$A$2:$K$51,8,0),1,0)","v":{"$error":"#REF!"}},{"$f":"IF(L12=VLOOKUP($AC$3,解答!$A$2:$K$51,9,0),1,0)","v":{"$error":"#REF!"}},{"$f":"IF(M12=VLOOKUP($AC$3,解答!$A$2:$K$51,10,0),1,0)","v":{"$error":"#REF!"}},{"$f":"IF(N12=VLOOKUP($AC$3,解答!$A$2:$K$51,11,0),1,0)","v":{"$error":"#REF!"}},{"$error":"#REF!"},null,null,"A8","R"]
[12,1112,{"$error":"#REF!"},{"$error":"#REF!"},{"$error":"#REF!"},{"$error":"#REF!"},{"$error":"#REF!"},{"$error":"#REF!"},{"$error":"#REF!"},{"$error":"#REF!"},{"$error":"#REF!"},{"$error":"#REF!"},{"$error":"#REF!"},{"$error":"#REF!"},{"$f":"IF(E13=VLOOKUP($AC$3,解答!$A$2:$K$51,2,0),1,0)","v":{"$error":"#REF!"}},{"$f":"IF(F13=VLOOKUP($AC$3,解答!$A$2:$K$51,3,0),1,0)","v":{"$error":"#REF!"}},{"$f":"IF(G13=VLOOKUP($AC$3,解答!$A$2:$K$51,4,0),1,0)","v":{"$error":"#REF!"}},{"$f":"IF(H13=VLOOKUP($AC$3,解答!$A$2:$K$51,5,0),1,0)","v":{"$error":"#REF!"}},{"$f":"IF(I13=VLOOKUP($AC$3,解答!$A$2:$K$51,6,0),1,0)","v":{"$error":"#REF!"}},{"$f":"IF(J13=VLOOKUP($AC$3,解答!$A$2:$K$51,7,0),1,0)","v":{"$error":"#REF!"}},{"$f":"IF(K13=VLOOKUP($AC$3,解答!$A$2:$K$51,8,0),1,0)","v":{"$error":"#REF!"}},{"$f":"IF(L13=VLOOKUP($AC$3,解答!$A$2:$K$51,9,0),1,0)","v":{"$error":"#REF!"}},{"$f":"IF(M13=VLOOKUP($AC$3,解答!$A$2:$K$51,10,0),1,0)","v":{"$error":"#REF!"}},{"$f":"IF(N13=VLOOKUP($AC$3,解答!$A$2:$K$51,11,0),1,0)","v":{"$error":"#REF!"}},{"$error":"#REF!"},null,null,"A9","S"]
[13,1113,{"$error":"#REF!"},{"$error":"#REF!"},{"$error":"#REF!"},{"$error":"#REF!"},{"$error":"#REF!"},{"$error":"#REF!"},{"$error":"#REF!"},{"$error":"#REF!"},{"$error":"#REF!"},{"$error":"#REF!"},{"$error":"#REF!"},{"$error":"#REF!"},{"$f":"IF(E14=VLOOKUP($AC$3,解答!$A$2:$K$51,2,0),1,0)","v":{"$error":"#REF!"}},{"$f":"IF(F14=VLOOKUP($AC$3,解答!$A$2:$K$51,3,0),1,0)","v":{"$error":"#REF!"}},{"$f":"IF(G14=VLOOKUP($AC$3,解答!$A$2:$K$51,4,0),1,0)","v":{"$error":"#REF!"}},{"$f":"IF(H14=VLOOKUP($AC$3,解答!$A$2:$K$51,5,0),1,0)","v":{"$error":"#REF!"}},{"$f":"IF(I14=VLOOKUP($AC$3,解答!$A$2:$K$51,6,0),1,0)","v":{"$error":"#REF!"}},{"$f":"IF(J14=VLOOKUP($AC$3,解答!$A$2:$K$51,7,0),1,0)","v":{"$error":"#REF!"}},{"$f":"IF(K14=VLOOKUP($AC$3,解答!$A$2:$K$51,8,0),1,0)","v":{"$error":"#REF!"}},{"$f":"IF(L14=VLOOKUP($AC$3,解答!$A$2:$K$51,9,0),1,0)","v":{"$error":"#REF!"}},{"$f":"IF(M14=VLOOKUP($AC$3,解答!$A$2:$K$51,10,0),1,0)","v":{"$error":"#REF!"}},{"$f":"IF(N14=VLOOKUP($AC$3,解答!$A$2:$K$51,11,0),1,0)","v":{"$error":"#REF!"}},{"$error":"#REF!"},null,null,"A10","T"]
[14,1114,{"$error":"#REF!"},{"$error":"#REF!"},{"$error":"#REF!"},{"$error":"#REF!"},{"$error":"#REF!"},{"$error":"#REF!"},{"$error":"#REF!"},{"$error":"#REF!"},{"$error":"#REF!"},{"$error":"#REF!"},{"$error":"#REF!"},{"$error":"#REF!"},{"$f":"IF(E15=VLOOKUP($AC$3,解答!$A$2:$K$51,2,0),1,0)","v":{"$error":"#REF!"}},{"$f":"IF(F15=VLOOKUP($AC$3,解答!$A$2:$K$51,3,0),1,0)","v":{"$error":"#REF!"}},{"$f":"IF(G15=VLOOKUP($AC$3,解答!$A$2:$K$51,4,0),1,0)","v":{"$error":"#REF!"}},{"$f":"IF(H15=VLOOKUP($AC$3,解答!$A$2:$K$51,5,0),1,0)","v":{"$error":"#REF!"}},{"$f":"IF(I15=VLOOKUP($AC$3,解答!$A$2:$K$51,6,0),1,0)","v":{"$error":"#REF!"}},{"$f":"IF(J15=VLOOKUP($AC$3,解答!$A$2:$K$51,7,0),1,0)","v":{"$error":"#REF!"}},{"$f":"IF(K15=VLOOKUP($AC$3,解答!$A$2:$K$51,8,0),1,0)","v":{"$error":"#REF!"}},{"$f":"IF(L15=VLOOKUP($AC$3,解答!$A$2:$K$51,9,0),1,0)","v":{"$error":"#REF!"}},{"$f":"IF(M15=VLOOKUP($AC$3,解答!$A$2:$K$51,10,0),1,0)","v":{"$error":"#REF!"}},{"$f":"IF(N15=VLOOKUP($AC$3,解答!$A$2:$K$51,11,0),1,0)","v":{"$error":"#REF!"}},{"$error":"#REF!"}]
[15,1115,{"$error":"#REF!"},{"$error":"#REF!"},{"$error":"#REF!"},{"$error":"#REF!"},{"$error":"#REF!"},{"$error":"#REF!"},{"$error":"#REF!"},{"$error":"#REF!"},{"$error":"#REF!"},{"$error":"#REF!"},{"$error":"#REF!"},{"$error":"#REF!"},{"$f":"IF(E16=VLOOKUP($AC$3,解答!$A$2:$K$51,2,0),1,0)","v":{"$error":"#REF!"}},{"$f":"IF(F16=VLOOKUP($AC$3,解答!$A$2:$K$51,3,0),1,0)","v":{"$error":"#REF!"}},{"$f":"IF(G16=VLOOKUP($AC$3,解答!$A$2:$K$51,4,0),1,0)","v":{"$error":"#REF!"}},{"$f":"IF(H16=VLOOKUP($AC$3,解答!$A$2:$K$51,5,0),1,0)","v":{"$error":"#REF!"}},{"$f":"IF(I16=VLOOKUP($AC$3,解答!$A$2:$K$51,6,0),1,0)","v":{"$error":"#REF!"}},{"$f":"IF(J16=VLOOKUP($AC$3,解答!$A$2:$K$51,7,0),1,0)","v":{"$error":"#REF!"}},{"$f":"IF(K16=VLOOKUP($AC$3,解答!$A$2:$K$51,8,0),1,0)","v":{"$error":"#REF!"}},{"$f":"IF(L16=VLOOKUP($AC$3,解答!$A$2:$K$51,9,0),1,0)","v":{"$error":"#REF!"}},{"$f":"IF(M16=VLOOKUP($AC$3,解答!$A$2:$K$51,10,0),1,0)","v":{"$error":"#REF!"}},{"$f":"IF(N16=VLOOKUP($AC$3,解答!$A$2:$K$51,11,0),1,0)","v":{"$error":"#REF!"}},{"$error":"#REF!"}]
[16,1116,{"$error":"#REF!"},{"$error":"#REF!"},{"$error":"#REF!"},{"$error":"#REF!"},{"$error":"#REF!"},{"$error":"#REF!"},{"$error":"#REF!"},{"$error":"#REF!"},{"$error":"#REF!"},{"$error":"#REF!"},{"$error":"#REF!"},{"$error":"#REF!"},{"$f":"IF(E17=VLOOKUP($AC$3,解答!$A$2:$K$51,2,0),1,0)","v":{"$error":"#REF!"}},{"$f":"IF(F17=VLOOKUP($AC$3,解答!$A$2:$K$51,3,0),1,0)","v":{"$error":"#REF!"}},{"$f":"IF(G17=VLOOKUP($AC$3,解答!$A$2:$K$51,4,0),1,0)","v":{"$error":"#REF!"}},{"$f":"IF(H17=VLOOKUP($AC$3,解答!$A$2:$K$51,5,0),1,0)","v":{"$error":"#REF!"}},{"$f":"IF(I17=VLOOKUP($AC$3,解答!$A$2:$K$51,6,0),1,0)","v":{"$error":"#REF!"}},{"$f":"IF(J17=VLOOKUP($AC$3,解答!$A$2:$K$51,7,0),1,0)","v":{"$error":"#REF!"}},{"$f":"IF(K17=VLOOKUP($AC$3,解答!$A$2:$K$51,8,0),1,0)","v":{"$error":"#REF!"}},{"$f":"IF(L17=VLOOKUP($AC$3,解答!$A$2:$K$51,9,0),1,0)","v":{"$error":"#REF!"}},{"$f":"IF(M17=VLOOKUP($AC$3,解答!$A$2:$K$51,10,0),1,0)","v":{"$error":"#REF!"}},{"$f":"IF(N17=VLOOKUP($AC$3,解答!$A$2:$K$51,11,0),1,0)","v":{"$error":"#REF!"}},{"$error":"#REF!"}]
[17,1117,{"$error":"#REF!"},{"$error":"#REF!"},{"$error":"#REF!"},{"$error":"#REF!"},{"$error":"#REF!"},{"$error":"#REF!"},{"$error":"#REF!"},{"$error":"#REF!"},{"$error":"#REF!"},{"$error":"#REF!"},{"$error":"#REF!"},{"$error":"#REF!"},{"$f":"IF(E18=VLOOKUP($AC$3,解答!$A$2:$K$51,2,0),1,0)","v":{"$error":"#REF!"}},{"$f":"IF(F18=VLOOKUP($AC$3,解答!$A$2:$K$51,3,0),1,0)","v":{"$error":"#REF!"}},{"$f":"IF(G18=VLOOKUP($AC$3,解答!$A$2:$K$51,4,0),1,0)","v":{"$error":"#REF!"}},{"$f":"IF(H18=VLOOKUP($AC$3,解答!$A$2:$K$51,5,0),1,0)","v":{"$error":"#REF!"}},{"$f":"IF(I18=VLOOKUP($AC$3,解答!$A$2:$K$51,6,0),1,0)","v":{"$error":"#REF!"}},{"$f":"IF(J18=VLOOKUP($AC$3,解答!$A$2:$K$51,7,0),1,0)","v":{"$error":"#REF!"}},{"$f":"IF(K18=VLOOKUP($AC$3,解答!$A$2:$K$51,8,0),1,0)","v":{"$error":"#REF!"}},{"$f":"IF(L18=VLOOKUP($AC$3,解答!$A$2:$K$51,9,0),1,0)","v":{"$error":"#REF!"}},{"$f":"IF(M18=VLOOKUP($AC$3,解答!$A$2:$K$51,10,0),1,0)","v":{"$error":"#REF!"}},{"$f":"IF(N18=VLOOKUP($AC$3,解答!$A$2:$K$51,11,0),1,0)","v":{"$error":"#REF!"}},{"$error":"#REF!"}]
[18,1118,{"$error":"#REF!"},{"$error":"#REF!"},{"$error":"#REF!"},{"$error":"#REF!"},{"$error":"#REF!"},{"$error":"#REF!"},{"$error":"#REF!"},{"$error":"#REF!"},{"$error":"#REF!"},{"$error":"#REF!"},{"$error":"#REF!"},{"$error":"#REF!"},{"$f":"IF(E19=VLOOKUP($AC$3,解答!$A$2:$K$51,2,0),1,0)","v":{"$error":"#REF!"}},{"$f":"IF(F19=VLOOKUP($AC$3,解答!$A$2:$K$51,3,0),1,0)","v":{"$error":"#REF!"}},{"$f":"IF(G19=VLOOKUP($AC$3,解答!$A$2:$K$51,4,0),1,0)","v":{"$error":"#REF!"}},{"$f":"IF(H19=VLOOKUP($AC$3,解答!$A$2:$K$51,5,0),1,0)","v":{"$error":"#REF!"}},{"$f":"IF(I19=VLOOKUP($AC$3,解答!$A$2:$K$51,6,0),1,0)","v":{"$error":"#REF!"}},{"$f":"IF(J19=VLOOKUP($AC$3,解答!$A$2:$K$51,7,0),1,0)","v":{"$error":"#REF!"}},{"$f":"IF(K19=VLOOKUP($AC$3,解答!$A$2:$K$51,8,0),1,0)","v":{"$error":"#REF!"}},{"$f":"IF(L19=VLOOKUP($AC$3,解答!$A$2:$K$51,9,0),1,0)","v":{"$error":"#REF!"}},{"$f":"IF(M19=VLOOKUP($AC$3,解答!$A$2:$K$51,10,0),1,0)","v":{"$error":"#REF!"}},{"$f":"IF(N19=VLOOKUP($AC$3,解答!$A$2:$K$51,11,0),1,0)","v":{"$error":"#REF!"}},{"$error":"#REF!"}]
[19,1119,{"$error":"#REF!"},{"$error":"#REF!"},{"$error":"#REF!"},{"$error":"#REF!"},{"$error":"#REF!"},{"$error":"#REF!"},{"$error":"#REF!"},{"$error":"#REF!"},{"$error":"#REF!"},{"$error":"#REF!"},{"$error":"#REF!"},{"$error":"#REF!"},{"$f":"IF(E20=VLOOKUP($AC$3,解答!$A$2:$K$51,2,0),1,0)","v":{"$error":"#REF!"}},{"$f":"IF(F20=VLOOKUP($AC$3,解答!$A$2:$K$51,3,0),1,0)","v":{"$error":"#REF!"}},{"$f":"IF(G20=VLOOKUP($AC$3,解答!$A$2:$K$51,4,0),1,0)","v":{"$error":"#REF!"}},{"$f":"IF(H20=VLOOKUP($AC$3,解答!$A$2:$K$51,5,0),1,0)","v":{"$error":"#REF!"}},{"$f":"IF(I20=VLOOKUP($AC$3,解答!$A$2:$K$51,6,0),1,0)","v":{"$error":"#REF!"}},{"$f":"IF(J20=VLOOKUP($AC$3,解答!$A$2:$K$51,7,0),1,0)","v":{"$error":"#REF!"}},{"$f":"IF(K20=VLOOKUP($AC$3,解答!$A$2:$K$51,8,0),1,0)","v":{"$error":"#REF!"}},{"$f":"IF(L20=VLOOKUP($AC$3,解答!$A$2:$K$51,9,0),1,0)","v":{"$error":"#REF!"}},{"$f":"IF(M20=VLOOKUP($AC$3,解答!$A$2:$K$51,10,0),1,0)","v":{"$error":"#REF!"}},{"$f":"IF(N20=VLOOKUP($AC$3,解答!$A$2:$K$51,11,0),1,0)","v":{"$error":"#REF!"}},{"$error":"#REF!"}]
[20,1120,{"$error":"#REF!"},{"$error":"#REF!"},{"$error":"#REF!"},{"$error":"#REF!"},{"$error":"#REF!"},{"$error":"#REF!"},{"$error":"#REF!"},{"$error":"#REF!"},{"$error":"#REF!"},{"$error":"#REF!"},{"$error":"#REF!"},{"$error":"#REF!"},{"$f":"IF(E21=VLOOKUP($AC$3,解答!$A$2:$K$51,2,0),1,0)","v":{"$error":"#REF!"}},{"$f":"IF(F21=VLOOKUP($AC$3,解答!$A$2:$K$51,3,0),1,0)","v":{"$error":"#REF!"}},{"$f":"IF(G21=VLOOKUP($AC$3,解答!$A$2:$K$51,4,0),1,0)","v":{"$error":"#REF!"}},{"$f":"IF(H21=VLOOKUP($AC$3,解答!$A$2:$K$51,5,0),1,0)","v":{"$error":"#REF!"}},{"$f":"IF(I21=VLOOKUP($AC$3,解答!$A$2:$K$51,6,0),1,0)","v":{"$error":"#REF!"}},{"$f":"IF(J21=VLOOKUP($AC$3,解答!$A$2:$K$51,7,0),1,0)","v":{"$error":"#REF!"}},{"$f":"IF(K21=VLOOKUP($AC$3,解答!$A$2:$K$51,8,0),1,0)","v":{"$error":"#REF!"}},{"$f":"IF(L21=VLOOKUP($AC$3,解答!$A$2:$K$51,9,0),1,0)","v":{"$error":"#REF!"}},{"$f":"IF(M21=VLOOKUP($AC$3,解答!$A$2:$K$51,10,0),1,0)","v":{"$error":"#REF!"}},{"$f":"IF(N21=VLOOKUP($AC$3,解答!$A$2:$K$51,11,0),1,0)","v":{"$error":"#REF!"}},{"$error":"#REF!"}]
[21,1121,{"$error":"#REF!"},{"$error":"#REF!"},{"$error":"#REF!"},{"$error":"#REF!"},{"$error":"#REF!"},{"$error":"#REF!"},{"$error":"#REF!"},{"$error":"#REF!"},{"$error":"#REF!"},{"$error":"#REF!"},{"$error":"#REF!"},{"$error":"#REF!"},{"$f":"IF(E22=VLOOKUP($AC$3,解答!$A$2:$K$51,2,0),1,0)","v":{"$error":"#REF!"}},{"$f":"IF(F22=VLOOKUP($AC$3,解答!$A$2:$K$51,3,0),1,0)","v":{"$error":"#REF!"}},{"$f":"IF(G22=VLOOKUP($AC$3,解答!$A$2:$K$51,4,0),1,0)","v":{"$error":"#REF!"}},{"$f":"IF(H22=VLOOKUP($AC$3,解答!$A$2:$K$51,5,0),1,0)","v":{"$error":"#REF!"}},{"$f":"IF(I22=VLOOKUP($AC$3,解答!$A$2:$K$51,6,0),1,0)","v":{"$error":"#REF!"}},{"$f":"IF(J22=VLOOKUP($AC$3,解答!$A$2:$K$51,7,0),1,0)","v":{"$error":"#REF!"}},{"$f":"IF(K22=VLOOKUP($AC$3,解答!$A$2:$K$51,8,0),1,0)","v":{"$error":"#REF!"}},{"$f":"IF(L22=VLOOKUP($AC$3,解答!$A$2:$K$51,9,0),1,0)","v":{"$error":"#REF!"}},{"$f":"IF(M22=VLOOKUP($AC$3,解答!$A$2:$K$51,10,0),1,0)","v":{"$error":"#REF!"}},{"$f":"IF(N22=VLOOKUP($AC$3,解答!$A$2:$K$51,11,0),1,0)","v":{"$error":"#REF!"}},{"$error":"#REF!"}]
[22,1122,{"$error":"#REF!"},{"$error":"#REF!"},{"$error":"#REF!"},{"$error":"#REF!"},{"$error":"#REF!"},{"$error":"#REF!"},{"$error":"#REF!"},{"$error":"#REF!"},{"$error":"#REF!"},{"$error":"#REF!"},{"$error":"#REF!"},{"$error":"#REF!"},{"$f":"IF(E23=VLOOKUP($AC$3,解答!$A$2:$K$51,2,0),1,0)","v":{"$error":"#REF!"}},{"$f":"IF(F23=VLOOKUP($AC$3,解答!$A$2:$K$51,3,0),1,0)","v":{"$error":"#REF!"}},{"$f":"IF(G23=VLOOKUP($AC$3,解答!$A$2:$K$51,4,0),1,0)","v":{"$error":"#REF!"}},{"$f":"IF(H23=VLOOKUP($AC$3,解答!$A$2:$K$51,5,0),1,0)","v":{"$error":"#REF!"}},{"$f":"IF(I23=VLOOKUP($AC$3,解答!$A$2:$K$51,6,0),1,0)","v":{"$error":"#REF!"}},{"$f":"IF(J23=VLOOKUP($AC$3,解答!$A$2:$K$51,7,0),1,0)","v":{"$error":"#REF!"}},{"$f":"IF(K23=VLOOKUP($AC$3,解答!$A$2:$K$51,8,0),1,0)","v":{"$error":"#REF!"}},{"$f":"IF(L23=VLOOKUP($AC$3,解答!$A$2:$K$51,9,0),1,0)","v":{"$error":"#REF!"}},{"$f":"IF(M23=VLOOKUP($AC$3,解答!$A$2:$K$51,10,0),1,0)","v":{"$error":"#REF!"}},{"$f":"IF(N23=VLOOKUP($AC$3,解答!$A$2:$K$51,11,0),1,0)","v":{"$error":"#REF!"}},{"$error":"#REF!"}]
[23,1123,{"$error":"#REF!"},{"$error":"#REF!"},{"$error":"#REF!"},{"$error":"#REF!"},{"$error":"#REF!"},{"$error":"#REF!"},{"$error":"#REF!"},{"$error":"#REF!"},{"$error":"#REF!"},{"$error":"#REF!"},{"$error":"#REF!"},{"$error":"#REF!"},{"$f":"IF(E24=VLOOKUP($AC$3,解答!$A$2:$K$51,2,0),1,0)","v":{"$error":"#REF!"}},{"$f":"IF(F24=VLOOKUP($AC$3,解答!$A$2:$K$51,3,0),1,0)","v":{"$error":"#REF!"}},{"$f":"IF(G24=VLOOKUP($AC$3,解答!$A$2:$K$51,4,0),1,0)","v":{"$error":"#REF!"}},{"$f":"IF(H24=VLOOKUP($AC$3,解答!$A$2:$K$51,5,0),1,0)","v":{"$error":"#REF!"}},{"$f":"IF(I24=VLOOKUP($AC$3,解答!$A$2:$K$51,6,0),1,0)","v":{"$error":"#REF!"}},{"$f":"IF(J24=VLOOKUP($AC$3,解答!$A$2:$K$51,7,0),1,0)","v":{"$error":"#REF!"}},{"$f":"IF(K24=VLOOKUP($AC$3,解答!$A$2:$K$51,8,0),1,0)","v":{"$error":"#REF!"}},{"$f":"IF(L24=VLOOKUP($AC$3,解答!$A$2:$K$51,9,0),1,0)","v":{"$error":"#REF!"}},{"$f":"IF(M24=VLOOKUP($AC$3,解答!$A$2:$K$51,10,0),1,0)","v":{"$error":"#REF!"}},{"$f":"IF(N24=VLOOKUP($AC$3,解答!$A$2:$K$51,11,0),1,0)","v":{"$error":"#REF!"}},{"$error":"#REF!"}]
[24,1124,{"$error":"#REF!"},{"$error":"#REF!"},{"$error":"#REF!"},{"$error":"#REF!"},{"$error":"#REF!"},{"$error":"#REF!"},{"$error":"#REF!"},{"$error":"#REF!"},{"$error":"#REF!"},{"$error":"#REF!"},{"$error":"#REF!"},{"$error":"#REF!"},{"$f":"IF(E25=VLOOKUP($AC$3,解答!$A$2:$K$51,2,0),1,0)","v":{"$error":"#REF!"}},{"$f":"IF(F25=VLOOKUP($AC$3,解答!$A$2:$K$51,3,0),1,0)","v":{"$error":"#REF!"}},{"$f":"IF(G25=VLOOKUP($AC$3,解答!$A$2:$K$51,4,0),1,0)","v":{"$error":"#REF!"}},{"$f":"IF(H25=VLOOKUP($AC$3,解答!$A$2:$K$51,5,0),1,0)","v":{"$error":"#REF!"}},{"$f":"IF(I25=VLOOKUP($AC$3,解答!$A$2:$K$51,6,0),1,0)","v":{"$error":"#REF!"}},{"$f":"IF(J25=VLOOKUP($AC$3,解答!$A$2:$K$51,7,0),1,0)","v":{"$error":"#REF!"}},{"$f":"IF(K25=VLOOKUP($AC$3,解答!$A$2:$K$51,8,0),1,0)","v":{"$error":"#REF!"}},{"$f":"IF(L25=VLOOKUP($AC$3,解答!$A$2:$K$51,9,0),1,0)","v":{"$error":"#REF!"}},{"$f":"IF(M25=VLOOKUP($AC$3,解答!$A$2:$K$51,10,0),1,0)","v":{"$error":"#REF!"}},{"$f":"IF(N25=VLOOKUP($AC$3,解答!$A$2:$K$51,11,0),1,0)","v":{"$error":"#REF!"}},{"$error":"#REF!"}]
[25,1125,{"$error":"#REF!"},{"$error":"#REF!"},{"$error":"#REF!"},{"$error":"#REF!"},{"$error":"#REF!"},{"$error":"#REF!"},{"$error":"#REF!"},{"$error":"#REF!"},{"$error":"#REF!"},{"$error":"#REF!"},{"$error":"#REF!"},{"$error":"#REF!"},{"$f":"IF(E26=VLOOKUP($AC$3,解答!$A$2:$K$51,2,0),1,0)","v":{"$error":"#REF!"}},{"$f":"IF(F26=VLOOKUP($AC$3,解答!$A$2:$K$51,3,0),1,0)","v":{"$error":"#REF!"}},{"$f":"IF(G26=VLOOKUP($AC$3,解答!$A$2:$K$51,4,0),1,0)","v":{"$error":"#REF!"}},{"$f":"IF(H26=VLOOKUP($AC$3,解答!$A$2:$K$51,5,0),1,0)","v":{"$error":"#REF!"}},{"$f":"IF(I26=VLOOKUP($AC$3,解答!$A$2:$K$51,6,0),1,0)","v":{"$error":"#REF!"}},{"$f":"IF(J26=VLOOKUP($AC$3,解答!$A$2:$K$51,7,0),1,0)","v":{"$error":"#REF!"}},{"$f":"IF(K26=VLOOKUP($AC$3,解答!$A$2:$K$51,8,0),1,0)","v":{"$error":"#REF!"}},{"$f":"IF(L26=VLOOKUP($AC$3,解答!$A$2:$K$51,9,0),1,0)","v":{"$error":"#REF!"}},{"$f":"IF(M26=VLOOKUP($AC$3,解答!$A$2:$K$51,10,0),1,0)","v":{"$error":"#REF!"}},{"$f":"IF(N26=VLOOKUP($AC$3,解答!$A$2:$K$51,11,0),1,0)","v":{"$error":"#REF!"}},{"$error":"#REF!"}]
[26,1126,{"$error":"#REF!"},{"$error":"#REF!"},{"$error":"#REF!"},{"$error":"#REF!"},{"$error":"#REF!"},{"$error":"#REF!"},{"$error":"#REF!"},{"$error":"#REF!"},{"$error":"#REF!"},{"$error":"#REF!"},{"$error":"#REF!"},{"$error":"#REF!"},{"$f":"IF(E27=VLOOKUP($AC$3,解答!$A$2:$K$51,2,0),1,0)","v":{"$error":"#REF!"}},{"$f":"IF(F27=VLOOKUP($AC$3,解答!$A$2:$K$51,3,0),1,0)","v":{"$error":"#REF!"}},{"$f":"IF(G27=VLOOKUP($AC$3,解答!$A$2:$K$51,4,0),1,0)","v":{"$error":"#REF!"}},{"$f":"IF(H27=VLOOKUP($AC$3,解答!$A$2:$K$51,5,0),1,0)","v":{"$error":"#REF!"}},{"$f":"IF(I27=VLOOKUP($AC$3,解答!$A$2:$K$51,6,0),1,0)","v":{"$error":"#REF!"}},{"$f":"IF(J27=VLOOKUP($AC$3,解答!$A$2:$K$51,7,0),1,0)","v":{"$error":"#REF!"}},{"$f":"IF(K27=VLOOKUP($AC$3,解答!$A$2:$K$51,8,0),1,0)","v":{"$error":"#REF!"}},{"$f":"IF(L27=VLOOKUP($AC$3,解答!$A$2:$K$51,9,0),1,0)","v":{"$error":"#REF!"}},{"$f":"IF(M27=VLOOKUP($AC$3,解答!$A$2:$K$51,10,0),1,0)","v":{"$error":"#REF!"}},{"$f":"IF(N27=VLOOKUP($AC$3,解答!$A$2:$K$51,11,0),1,0)","v":{"$error":"#REF!"}},{"$error":"#REF!"}]
[27,1127,{"$error":"#REF!"},{"$error":"#REF!"},{"$error":"#REF!"},{"$error":"#REF!"},{"$error":"#REF!"},{"$error":"#REF!"},{"$error":"#REF!"},{"$error":"#REF!"},{"$error":"#REF!"},{"$error":"#REF!"},{"$error":"#REF!"},{"$error":"#REF!"},{"$f":"IF(E28=VLOOKUP($AC$3,解答!$A$2:$K$51,2,0),1,0)","v":{"$error":"#REF!"}},{"$f":"IF(F28=VLOOKUP($AC$3,解答!$A$2:$K$51,3,0),1,0)","v":{"$error":"#REF!"}},{"$f":"IF(G28=VLOOKUP($AC$3,解答!$A$2:$K$51,4,0),1,0)","v":{"$error":"#REF!"}},{"$f":"IF(H28=VLOOKUP($AC$3,解答!$A$2:$K$51,5,0),1,0)","v":{"$error":"#REF!"}},{"$f":"IF(I28=VLOOKUP($AC$3,解答!$A$2:$K$51,6,0),1,0)","v":{"$error":"#REF!"}},{"$f":"IF(J28=VLOOKUP($AC$3,解答!$A$2:$K$51,7,0),1,0)","v":{"$error":"#REF!"}},{"$f":"IF(K28=VLOOKUP($AC$3,解答!$A$2:$K$51,8,0),1,0)","v":{"$error":"#REF!"}},{"$f":"IF(L28=VLOOKUP($AC$3,解答!$A$2:$K$51,9,0),1,0)","v":{"$error":"#REF!"}},{"$f":"IF(M28=VLOOKUP($AC$3,解答!$A$2:$K$51,10,0),1,0)","v":{"$error":"#REF!"}},{"$f":"IF(N28=VLOOKUP($AC$3,解答!$A$2:$K$51,11,0),1,0)","v":{"$error":"#REF!"}},{"$error":"#REF!"}]
[28,1128,{"$error":"#REF!"},{"$error":"#REF!"},{"$error":"#REF!"},{"$error":"#REF!"},{"$error":"#REF!"},{"$error":"#REF!"},{"$error":"#REF!"},{"$error":"#REF!"},{"$error":"#REF!"},{"$error":"#REF!"},{"$error":"#REF!"},{"$error":"#REF!"},{"$f":"IF(E29=VLOOKUP($AC$3,解答!$A$2:$K$51,2,0),1,0)","v":{"$error":"#REF!"}},{"$f":"IF(F29=VLOOKUP($AC$3,解答!$A$2:$K$51,3,0),1,0)","v":{"$error":"#REF!"}},{"$f":"IF(G29=VLOOKUP($AC$3,解答!$A$2:$K$51,4,0),1,0)","v":{"$error":"#REF!"}},{"$f":"IF(H29=VLOOKUP($AC$3,解答!$A$2:$K$51,5,0),1,0)","v":{"$error":"#REF!"}},{"$f":"IF(I29=VLOOKUP($AC$3,解答!$A$2:$K$51,6,0),1,0)","v":{"$error":"#REF!"}},{"$f":"IF(J29=VLOOKUP($AC$3,解答!$A$2:$K$51,7,0),1,0)","v":{"$error":"#REF!"}},{"$f":"IF(K29=VLOOKUP($AC$3,解答!$A$2:$K$51,8,0),1,0)","v":{"$error":"#REF!"}},{"$f":"IF(L29=VLOOKUP($AC$3,解答!$A$2:$K$51,9,0),1,0)","v":{"$error":"#REF!"}},{"$f":"IF(M29=VLOOKUP($AC$3,解答!$A$2:$K$51,10,0),1,0)","v":{"$error":"#REF!"}},{"$f":"IF(N29=VLOOKUP($AC$3,解答!$A$2:$K$51,11,0),1,0)","v":{"$error":"#REF!"}},{"$error":"#REF!"}]
[29,1129,{"$error":"#REF!"},{"$error":"#REF!"},{"$error":"#REF!"},{"$error":"#REF!"},{"$error":"#REF!"},{"$error":"#REF!"},{"$error":"#REF!"},{"$error":"#REF!"},{"$error":"#REF!"},{"$error":"#REF!"},{"$error":"#REF!"},{"$error":"#REF!"},{"$f":"IF(E30=VLOOKUP($AC$3,解答!$A$2:$K$51,2,0),1,0)","v":{"$error":"#REF!"}},{"$f":"IF(F30=VLOOKUP($AC$3,解答!$A$2:$K$51,3,0),1,0)","v":{"$error":"#REF!"}},{"$f":"IF(G30=VLOOKUP($AC$3,解答!$A$2:$K$51,4,0),1,0)","v":{"$error":"#REF!"}},{"$f":"IF(H30=VLOOKUP($AC$3,解答!$A$2:$K$51,5,0),1,0)","v":{"$error":"#REF!"}},{"$f":"IF(I30=VLOOKUP($AC$3,解答!$A$2:$K$51,6,0),1,0)","v":{"$error":"#REF!"}},{"$f":"IF(J30=VLOOKUP($AC$3,解答!$A$2:$K$51,7,0),1,0)","v":{"$error":"#REF!"}},{"$f":"IF(K30=VLOOKUP($AC$3,解答!$A$2:$K$51,8,0),1,0)","v":{"$error":"#REF!"}},{"$f":"IF(L30=VLOOKUP($AC$3,解答!$A$2:$K$51,9,0),1,0)","v":{"$error":"#REF!"}},{"$f":"IF(M30=VLOOKUP($AC$3,解答!$A$2:$K$51,10,0),1,0)","v":{"$error":"#REF!"}},{"$f":"IF(N30=VLOOKUP($AC$3,解答!$A$2:$K$51,11,0),1,0)","v":{"$error":"#REF!"}},{"$error":"#REF!"}]
[30,1130,{"$error":"#REF!"},{"$error":"#REF!"},{"$error":"#REF!"},{"$error":"#REF!"},{"$error":"#REF!"},{"$error":"#REF!"},{"$error":"#REF!"},{"$error":"#REF!"},{"$error":"#REF!"},{"$error":"#REF!"},{"$error":"#REF!"},{"$error":"#REF!"},{"$f":"IF(E31=VLOOKUP($AC$3,解答!$A$2:$K$51,2,0),1,0)","v":{"$error":"#REF!"}},{"$f":"IF(F31=VLOOKUP($AC$3,解答!$A$2:$K$51,3,0),1,0)","v":{"$error":"#REF!"}},{"$f":"IF(G31=VLOOKUP($AC$3,解答!$A$2:$K$51,4,0),1,0)","v":{"$error":"#REF!"}},{"$f":"IF(H31=VLOOKUP($AC$3,解答!$A$2:$K$51,5,0),1,0)","v":{"$error":"#REF!"}},{"$f":"IF(I31=VLOOKUP($AC$3,解答!$A$2:$K$51,6,0),1,0)","v":{"$error":"#REF!"}},{"$f":"IF(J31=VLOOKUP($AC$3,解答!$A$2:$K$51,7,0),1,0)","v":{"$error":"#REF!"}},{"$f":"IF(K31=VLOOKUP($AC$3,解答!$A$2:$K$51,8,0),1,0)","v":{"$error":"#REF!"}},{"$f":"IF(L31=VLOOKUP($AC$3,解答!$A$2:$K$51,9,0),1,0)","v":{"$error":"#REF!"}},{"$f":"IF(M31=VLOOKUP($AC$3,解答!$A$2:$K$51,10,0),1,0)","v":{"$error":"#REF!"}},{"$f":"IF(N31=VLOOKUP($AC$3,解答!$A$2:$K$51,11,0),1,0)","v":{"$error":"#REF!"}},{"$error":"#REF!"}]
[31,1131,{"$error":"#REF!"},{"$error":"#REF!"},{"$error":"#REF!"},{"$error":"#REF!"},{"$error":"#REF!"},{"$error":"#REF!"},{"$error":"#REF!"},{"$error":"#REF!"},{"$error":"#REF!"},{"$error":"#REF!"},{"$error":"#REF!"},{"$error":"#REF!"},{"$f":"IF(E32=VLOOKUP($AC$3,解答!$A$2:$K$51,2,0),1,0)","v":{"$error":"#REF!"}},{"$f":"IF(F32=VLOOKUP($AC$3,解答!$A$2:$K$51,3,0),1,0)","v":{"$error":"#REF!"}},{"$f":"IF(G32=VLOOKUP($AC$3,解答!$A$2:$K$51,4,0),1,0)","v":{"$error":"#REF!"}},{"$f":"IF(H32=VLOOKUP($AC$3,解答!$A$2:$K$51,5,0),1,0)","v":{"$error":"#REF!"}},{"$f":"IF(I32=VLOOKUP($AC$3,解答!$A$2:$K$51,6,0),1,0)","v":{"$error":"#REF!"}},{"$f":"IF(J32=VLOOKUP($AC$3,解答!$A$2:$K$51,7,0),1,0)","v":{"$error":"#REF!"}},{"$f":"IF(K32=VLOOKUP($AC$3,解答!$A$2:$K$51,8,0),1,0)","v":{"$error":"#REF!"}},{"$f":"IF(L32=VLOOKUP($AC$3,解答!$A$2:$K$51,9,0),1,0)","v":{"$error":"#REF!"}},{"$f":"IF(M32=VLOOKUP($AC$3,解答!$A$2:$K$51,10,0),1,0)","v":{"$error":"#REF!"}},{"$f":"IF(N32=VLOOKUP($AC$3,解答!$A$2:$K$51,11,0),1,0)","v":{"$error":"#REF!"}},{"$error":"#REF!"}]
[32,1132,{"$error":"#REF!"},{"$error":"#REF!"},{"$error":"#REF!"},{"$error":"#REF!"},{"$error":"#REF!"},{"$error":"#REF!"},{"$error":"#REF!"},{"$error":"#REF!"},{"$error":"#REF!"},{"$error":"#REF!"},{"$error":"#REF!"},{"$error":"#REF!"},{"$f":"IF(E33=VLOOKUP($AC$3,解答!$A$2:$K$51,2,0),1,0)","v":{"$error":"#REF!"}},{"$f":"IF(F33=VLOOKUP($AC$3,解答!$A$2:$K$51,3,0),1,0)","v":{"$error":"#REF!"}},{"$f":"IF(G33=VLOOKUP($AC$3,解答!$A$2:$K$51,4,0),1,0)","v":{"$error":"#REF!"}},{"$f":"IF(H33=VLOOKUP($AC$3,解答!$A$2:$K$51,5,0),1,0)","v":{"$error":"#REF!"}},{"$f":"IF(I33=VLOOKUP($AC$3,解答!$A$2:$K$51,6,0),1,0)","v":{"$error":"#REF!"}},{"$f":"IF(J33=VLOOKUP($AC$3,解答!$A$2:$K$51,7,0),1,0)","v":{"$error":"#REF!"}},{"$f":"IF(K33=VLOOKUP($AC$3,解答!$A$2:$K$51,8,0),1,0)","v":{"$error":"#REF!"}},{"$f":"IF(L33=VLOOKUP($AC$3,解答!$A$2:$K$51,9,0),1,0)","v":{"$error":"#REF!"}},{"$f":"IF(M33=VLOOKUP($AC$3,解答!$A$2:$K$51,10,0),1,0)","v":{"$error":"#REF!"}},{"$f":"IF(N33=VLOOKUP($AC$3,解答!$A$2:$K$51,11,0),1,0)","v":{"$error":"#REF!"}},{"$error":"#REF!"}]
[33,1133,{"$error":"#REF!"},{"$error":"#REF!"},{"$error":"#REF!"},{"$error":"#REF!"},{"$error":"#REF!"},{"$error":"#REF!"},{"$error":"#REF!"},{"$error":"#REF!"},{"$error":"#REF!"},{"$error":"#REF!"},{"$error":"#REF!"},{"$error":"#REF!"},{"$f":"IF(E34=VLOOKUP($AC$3,解答!$A$2:$K$51,2,0),1,0)","v":{"$error":"#REF!"}},{"$f":"IF(F34=VLOOKUP($AC$3,解答!$A$2:$K$51,3,0),1,0)","v":{"$error":"#REF!"}},{"$f":"IF(G34=VLOOKUP($AC$3,解答!$A$2:$K$51,4,0),1,0)","v":{"$error":"#REF!"}},{"$f":"IF(H34=VLOOKUP($AC$3,解答!$A$2:$K$51,5,0),1,0)","v":{"$error":"#REF!"}},{"$f":"IF(I34=VLOOKUP($AC$3,解答!$A$2:$K$51,6,0),1,0)","v":{"$error":"#REF!"}},{"$f":"IF(J34=VLOOKUP($AC$3,解答!$A$2:$K$51,7,0),1,0)","v":{"$error":"#REF!"}},{"$f":"IF(K34=VLOOKUP($AC$3,解答!$A$2:$K$51,8,0),1,0)","v":{"$error":"#REF!"}},{"$f":"IF(L34=VLOOKUP($AC$3,解答!$A$2:$K$51,9,0),1,0)","v":{"$error":"#REF!"}},{"$f":"IF(M34=VLOOKUP($AC$3,解答!$A$2:$K$51,10,0),1,0)","v":{"$error":"#REF!"}},{"$f":"IF(N34=VLOOKUP($AC$3,解答!$A$2:$K$51,11,0),1,0)","v":{"$error":"#REF!"}},{"$error":"#REF!"}]
[34,1134,{"$error":"#REF!"},{"$error":"#REF!"},{"$error":"#REF!"},{"$error":"#REF!"},{"$error":"#REF!"},{"$error":"#REF!"},{"$error":"#REF!"},{"$error":"#REF!"},{"$error":"#REF!"},{"$error":"#REF!"},{"$error":"#REF!"},{"$error":"#REF!"},{"$f":"IF(E35=VLOOKUP($AC$3,解答!$A$2:$K$51,2,0),1,0)","v":{"$error":"#REF!"}},{"$f":"IF(F35=VLOOKUP($AC$3,解答!$A$2:$K$51,3,0),1,0)","v":{"$error":"#REF!"}},{"$f":"IF(G35=VLOOKUP($AC$3,解答!$A$2:$K$51,4,0),1,0)","v":{"$error":"#REF!"}},{"$f":"IF(H35=VLOOKUP($AC$3,解答!$A$2:$K$51,5,0),1,0)","v":{"$error":"#REF!"}},{"$f":"IF(I35=VLOOKUP($AC$3,解答!$A$2:$K$51,6,0),1,0)","v":{"$error":"#REF!"}},{"$f":"IF(J35=VLOOKUP($AC$3,解答!$A$2:$K$51,7,0),1,0)","v":{"$error":"#REF!"}},{"$f":"IF(K35=VLOOKUP($AC$3,解答!$A$2:$K$51,8,0),1,0)","v":{"$error":"#REF!"}},{"$f":"IF(L35=VLOOKUP($AC$3,解答!$A$2:$K$51,9,0),1,0)","v":{"$error":"#REF!"}},{"$f":"IF(M35=VLOOKUP($AC$3,解答!$A$2:$K$51,10,0),1,0)","v":{"$error":"#REF!"}},{"$f":"IF(N35=VLOOKUP($AC$3,解答!$A$2:$K$51,11,0),1,0)","v":{"$error":"#REF!"}},{"$error":"#REF!"}]
[35,1135,{"$error":"#REF!"},{"$error":"#REF!"},{"$error":"#REF!"},{"$error":"#REF!"},{"$error":"#REF!"},{"$error":"#REF!"},{"$error":"#REF!"},{"$error":"#REF!"},{"$error":"#REF!"},{"$error":"#REF!"},{"$error":"#REF!"},{"$error":"#REF!"},{"$f":"IF(E36=VLOOKUP($AC$3,解答!$A$2:$K$51,2,0),1,0)","v":{"$error":"#REF!"}},{"$f":"IF(F36=VLOOKUP($AC$3,解答!$A$2:$K$51,3,0),1,0)","v":{"$error":"#REF!"}},{"$f":"IF(G36=VLOOKUP($AC$3,解答!$A$2:$K$51,4,0),1,0)","v":{"$error":"#REF!"}},{"$f":"IF(H36=VLOOKUP($AC$3,解答!$A$2:$K$51,5,0),1,0)","v":{"$error":"#REF!"}},{"$f":"IF(I36=VLOOKUP($AC$3,解答!$A$2:$K$51,6,0),1,0)","v":{"$error":"#REF!"}},{"$f":"IF(J36=VLOOKUP($AC$3,解答!$A$2:$K$51,7,0),1,0)","v":{"$error":"#REF!"}},{"$f":"IF(K36=VLOOKUP($AC$3,解答!$A$2:$K$51,8,0),1,0)","v":{"$error":"#REF!"}},{"$f":"IF(L36=VLOOKUP($AC$3,解答!$A$2:$K$51,9,0),1,0)","v":{"$error":"#REF!"}},{"$f":"IF(M36=VLOOKUP($AC$3,解答!$A$2:$K$51,10,0),1,0)","v":{"$error":"#REF!"}},{"$f":"IF(N36=VLOOKUP($AC$3,解答!$A$2:$K$51,11,0),1,0)","v":{"$error":"#REF!"}},{"$error":"#REF!"}]
[36,1136,{"$error":"#REF!"},{"$error":"#REF!"},{"$error":"#REF!"},{"$error":"#REF!"},{"$error":"#REF!"},{"$error":"#REF!"},{"$error":"#REF!"},{"$error":"#REF!"},{"$error":"#REF!"},{"$error":"#REF!"},{"$error":"#REF!"},{"$error":"#REF!"},{"$f":"IF(E37=VLOOKUP($AC$3,解答!$A$2:$K$51,2,0),1,0)","v":{"$error":"#REF!"}},{"$f":"IF(F37=VLOOKUP($AC$3,解答!$A$2:$K$51,3,0),1,0)","v":{"$error":"#REF!"}},{"$f":"IF(G37=VLOOKUP($AC$3,解答!$A$2:$K$51,4,0),1,0)","v":{"$error":"#REF!"}},{"$f":"IF(H37=VLOOKUP($AC$3,解答!$A$2:$K$51,5,0),1,0)","v":{"$error":"#REF!"}},{"$f":"IF(I37=VLOOKUP($AC$3,解答!$A$2:$K$51,6,0),1,0)","v":{"$error":"#REF!"}},{"$f":"IF(J37=VLOOKUP($AC$3,解答!$A$2:$K$51,7,0),1,0)","v":{"$error":"#REF!"}},{"$f":"IF(K37=VLOOKUP($AC$3,解答!$A$2:$K$51,8,0),1,0)","v":{"$error":"#REF!"}},{"$f":"IF(L37=VLOOKUP($AC$3,解答!$A$2:$K$51,9,0),1,0)","v":{"$error":"#REF!"}},{"$f":"IF(M37=VLOOKUP($AC$3,解答!$A$2:$K$51,10,0),1,0)","v":{"$error":"#REF!"}},{"$f":"IF(N37=VLOOKUP($AC$3,解答!$A$2:$K$51,11,0),1,0)","v":{"$error":"#REF!"}},{"$error":"#REF!"}]
[37,1137,{"$error":"#REF!"},{"$error":"#REF!"},{"$error":"#REF!"},{"$error":"#REF!"},{"$error":"#REF!"},{"$error":"#REF!"},{"$error":"#REF!"},{"$error":"#REF!"},{"$error":"#REF!"},{"$error":"#REF!"},{"$error":"#REF!"},{"$error":"#REF!"},{"$f":"IF(E38=VLOOKUP($AC$3,解答!$A$2:$K$51,2,0),1,0)","v":{"$error":"#REF!"}},{"$f":"IF(F38=VLOOKUP($AC$3,解答!$A$2:$K$51,3,0),1,0)","v":{"$error":"#REF!"}},{"$f":"IF(G38=VLOOKUP($AC$3,解答!$A$2:$K$51,4,0),1,0)","v":{"$error":"#REF!"}},{"$f":"IF(H38=VLOOKUP($AC$3,解答!$A$2:$K$51,5,0),1,0)","v":{"$error":"#REF!"}},{"$f":"IF(I38=VLOOKUP($AC$3,解答!$A$2:$K$51,6,0),1,0)","v":{"$error":"#REF!"}},{"$f":"IF(J38=VLOOKUP($AC$3,解答!$A$2:$K$51,7,0),1,0)","v":{"$error":"#REF!"}},{"$f":"IF(K38=VLOOKUP($AC$3,解答!$A$2:$K$51,8,0),1,0)","v":{"$error":"#REF!"}},{"$f":"IF(L38=VLOOKUP($AC$3,解答!$A$2:$K$51,9,0),1,0)","v":{"$error":"#REF!"}},{"$f":"IF(M38=VLOOKUP($AC$3,解答!$A$2:$K$51,10,0),1,0)","v":{"$error":"#REF!"}},{"$f":"IF(N38=VLOOKUP($AC$3,解答!$A$2:$K$51,11,0),1,0)","v":{"$error":"#REF!"}},{"$error":"#REF!"}]
[38,1138,{"$error":"#REF!"},{"$error":"#REF!"},{"$error":"#REF!"},{"$error":"#REF!"},{"$error":"#REF!"},{"$error":"#REF!"},{"$error":"#REF!"},{"$error":"#REF!"},{"$error":"#REF!"},{"$error":"#REF!"},{"$error":"#REF!"},{"$error":"#REF!"},{"$f":"IF(E39=VLOOKUP($AC$3,解答!$A$2:$K$51,2,0),1,0)","v":{"$error":"#REF!"}},{"$f":"IF(F39=VLOOKUP($AC$3,解答!$A$2:$K$51,3,0),1,0)","v":{"$error":"#REF!"}},{"$f":"IF(G39=VLOOKUP($AC$3,解答!$A$2:$K$51,4,0),1,0)","v":{"$error":"#REF!"}},{"$f":"IF(H39=VLOOKUP($AC$3,解答!$A$2:$K$51,5,0),1,0)","v":{"$error":"#REF!"}},{"$f":"IF(I39=VLOOKUP($AC$3,解答!$A$2:$K$51,6,0),1,0)","v":{"$error":"#REF!"}},{"$f":"IF(J39=VLOOKUP($AC$3,解答!$A$2:$K$51,7,0),1,0)","v":{"$error":"#REF!"}},{"$f":"IF(K39=VLOOKUP($AC$3,解答!$A$2:$K$51,8,0),1,0)","v":{"$error":"#REF!"}},{"$f":"IF(L39=VLOOKUP($AC$3,解答!$A$2:$K$51,9,0),1,0)","v":{"$error":"#REF!"}},{"$f":"IF(M39=VLOOKUP($AC$3,解答!$A$2:$K$51,10,0),1,0)","v":{"$error":"#REF!"}},{"$f":"IF(N39=VLOOKUP($AC$3,解答!$A$2:$K$51,11,0),1,0)","v":{"$error":"#REF!"}},{"$error":"#REF!"}]
[39,1139,{"$error":"#REF!"},{"$error":"#REF!"},{"$error":"#REF!"},{"$error":"#REF!"},{"$error":"#REF!"},{"$error":"#REF!"},{"$error":"#REF!"},{"$error":"#REF!"},{"$error":"#REF!"},{"$error":"#REF!"},{"$error":"#REF!"},{"$error":"#REF!"},{"$f":"IF(E40=VLOOKUP($AC$3,解答!$A$2:$K$51,2,0),1,0)","v":{"$error":"#REF!"}},{"$f":"IF(F40=VLOOKUP($AC$3,解答!$A$2:$K$51,3,0),1,0)","v":{"$error":"#REF!"}},{"$f":"IF(G40=VLOOKUP($AC$3,解答!$A$2:$K$51,4,0),1,0)","v":{"$error":"#REF!"}},{"$f":"IF(H40=VLOOKUP($AC$3,解答!$A$2:$K$51,5,0),1,0)","v":{"$error":"#REF!"}},{"$f":"IF(I40=VLOOKUP($AC$3,解答!$A$2:$K$51,6,0),1,0)","v":{"$error":"#REF!"}},{"$f":"IF(J40=VLOOKUP($AC$3,解答!$A$2:$K$51,7,0),1,0)","v":{"$error":"#REF!"}},{"$f":"IF(K40=VLOOKUP($AC$3,解答!$A$2:$K$51,8,0),1,0)","v":{"$error":"#REF!"}},{"$f":"IF(L40=VLOOKUP($AC$3,解答!$A$2:$K$51,9,0),1,0)","v":{"$error":"#REF!"}},{"$f":"IF(M40=VLOOKUP($AC$3,解答!$A$2:$K$51,10,0),1,0)","v":{"$error":"#REF!"}},{"$f":"IF(N40=VLOOKUP($AC$3,解答!$A$2:$K$51,11,0),1,0)","v":{"$error":"#REF!"}},{"$error":"#REF!"}]
[40,1140,{"$error":"#REF!"},{"$error":"#REF!"},{"$error":"#REF!"},{"$error":"#REF!"},{"$error":"#REF!"},{"$error":"#REF!"},{"$error":"#REF!"},{"$error":"#REF!"},{"$error":"#REF!"},{"$error":"#REF!"},{"$error":"#REF!"},{"$error":"#REF!"},{"$f":"IF(E41=VLOOKUP($AC$3,解答!$A$2:$K$51,2,0),1,0)","v":{"$error":"#REF!"}},{"$f":"IF(F41=VLOOKUP($AC$3,解答!$A$2:$K$51,3,0),1,0)","v":{"$error":"#REF!"}},{"$f":"IF(G41=VLOOKUP($AC$3,解答!$A$2:$K$51,4,0),1,0)","v":{"$error":"#REF!"}},{"$f":"IF(H41=VLOOKUP($AC$3,解答!$A$2:$K$51,5,0),1,0)","v":{"$error":"#REF!"}},{"$f":"IF(I41=VLOOKUP($AC$3,解答!$A$2:$K$51,6,0),1,0)","v":{"$error":"#REF!"}},{"$f":"IF(J41=VLOOKUP($AC$3,解答!$A$2:$K$51,7,0),1,0)","v":{"$error":"#REF!"}},{"$f":"IF(K41=VLOOKUP($AC$3,解答!$A$2:$K$51,8,0),1,0)","v":{"$error":"#REF!"}},{"$f":"IF(L41=VLOOKUP($AC$3,解答!$A$2:$K$51,9,0),1,0)","v":{"$error":"#REF!"}},{"$f":"IF(M41=VLOOKUP($AC$3,解答!$A$2:$K$51,10,0),1,0)","v":{"$error":"#REF!"}},{"$f":"IF(N41=VLOOKUP($AC$3,解答!$A$2:$K$51,11,0),1,0)","v":{"$error":"#REF!"}},{"$error":"#REF!"}]
[41,1141,{"$error":"#REF!"},{"$error":"#REF!"},{"$error":"#REF!"},{"$error":"#REF!"},{"$error":"#REF!"},{"$error":"#REF!"},{"$error":"#REF!"},{"$error":"#REF!"},{"$error":"#REF!"},{"$error":"#REF!"},{"$error":"#REF!"},{"$error":"#REF!"},{"$f":"IF(E42=VLOOKUP($AC$3,解答!$A$2:$K$51,2,0),1,0)","v":{"$error":"#REF!"}},{"$f":"IF(F42=VLOOKUP($AC$3,解答!$A$2:$K$51,3,0),1,0)","v":{"$error":"#REF!"}},{"$f":"IF(G42=VLOOKUP($AC$3,解答!$A$2:$K$51,4,0),1,0)","v":{"$error":"#REF!"}},{"$f":"IF(H42=VLOOKUP($AC$3,解答!$A$2:$K$51,5,0),1,0)","v":{"$error":"#REF!"}},{"$f":"IF(I42=VLOOKUP($AC$3,解答!$A$2:$K$51,6,0),1,0)","v":{"$error":"#REF!"}},{"$f":"IF(J42=VLOOKUP($AC$3,解答!$A$2:$K$51,7,0),1,0)","v":{"$error":"#REF!"}},{"$f":"IF(K42=VLOOKUP($AC$3,解答!$A$2:$K$51,8,0),1,0)","v":{"$error":"#REF!"}},{"$f":"IF(L42=VLOOKUP($AC$3,解答!$A$2:$K$51,9,0),1,0)","v":{"$error":"#REF!"}},{"$f":"IF(M42=VLOOKUP($AC$3,解答!$A$2:$K$51,10,0),1,0)","v":{"$error":"#REF!"}},{"$f":"IF(N42=VLOOKUP($AC$3,解答!$A$2:$K$51,11,0),1,0)","v":{"$error":"#REF!"}},{"$error":"#REF!"}]
[42,1142,{"$error":"#REF!"},{"$error":"#REF!"},{"$error":"#REF!"},{"$error":"#REF!"},{"$error":"#REF!"},{"$error":"#REF!"},{"$error":"#REF!"},{"$error":"#REF!"},{"$error":"#REF!"},{"$error":"#REF!"},{"$error":"#REF!"},{"$error":"#REF!"},{"$f":"IF(E43=VLOOKUP($AC$3,解答!$A$2:$K$51,2,0),1,0)","v":{"$error":"#REF!"}},{"$f":"IF(F43=VLOOKUP($AC$3,解答!$A$2:$K$51,3,0),1,0)","v":{"$error":"#REF!"}},{"$f":"IF(G43=VLOOKUP($AC$3,解答!$A$2:$K$51,4,0),1,0)","v":{"$error":"#REF!"}},{"$f":"IF(H43=VLOOKUP($AC$3,解答!$A$2:$K$51,5,0),1,0)","v":{"$error":"#REF!"}},{"$f":"IF(I43=VLOOKUP($AC$3,解答!$A$2:$K$51,6,0),1,0)","v":{"$error":"#REF!"}},{"$f":"IF(J43=VLOOKUP($AC$3,解答!$A$2:$K$51,7,0),1,0)","v":{"$error":"#REF!"}},{"$f":"IF(K43=VLOOKUP($AC$3,解答!$A$2:$K$51,8,0),1,0)","v":{"$error":"#REF!"}},{"$f":"IF(L43=VLOOKUP($AC$3,解答!$A$2:$K$51,9,0),1,0)","v":{"$error":"#REF!"}},{"$f":"IF(M43=VLOOKUP($AC$3,解答!$A$2:$K$51,10,0),1,0)","v":{"$error":"#REF!"}},{"$f":"IF(N43=VLOOKUP($AC$3,解答!$A$2:$K$51,11,0),1,0)","v":{"$error":"#REF!"}},{"$error":"#REF!"}]
[43,1143,{"$error":"#REF!"},{"$error":"#REF!"},{"$error":"#REF!"},{"$error":"#REF!"},{"$error":"#REF!"},{"$error":"#REF!"},{"$error":"#REF!"},{"$error":"#REF!"},{"$error":"#REF!"},{"$error":"#REF!"},{"$error":"#REF!"},{"$error":"#REF!"},{"$f":"IF(E44=VLOOKUP($AC$3,解答!$A$2:$K$51,2,0),1,0)","v":{"$error":"#REF!"}},{"$f":"IF(F44=VLOOKUP($AC$3,解答!$A$2:$K$51,3,0),1,0)","v":{"$error":"#REF!"}},{"$f":"IF(G44=VLOOKUP($AC$3,解答!$A$2:$K$51,4,0),1,0)","v":{"$error":"#REF!"}},{"$f":"IF(H44=VLOOKUP($AC$3,解答!$A$2:$K$51,5,0),1,0)","v":{"$error":"#REF!"}},{"$f":"IF(I44=VLOOKUP($AC$3,解答!$A$2:$K$51,6,0),1,0)","v":{"$error":"#REF!"}},{"$f":"IF(J44=VLOOKUP($AC$3,解答!$A$2:$K$51,7,0),1,0)","v":{"$error":"#REF!"}},{"$f":"IF(K44=VLOOKUP($AC$3,解答!$A$2:$K$51,8,0),1,0)","v":{"$error":"#REF!"}},{"$f":"IF(L44=VLOOKUP($AC$3,解答!$A$2:$K$51,9,0),1,0)","v":{"$error":"#REF!"}},{"$f":"IF(M44=VLOOKUP($AC$3,解答!$A$2:$K$51,10,0),1,0)","v":{"$error":"#REF!"}},{"$f":"IF(N44=VLOOKUP($AC$3,解答!$A$2:$K$51,11,0),1,0)","v":{"$error":"#REF!"}},{"$error":"#REF!"}]
[44,1144,{"$error":"#REF!"},{"$error":"#REF!"},{"$error":"#REF!"},{"$error":"#REF!"},{"$error":"#REF!"},{"$error":"#REF!"},{"$error":"#REF!"},{"$error":"#REF!"},{"$error":"#REF!"},{"$error":"#REF!"},{"$error":"#REF!"},{"$error":"#REF!"},{"$f":"IF(E45=VLOOKUP($AC$3,解答!$A$2:$K$51,2,0),1,0)","v":{"$error":"#REF!"}},{"$f":"IF(F45=VLOOKUP($AC$3,解答!$A$2:$K$51,3,0),1,0)","v":{"$error":"#REF!"}},{"$f":"IF(G45=VLOOKUP($AC$3,解答!$A$2:$K$51,4,0),1,0)","v":{"$error":"#REF!"}},{"$f":"IF(H45=VLOOKUP($AC$3,解答!$A$2:$K$51,5,0),1,0)","v":{"$error":"#REF!"}},{"$f":"IF(I45=VLOOKUP($AC$3,解答!$A$2:$K$51,6,0),1,0)","v":{"$error":"#REF!"}},{"$f":"IF(J45=VLOOKUP($AC$3,解答!$A$2:$K$51,7,0),1,0)","v":{"$error":"#REF!"}},{"$f":"IF(K45=VLOOKUP($AC$3,解答!$A$2:$K$51,8,0),1,0)","v":{"$error":"#REF!"}},{"$f":"IF(L45=VLOOKUP($AC$3,解答!$A$2:$K$51,9,0),1,0)","v":{"$error":"#REF!"}},{"$f":"IF(M45=VLOOKUP($AC$3,解答!$A$2:$K$51,10,0),1,0)","v":{"$error":"#REF!"}},{"$f":"IF(N45=VLOOKUP($AC$3,解答!$A$2:$K$51,11,0),1,0)","v":{"$error":"#REF!"}},{"$error":"#REF!"}]
[45,1145,{"$error":"#REF!"},{"$error":"#REF!"},{"$error":"#REF!"},{"$error":"#REF!"},{"$error":"#REF!"},{"$error":"#REF!"},{"$error":"#REF!"},{"$error":"#REF!"},{"$error":"#REF!"},{"$error":"#REF!"},{"$error":"#REF!"},{"$error":"#REF!"},{"$f":"IF(E46=VLOOKUP($AC$3,解答!$A$2:$K$51,2,0),1,0)","v":{"$error":"#REF!"}},{"$f":"IF(F46=VLOOKUP($AC$3,解答!$A$2:$K$51,3,0),1,0)","v":{"$error":"#REF!"}},{"$f":"IF(G46=VLOOKUP($AC$3,解答!$A$2:$K$51,4,0),1,0)","v":{"$error":"#REF!"}},{"$f":"IF(H46=VLOOKUP($AC$3,解答!$A$2:$K$51,5,0),1,0)","v":{"$error":"#REF!"}},{"$f":"IF(I46=VLOOKUP($AC$3,解答!$A$2:$K$51,6,0),1,0)","v":{"$error":"#REF!"}},{"$f":"IF(J46=VLOOKUP($AC$3,解答!$A$2:$K$51,7,0),1,0)","v":{"$error":"#REF!"}},{"$f":"IF(K46=VLOOKUP($AC$3,解答!$A$2:$K$51,8,0),1,0)","v":{"$error":"#REF!"}},{"$f":"IF(L46=VLOOKUP($AC$3,解答!$A$2:$K$51,9,0),1,0)","v":{"$error":"#REF!"}},{"$f":"IF(M46=VLOOKUP($AC$3,解答!$A$2:$K$51,10,0),1,0)","v":{"$error":"#REF!"}},{"$f":"IF(N46=VLOOKUP($AC$3,解答!$A$2:$K$51,11,0),1,0)","v":{"$error":"#REF!"}},{"$error":"#REF!"}]

{"sheet":"解答","index":3,"n_rows":46,"n_cols":12,"rows_kept":46,"cut":false,"hidden":false,"merged":[]}
["回数","Q1","Q2","Q3","Q4","Q5","Q6","Q7","Q8","Q9","Q10","備考"]
[1,1,2,3,4,5,6,7,8,9,10]
[2]
[3]
[4]
[5]
[6]
[7]
[8]
[9]
[10]
[11]
[12]
[13]
[14]
[15]
[16]
[17]
[18]
[19]
[20]
[21]
[22]
[23]
[24]
[25]
[26]
[27]
[28]
[29]
[30]
[31]
[32]
[33]
[34]
[35]
[36]
[37]
[38]
[39]
[40]
[41]
[42]
[43]
[44]
[45]

{"sheet":"集計3","index":4,"n_rows":46,"n_cols":14,"rows_kept":46,"cut":false,"hidden":false,"merged":[]}
["連番","HRNO","名前","日付","セル１","セル２","セル３","セル４","セル５","備考",null,"class",11]
[1,{"$f":"$M$1*100+A2","v":1101},{"$f":"INDIRECT($B2&\"!I1\")","v":"赤坂音羽"},{"$f":"INDIRECT($B2&\"!\"&$M$4&$M$3+3)","v":"2022-04-11"},{"$f":"INDIRECT($B2&\"!\"&$M$5&$N$5)","v":1},{"$f":"INDIRECT($B2&\"!\"&$M$6&$N$6)","v":1},{"$f":"INDIRECT($B2&\"!\"&$M$7&$N$7)","v":0},{"$f":"INDIRECT($B2&\"!\"&$M$8&$N$8)","v":13},{"$f":"INDIRECT($B2&\"!\"&$M$9&$N$9)","v":0}]
[2,1102,{"$f":"INDIRECT($B3&\"!I1\")","v":"新居満里奈"},"2022-04-11",{"$f":"INDIRECT($B3&\"!\"&$M$5&$N$5)","v":1},{"$f":"INDIRECT($B3&\"!\"&$M$6&$N$6)","v":1},{"$f":"INDIRECT($B3&\"!\"&$M$7&$N$7)","v":0},{"$f":"INDIRECT($B3&\"!\"&$M$8&$N$8)","v":34},{"$f":"INDIRECT($B3&\"!\"&$M$9&$N$9)","v":1},null,null,"No",1]
[3,1103,"石部湖南","2022-04-11",1,1,0,49,1,null,null,"日付","B"]
[4,1104,{"$error":"#REF!"},{"$error":"#REF!"},{"$error":"#REF!"},{"$error":"#REF!"},{"$error":"#REF!"},{"$error":"#REF!"},{"$error":"#REF!"},null,null,"セル１","L",1]
[5,1105,{"$error":"#REF!"},{"$error":"#REF!"},{"$error":"#REF!"},{"$error":"#REF!"},{"$error":"#REF!"},{"$error":"#REF!"},{"$error":"#REF!"},null,null,"セル２","N",1]
[6,1106,{"$error":"#REF!"},{"$error":"#REF!"},{"$error":"#REF!"},{"$error":"#REF!"},{"$error":"#REF!"},{"$error":"#REF!"},{"$error":"#REF!"},null,null,"セル３","P",1]
[7,1107,{"$error":"#REF!"},{"$error":"#REF!"},{"$error":"#REF!"},{"$error":"#REF!"},{"$error":"#REF!"},{"$error":"#REF!"},{"$error":"#REF!"},null,null,"セル４","R",1]
[8,1108,{"$error":"#REF!"},{"$error":"#REF!"},{"$error":"#REF!"},{"$error":"#REF!"},{"$error":"#REF!"},{"$error":"#REF!"},{"$error":"#REF!"},null,null,"セル５","T",1]
[9,1109,{"$error":"#REF!"},{"$error":"#REF!"},{"$error":"#REF!"},{"$error":"#REF!"},{"$error":"#REF!"},{"$error":"#REF!"},{"$error":"#REF!"}]
[10,1110,{"$error":"#REF!"},{"$error":"#REF!"},{"$error":"#REF!"},{"$error":"#REF!"},{"$error":"#REF!"},{"$error":"#REF!"},{"$error":"#REF!"}]
[11,1111,{"$error":"#REF!"},{"$error":"#REF!"},{"$error":"#REF!"},{"$error":"#REF!"},{"$error":"#REF!"},{"$error":"#REF!"},{"$error":"#REF!"}]
[12,1112,{"$error":"#REF!"},{"$error":"#REF!"},{"$error":"#REF!"},{"$error":"#REF!"},{"$error":"#REF!"},{"$error":"#REF!"},{"$error":"#REF!"}]
[13,1113,{"$error":"#REF!"},{"$error":"#REF!"},{"$error":"#REF!"},{"$error":"#REF!"},{"$error":"#REF!"},{"$error":"#REF!"},{"$error":"#REF!"}]
[14,1114,{"$error":"#REF!"},{"$error":"#REF!"},{"$error":"#REF!"},{"$error":"#REF!"},{"$error":"#REF!"},{"$error":"#REF!"},{"$error":"#REF!"}]
[15,1115,{"$error":"#REF!"},{"$error":"#REF!"},{"$error":"#REF!"},{"$error":"#REF!"},{"$error":"#REF!"},{"$error":"#REF!"},{"$error":"#REF!"}]
[16,1116,{"$error":"#REF!"},{"$error":"#REF!"},{"$error":"#REF!"},{"$error":"#REF!"},{"$error":"#REF!"},{"$error":"#REF!"},{"$error":"#REF!"}]
[17,1117,{"$error":"#REF!"},{"$error":"#REF!"},{"$error":"#REF!"},{"$error":"#REF!"},{"$error":"#REF!"},{"$error":"#REF!"},{"$error":"#REF!"}]
[18,1118,{"$error":"#REF!"},{"$error":"#REF!"},{"$error":"#REF!"},{"$error":"#REF!"},{"$error":"#REF!"},{"$error":"#REF!"},{"$error":"#REF!"}]
[19,1119,{"$error":"#REF!"},{"$error":"#REF!"},{"$error":"#REF!"},{"$error":"#REF!"},{"$error":"#REF!"},{"$error":"#REF!"},{"$error":"#REF!"}]
[20,1120,{"$error":"#REF!"},{"$error":"#REF!"},{"$error":"#REF!"},{"$error":"#REF!"},{"$error":"#REF!"},{"$error":"#REF!"},{"$error":"#REF!"}]
[21,1121,{"$error":"#REF!"},{"$error":"#REF!"},{"$error":"#REF!"},{"$error":"#REF!"},{"$error":"#REF!"},{"$error":"#REF!"},{"$error":"#REF!"}]
[22,1122,{"$error":"#REF!"},{"$error":"#REF!"},{"$error":"#REF!"},{"$error":"#REF!"},{"$error":"#REF!"},{"$error":"#REF!"},{"$error":"#REF!"}]
[23,1123,{"$error":"#REF!"},{"$error":"#REF!"},{"$error":"#REF!"},{"$error":"#REF!"},{"$error":"#REF!"},{"$error":"#REF!"},{"$error":"#REF!"}]
[24,1124,{"$error":"#REF!"},{"$error":"#REF!"},{"$error":"#REF!"},{"$error":"#REF!"},{"$error":"#REF!"},{"$error":"#REF!"},{"$error":"#REF!"}]
[25,1125,{"$error":"#REF!"},{"$error":"#REF!"},{"$error":"#REF!"},{"$error":"#REF!"},{"$error":"#REF!"},{"$error":"#REF!"},{"$error":"#REF!"}]
[26,1126,{"$error":"#REF!"},{"$error":"#REF!"},{"$error":"#REF!"},{"$error":"#REF!"},{"$error":"#REF!"},{"$error":"#REF!"},{"$error":"#REF!"}]
[27,1127,{"$error":"#REF!"},{"$error":"#REF!"},{"$error":"#REF!"},{"$error":"#REF!"},{"$error":"#REF!"},{"$error":"#REF!"},{"$error":"#REF!"}]
[28,1128,{"$error":"#REF!"},{"$error":"#REF!"},{"$error":"#REF!"},{"$error":"#REF!"},{"$error":"#REF!"},{"$error":"#REF!"},{"$error":"#REF!"}]
[29,1129,{"$error":"#REF!"},{"$error":"#REF!"},{"$error":"#REF!"},{"$error":"#REF!"},{"$error":"#REF!"},{"$error":"#REF!"},{"$error":"#REF!"}]
[30,1130,{"$error":"#REF!"},{"$error":"#REF!"},{"$error":"#REF!"},{"$error":"#REF!"},{"$error":"#REF!"},{"$error":"#REF!"},{"$error":"#REF!"}]
[31,1131,{"$error":"#REF!"},{"$error":"#REF!"},{"$error":"#REF!"},{"$error":"#REF!"},{"$error":"#REF!"},{"$error":"#REF!"},{"$error":"#REF!"}]
[32,1132,{"$error":"#REF!"},{"$error":"#REF!"},{"$error":"#REF!"},{"$error":"#REF!"},{"$error":"#REF!"},{"$error":"#REF!"},{"$error":"#REF!"}]
[33,1133,{"$error":"#REF!"},{"$error":"#REF!"},{"$error":"#REF!"},{"$error":"#REF!"},{"$error":"#REF!"},{"$error":"#REF!"},{"$error":"#REF!"}]
[34,1134,{"$error":"#REF!"},{"$error":"#REF!"},{"$error":"#REF!"},{"$error":"#REF!"},{"$error":"#REF!"},{"$error":"#REF!"},{"$error":"#REF!"}]
[35,1135,{"$error":"#REF!"},{"$error":"#REF!"},{"$error":"#REF!"},{"$error":"#REF!"},{"$error":"#REF!"},{"$error":"#REF!"},{"$error":"#REF!"}]
[36,1136,{"$error":"#REF!"},{"$error":"#REF!"},{"$error":"#REF!"},{"$error":"#REF!"},{"$error":"#REF!"},{"$error":"#REF!"},{"$error":"#REF!"}]
[37,1137,{"$error":"#REF!"},{"$error":"#REF!"},{"$error":"#REF!"},{"$error":"#REF!"},{"$error":"#REF!"},{"$error":"#REF!"},{"$error":"#REF!"}]
[38,1138,{"$error":"#REF!"},{"$error":"#REF!"},{"$error":"#REF!"},{"$error":"#REF!"},{"$error":"#REF!"},{"$error":"#REF!"},{"$error":"#REF!"}]
[39,1139,{"$error":"#REF!"},{"$error":"#REF!"},{"$error":"#REF!"},{"$error":"#REF!"},{"$error":"#REF!"},{"$error":"#REF!"},{"$error":"#REF!"}]
[40,1140,{"$error":"#REF!"},{"$error":"#REF!"},{"$error":"#REF!"},{"$error":"#REF!"},{"$error":"#REF!"},{"$error":"#REF!"},{"$error":"#REF!"}]
[41,1141,{"$error":"#REF!"},{"$error":"#REF!"},{"$error":"#REF!"},{"$error":"#REF!"},{"$error":"#REF!"},{"$error":"#REF!"},{"$error":"#REF!"}]
[42,1142,{"$error":"#REF!"},{"$error":"#REF!"},{"$error":"#REF!"},{"$error":"#REF!"},{"$error":"#REF!"},{"$error":"#REF!"},{"$error":"#REF!"}]
[43,1143,{"$error":"#REF!"},{"$error":"#REF!"},{"$error":"#REF!"},{"$error":"#REF!"},{"$error":"#REF!"},{"$error":"#REF!"},{"$error":"#REF!"}]
[44,1144,{"$error":"#REF!"},{"$error":"#REF!"},{"$error":"#REF!"},{"$error":"#REF!"},{"$error":"#REF!"},{"$error":"#REF!"},{"$error":"#REF!"}]
[45,1145,{"$error":"#REF!"},{"$error":"#REF!"},{"$error":"#REF!"},{"$error":"#REF!"},{"$error":"#REF!"},{"$error":"#REF!"},{"$error":"#REF!"}]

{"sheet":"1101","index":5,"n_rows":53,"n_cols":31,"rows_kept":53,"cut":false,"hidden":false,"merged":[[6,6,6,8],[0,0,0,3],[2,6,2,8],[3,6,3,8],[4,6,4,8],[5,6,5,8],[18,6,18,8],[7,6,7,8],[8,6,8,8],[9,6,9,8],[10,6,10,8],[11,6,11,8],[12,6,12,8],[13,6,13,8],[14,6,14,8],[15,6,15,8],[16,6,16,8],[17,6,17,8],[30,6,30,8],[19,6,19,8],[20,6,20,8],[21,6,21,8],[22,6,22,8],[23,6,23,8],[24,6,24,8],[25,6,25,8],[26,6,26,8],[27,6,27,8],[28,6,28,8],[29,6,29,8],[42,6,42,8],[31,6,31,8],[32,6,32,8],[33,6,33,8],[34,6,34,8],[35,6,35,8],[36,6,36,8],[37,6,37,8],[38,6,38,8],[39,6,39,8],[40,6,40,8],[41,6,41,8],[49,6,49,8],[50,6,50,8],[51,6,51,8],[52,6,52,8],[43,6,43,8],[44,6,44,8],[45,6,45,8],[46,6,46,8],[47,6,47,8],[48,6,48,8]]}
["学習の記録",null,null,null,null,"HRNO",1101,"氏名","赤坂音羽",null,"時間数",1,"出席",{"$f":"COUNT(C4:C53)","v":1},"欠席",{"$f":"L1-N1","v":0},"総文字数",{"$f":"SUM(J4:J53)","v":13},"達成数",{"$f":"COUNTIF(J4:J53,\">=30\")","v":0}]
[]
["No","日付","出欠\n(出1,遅2,早3)","欠席者No.","ノート","評価","反省・感想・備考",null,null,"文字数","A1","A2","A3","A4","A5","A6","A7","A8","A9","A10","S1","S2","S3","S4","S5","S6","S7","S8","S9","S10","T"]
[1,"2022-04-11",1,null,"学習の記録\n情報ノートの準備\n教科書P１６～P１７",2,"今日の内容は分かりました。",null,null,{"$f":"LEN(G4)","v":13},1,2,3,4,5,6,7,8,9,10,{"$f":"IF(解答!B2=\"\",\"\",IF(K4=解答!B2,1,0))","v":1},{"$f":"IF(解答!C2=\"\",\"\",IF(L4=解答!C2,1,0))","v":1},{"$f":"IF(解答!D2=\"\",\"\",IF(M4=解答!D2,1,0))","v":1},{"$f":"IF(解答!E2=\"\",\"\",IF(N4=解答!E2,1,0))","v":1},{"$f":"IF(解答!F2=\"\",\"\",IF(O4=解答!F2,1,0))","v":1},{"$f":"IF(解答!G2=\"\",\"\",IF(P4=解答!G2,1,0))","v":1},{"$f":"IF(解答!H2=\"\",\"\",IF(Q4=解答!H2,1,0))","v":1},{"$f":"IF(解答!I2=\"\",\"\",IF(R4=解答!I2,1,0))","v":1},{"$f":"IF(解答!J2=\"\",\"\",IF(S4=解答!J2,1,0))","v":1},{"$f":"IF(解答!K2=\"\",\"\",IF(T4=解答!K2,1,0))","v":1},{"$f":"SUM(U4:AD4)","v":10}]
[2,null,null,null,null,null,null,null,null,{"$f":"LEN(G5)","v":0},null,null,null,null,null,null,null,null,null,null,{"$f":"IF(解答!B3=\"\",\"\",IF(K5=解答!B3,1,0))","v":""},{"$f":"IF(解答!C3=\"\",\"\",IF(L5=解答!C3,1,0))","v":""},{"$f":"IF(解答!D3=\"\",\"\",IF(M5=解答!D3,1,0))","v":""},{"$f":"IF(解答!E3=\"\",\"\",IF(N5=解答!E3,1,0))","v":""},{"$f":"IF(解答!F3=\"\",\"\",IF(O5=解答!F3,1,0))","v":""},{"$f":"IF(解答!G3=\"\",\"\",IF(P5=解答!G3,1,0))","v":""},{"$f":"IF(解答!H3=\"\",\"\",IF(Q5=解答!H3,1,0))","v":""},{"$f":"IF(解答!I3=\"\",\"\",IF(R5=解答!I3,1,0))","v":""},{"$f":"IF(解答!J3=\"\",\"\",IF(S5=解答!J3,1,0))","v":""},{"$f":"IF(解答!K3=\"\",\"\",IF(T5=解答!K3,1,0))","v":""},{"$f":"IF(解答!B3=\"\",\"\",SUM(U5:AD5))","v":""}]
[3,null,null,null,null,null,null,null,null,0,null,null,null,null,null,null,null,null,null,null,{"$f":"IF(解答!B4=\"\",\"\",IF(K6=解答!B4,1,0))","v":""},{"$f":"IF(解答!C4=\"\",\"\",IF(L6=解答!C4,1,0))","v":""},{"$f":"IF(解答!D4=\"\",\"\",IF(M6=解答!D4,1,0))","v":""},{"$f":"IF(解答!E4=\"\",\"\",IF(N6=解答!E4,1,0))","v":""},{"$f":"IF(解答!F4=\"\",\"\",IF(O6=解答!F4,1,0))","v":""},{"$f":"IF(解答!G4=\"\",\"\",IF(P6=解答!G4,1,0))","v":""},{"$f":"IF(解答!H4=\"\",\"\",IF(Q6=解答!H4,1,0))","v":""},{"$f":"IF(解答!I4=\"\",\"\",IF(R6=解答!I4,1,0))","v":""},{"$f":"IF(解答!J4=\"\",\"\",IF(S6=解答!J4,1,0))","v":""},{"$f":"IF(解答!K4=\"\",\"\",IF(T6=解答!K4,1,0))","v":""},{"$f":"IF(解答!B4=\"\",\"\",SUM(U6:AD6))","v":""}]
[4,null,null,null,null,null,null,null,null,0,null,null,null,null,null,null,null,null,null,null,{"$f":"IF(解答!B5=\"\",\"\",IF(K7=解答!B5,1,0))","v":""},{"$f":"IF(解答!C5=\"\",\"\",IF(L7=解答!C5,1,0))","v":""},{"$f":"IF(解答!D5=\"\",\"\",IF(M7=解答!D5,1,0))","v":""},{"$f":"IF(解答!E5=\"\",\"\",IF(N7=解答!E5,1,0))","v":""},{"$f":"IF(解答!F5=\"\",\"\",IF(O7=解答!F5,1,0))","v":""},{"$f":"IF(解答!G5=\"\",\"\",IF(P7=解答!G5,1,0))","v":""},{"$f":"IF(解答!H5=\"\",\"\",IF(Q7=解答!H5,1,0))","v":""},{"$f":"IF(解答!I5=\"\",\"\",IF(R7=解答!I5,1,0))","v":""},{"$f":"IF(解答!J5=\"\",\"\",IF(S7=解答!J5,1,0))","v":""},{"$f":"IF(解答!K5=\"\",\"\",IF(T7=解答!K5,1,0))","v":""},{"$f":"IF(解答!B5=\"\",\"\",SUM(U7:AD7))","v":""}]
[5,null,null,null,null,null,null,null,null,0,null,null,null,null,null,null,null,null,null,null,{"$f":"IF(解答!B6=\"\",\"\",IF(K8=解答!B6,1,0))","v":""},{"$f":"IF(解答!C6=\"\",\"\",IF(L8=解答!C6,1,0))","v":""},{"$f":"IF(解答!D6=\"\",\"\",IF(M8=解答!D6,1,0))","v":""},{"$f":"IF(解答!E6=\"\",\"\",IF(N8=解答!E6,1,0))","v":""},{"$f":"IF(解答!F6=\"\",\"\",IF(O8=解答!F6,1,0))","v":""},{"$f":"IF(解答!G6=\"\",\"\",IF(P8=解答!G6,1,0))","v":""},{"$f":"IF(解答!H6=\"\",\"\",IF(Q8=解答!H6,1,0))","v":""},{"$f":"IF(解答!I6=\"\",\"\",IF(R8=解答!I6,1,0))","v":""},{"$f":"IF(解答!J6=\"\",\"\",IF(S8=解答!J6,1,0))","v":""},{"$f":"IF(解答!K6=\"\",\"\",IF(T8=解答!K6,1,0))","v":""},{"$f":"IF(解答!B6=\"\",\"\",SUM(U8:AD8))","v":""}]
[6,null,null,null,null,null,null,null,null,0,null,null,null,null,null,null,null,null,null,null,{"$f":"IF(解答!B7=\"\",\"\",IF(K9=解答!B7,1,0))","v":""},{"$f":"IF(解答!C7=\"\",\"\",IF(L9=解答!C7,1,0))","v":""},{"$f":"IF(解答!D7=\"\",\"\",IF(M9=解答!D7,1,0))","v":""},{"$f":"IF(解答!E7=\"\",\"\",IF(N9=解答!E7,1,0))","v":""},{"$f":"IF(解答!F7=\"\",\"\",IF(O9=解答!F7,1,0))","v":""},{"$f":"IF(解答!G7=\"\",\"\",IF(P9=解答!G7,1,0))","v":""},{"$f":"IF(解答!H7=\"\",\"\",IF(Q9=解答!H7,1,0))","v":""},{"$f":"IF(解答!I7=\"\",\"\",IF(R9=解答!I7,1,0))","v":""},{"$f":"IF(解答!J7=\"\",\"\",IF(S9=解答!J7,1,0))","v":""},{"$f":"IF(解答!K7=\"\",\"\",IF(T9=解答!K7,1,0))","v":""},{"$f":"IF(解答!B7=\"\",\"\",SUM(U9:AD9))","v":""}]
[7,null,null,null,null,null,null,null,null,0,null,null,null,null,null,null,null,null,null,null,{"$f":"IF(解答!B8=\"\",\"\",IF(K10=解答!B8,1,0))","v":""},{"$f":"IF(解答!C8=\"\",\"\",IF(L10=解答!C8,1,0))","v":""},{"$f":"IF(解答!D8=\"\",\"\",IF(M10=解答!D8,1,0))","v":""},{"$f":"IF(解答!E8=\"\",\"\",IF(N10=解答!E8,1,0))","v":""},{"$f":"IF(解答!F8=\"\",\"\",IF(O10=解答!F8,1,0))","v":""},{"$f":"IF(解答!G8=\"\",\"\",IF(P10=解答!G8,1,0))","v":""},{"$f":"IF(解答!H8=\"\",\"\",IF(Q10=解答!H8,1,0))","v":""},{"$f":"IF(解答!I8=\"\",\"\",IF(R10=解答!I8,1,0))","v":""},{"$f":"IF(解答!J8=\"\",\"\",IF(S10=解答!J8,1,0))","v":""},{"$f":"IF(解答!K8=\"\",\"\",IF(T10=解答!K8,1,0))","v":""},{"$f":"IF(解答!B8=\"\",\"\",SUM(U10:AD10))","v":""}]
[8,null,null,null,null,null,null,null,null,0,null,null,null,null,null,null,null,null,null,null,{"$f":"IF(解答!B9=\"\",\"\",IF(K11=解答!B9,1,0))","v":""},{"$f":"IF(解答!C9=\"\",\"\",IF(L11=解答!C9,1,0))","v":""},{"$f":"IF(解答!D9=\"\",\"\",IF(M11=解答!D9,1,0))","v":""},{"$f":"IF(解答!E9=\"\",\"\",IF(N11=解答!E9,1,0))","v":""},{"$f":"IF(解答!F9=\"\",\"\",IF(O11=解答!F9,1,0))","v":""},{"$f":"IF(解答!G9=\"\",\"\",IF(P11=解答!G9,1,0))","v":""},{"$f":"IF(解答!H9=\"\",\"\",IF(Q11=解答!H9,1,0))","v":""},{"$f":"IF(解答!I9=\"\",\"\",IF(R11=解答!I9,1,0))","v":""},{"$f":"IF(解答!J9=\"\",\"\",IF(S11=解答!J9,1,0))","v":""},{"$f":"IF(解答!K9=\"\",\"\",IF(T11=解答!K9,1,0))","v":""},{"$f":"IF(解答!B9=\"\",\"\",SUM(U11:AD11))","v":""}]
[9,null,null,null,null,null,null,null,null,0,null,null,null,null,null,null,null,null,null,null,{"$f":"IF(解答!B10=\"\",\"\",IF(K12=解答!B10,1,0))","v":""},{"$f":"IF(解答!C10=\"\",\"\",IF(L12=解答!C10,1,0))","v":""},{"$f":"IF(解答!D10=\"\",\"\",IF(M12=解答!D10,1,0))","v":""},{"$f":"IF(解答!E10=\"\",\"\",IF(N12=解答!E10,1,0))","v":""},{"$f":"IF(解答!F10=\"\",\"\",IF(O12=解答!F10,1,0))","v":""},{"$f":"IF(解答!G10=\"\",\"\",IF(P12=解答!G10,1,0))","v":""},{"$f":"IF(解答!H10=\"\",\"\",IF(Q12=解答!H10,1,0))","v":""},{"$f":"IF(解答!I10=\"\",\"\",IF(R12=解答!I10,1,0))","v":""},{"$f":"IF(解答!J10=\"\",\"\",IF(S12=解答!J10,1,0))","v":""},{"$f":"IF(解答!K10=\"\",\"\",IF(T12=解答!K10,1,0))","v":""},{"$f":"IF(解答!B10=\"\",\"\",SUM(U12:AD12))","v":""}]
[10,null,null,null,null,null,null,null,null,0,null,null,null,null,null,null,null,null,null,null,{"$f":"IF(解答!B11=\"\",\"\",IF(K13=解答!B11,1,0))","v":""},{"$f":"IF(解答!C11=\"\",\"\",IF(L13=解答!C11,1,0))","v":""},{"$f":"IF(解答!D11=\"\",\"\",IF(M13=解答!D11,1,0))","v":""},{"$f":"IF(解答!E11=\"\",\"\",IF(N13=解答!E11,1,0))","v":""},{"$f":"IF(解答!F11=\"\",\"\",IF(O13=解答!F11,1,0))","v":""},{"$f":"IF(解答!G11=\"\",\"\",IF(P13=解答!G11,1,0))","v":""},{"$f":"IF(解答!H11=\"\",\"\",IF(Q13=解答!H11,1,0))","v":""},{"$f":"IF(解答!I11=\"\",\"\",IF(R13=解答!I11,1,0))","v":""},{"$f":"IF(解答!J11=\"\",\"\",IF(S13=解答!J11,1,0))","v":""},{"$f":"IF(解答!K11=\"\",\"\",IF(T13=解答!K11,1,0))","v":""},{"$f":"IF(解答!B11=\"\",\"\",SUM(U13:AD13))","v":""}]
[11,null,null,null,null,null,null,null,null,0,null,null,null,null,null,null,null,null,null,null,{"$f":"IF(解答!B12=\"\",\"\",IF(K14=解答!B12,1,0))","v":""},{"$f":"IF(解答!C12=\"\",\"\",IF(L14=解答!C12,1,0))","v":""},{"$f":"IF(解答!D12=\"\",\"\",IF(M14=解答!D12,1,0))","v":""},{"$f":"IF(解答!E12=\"\",\"\",IF(N14=解答!E12,1,0))","v":""},{"$f":"IF(解答!F12=\"\",\"\",IF(O14=解答!F12,1,0))","v":""},{"$f":"IF(解答!G12=\"\",\"\",IF(P14=解答!G12,1,0))","v":""},{"$f":"IF(解答!H12=\"\",\"\",IF(Q14=解答!H12,1,0))","v":""},{"$f":"IF(解答!I12=\"\",\"\",IF(R14=解答!I12,1,0))","v":""},{"$f":"IF(解答!J12=\"\",\"\",IF(S14=解答!J12,1,0))","v":""},{"$f":"IF(解答!K12=\"\",\"\",IF(T14=解答!K12,1,0))","v":""},{"$f":"IF(解答!B12=\"\",\"\",SUM(U14:AD14))","v":""}]
[12,null,null,null,null,null,null,null,null,0,null,null,null,null,null,null,null,null,null,null,{"$f":"IF(解答!B13=\"\",\"\",IF(K15=解答!B13,1,0))","v":""},{"$f":"IF(解答!C13=\"\",\"\",IF(L15=解答!C13,1,0))","v":""},{"$f":"IF(解答!D13=\"\",\"\",IF(M15=解答!D13,1,0))","v":""},{"$f":"IF(解答!E13=\"\",\"\",IF(N15=解答!E13,1,0))","v":""},{"$f":"IF(解答!F13=\"\",\"\",IF(O15=解答!F13,1,0))","v":""},{"$f":"IF(解答!G13=\"\",\"\",IF(P15=解答!G13,1,0))","v":""},{"$f":"IF(解答!H13=\"\",\"\",IF(Q15=解答!H13,1,0))","v":""},{"$f":"IF(解答!I13=\"\",\"\",IF(R15=解答!I13,1,0))","v":""},{"$f":"IF(解答!J13=\"\",\"\",IF(S15=解答!J13,1,0))","v":""},{"$f":"IF(解答!K13=\"\",\"\",IF(T15=解答!K13,1,0))","v":""},{"$f":"IF(解答!B13=\"\",\"\",SUM(U15:AD15))","v":""}]
[13,null,null,null,null,null,null,null,null,0,null,null,null,null,null,null,null,null,null,null,{"$f":"IF(解答!B14=\"\",\"\",IF(K16=解答!B14,1,0))","v":""},{"$f":"IF(解答!C14=\"\",\"\",IF(L16=解答!C14,1,0))","v":""},{"$f":"IF(解答!D14=\"\",\"\",IF(M16=解答!D14,1,0))","v":""},{"$f":"IF(解答!E14=\"\",\"\",IF(N16=解答!E14,1,0))","v":""},{"$f":"IF(解答!F14=\"\",\"\",IF(O16=解答!F14,1,0))","v":""},{"$f":"IF(解答!G14=\"\",\"\",IF(P16=解答!G14,1,0))","v":""},{"$f":"IF(解答!H14=\"\",\"\",IF(Q16=解答!H14,1,0))","v":""},{"$f":"IF(解答!I14=\"\",\"\",IF(R16=解答!I14,1,0))","v":""},{"$f":"IF(解答!J14=\"\",\"\",IF(S16=解答!J14,1,0))","v":""},{"$f":"IF(解答!K14=\"\",\"\",IF(T16=解答!K14,1,0))","v":""},{"$f":"IF(解答!B14=\"\",\"\",SUM(U16:AD16))","v":""}]
[14,null,null,null,null,null,null,null,null,0,null,null,null,null,null,null,null,null,null,null,{"$f":"IF(解答!B15=\"\",\"\",IF(K17=解答!B15,1,0))","v":""},{"$f":"IF(解答!C15=\"\",\"\",IF(L17=解答!C15,1,0))","v":""},{"$f":"IF(解答!D15=\"\",\"\",IF(M17=解答!D15,1,0))","v":""},{"$f":"IF(解答!E15=\"\",\"\",IF(N17=解答!E15,1,0))","v":""},{"$f":"IF(解答!F15=\"\",\"\",IF(O17=解答!F15,1,0))","v":""},{"$f":"IF(解答!G15=\"\",\"\",IF(P17=解答!G15,1,0))","v":""},{"$f":"IF(解答!H15=\"\",\"\",IF(Q17=解答!H15,1,0))","v":""},{"$f":"IF(解答!I15=\"\",\"\",IF(R17=解答!I15,1,0))","v":""},{"$f":"IF(解答!J15=\"\",\"\",IF(S17=解答!J15,1,0))","v":""},{"$f":"IF(解答!K15=\"\",\"\",IF(T17=解答!K15,1,0))","v":""},{"$f":"IF(解答!B15=\"\",\"\",SUM(U17:AD17))","v":""}]
[15,null,null,null,null,null,null,null,null,0,null,null,null,null,null,null,null,null,null,null,{"$f":"IF(解答!B16=\"\",\"\",IF(K18=解答!B16,1,0))","v":""},{"$f":"IF(解答!C16=\"\",\"\",IF(L18=解答!C16,1,0))","v":""},{"$f":"IF(解答!D16=\"\",\"\",IF(M18=解答!D16,1,0))","v":""},{"$f":"IF(解答!E16=\"\",\"\",IF(N18=解答!E16,1,0))","v":""},{"$f":"IF(解答!F16=\"\",\"\",IF(O18=解答!F16,1,0))","v":""},{"$f":"IF(解答!G16=\"\",\"\",IF(P18=解答!G16,1,0))","v":""},{"$f":"IF(解答!H16=\"\",\"\",IF(Q18=解答!H16,1,0))","v":""},{"$f":"IF(解答!I16=\"\",\"\",IF(R18=解答!I16,1,0))","v":""},{"$f":"IF(解答!J16=\"\",\"\",IF(S18=解答!J16,1,0))","v":""},{"$f":"IF(解答!K16=\"\",\"\",IF(T18=解答!K16,1,0))","v":""},{"$f":"IF(解答!B16=\"\",\"\",SUM(U18:AD18))","v":""}]
[16,null,null,null,null,null,null,null,null,0,null,null,null,null,null,null,null,null,null,null,{"$f":"IF(解答!B17=\"\",\"\",IF(K19=解答!B17,1,0))","v":""},{"$f":"IF(解答!C17=\"\",\"\",IF(L19=解答!C17,1,0))","v":""},{"$f":"IF(解答!D17=\"\",\"\",IF(M19=解答!D17,1,0))","v":""},{"$f":"IF(解答!E17=\"\",\"\",IF(N19=解答!E17,1,0))","v":""},{"$f":"IF(解答!F17=\"\",\"\",IF(O19=解答!F17,1,0))","v":""},{"$f":"IF(解答!G17=\"\",\"\",IF(P19=解答!G17,1,0))","v":""},{"$f":"IF(解答!H17=\"\",\"\",IF(Q19=解答!H17,1,0))","v":""},{"$f":"IF(解答!I17=\"\",\"\",IF(R19=解答!I17,1,0))","v":""},{"$f":"IF(解答!J17=\"\",\"\",IF(S19=解答!J17,1,0))","v":""},{"$f":"IF(解答!K17=\"\",\"\",IF(T19=解答!K17,1,0))","v":""},{"$f":"IF(解答!B17=\"\",\"\",SUM(U19:AD19))","v":""}]
[17,null,null,null,null,null,null,null,null,0,null,null,null,null,null,null,null,null,null,null,{"$f":"IF(解答!B18=\"\",\"\",IF(K20=解答!B18,1,0))","v":""},{"$f":"IF(解答!C18=\"\",\"\",IF(L20=解答!C18,1,0))","v":""},{"$f":"IF(解答!D18=\"\",\"\",IF(M20=解答!D18,1,0))","v":""},{"$f":"IF(解答!E18=\"\",\"\",IF(N20=解答!E18,1,0))","v":""},{"$f":"IF(解答!F18=\"\",\"\",IF(O20=解答!F18,1,0))","v":""},{"$f":"IF(解答!G18=\"\",\"\",IF(P20=解答!G18,1,0))","v":""},{"$f":"IF(解答!H18=\"\",\"\",IF(Q20=解答!H18,1,0))","v":""},{"$f":"IF(解答!I18=\"\",\"\",IF(R20=解答!I18,1,0))","v":""},{"$f":"IF(解答!J18=\"\",\"\",IF(S20=解答!J18,1,0))","v":""},{"$f":"IF(解答!K18=\"\",\"\",IF(T20=解答!K18,1,0))","v":""},{"$f":"IF(解答!B18=\"\",\"\",SUM(U20:AD20))","v":""}]
[18,null,null,null,null,null,null,null,null,0,null,null,null,null,null,null,null,null,null,null,{"$f":"IF(解答!B19=\"\",\"\",IF(K21=解答!B19,1,0))","v":""},{"$f":"IF(解答!C19=\"\",\"\",IF(L21=解答!C19,1,0))","v":""},{"$f":"IF(解答!D19=\"\",\"\",IF(M21=解答!D19,1,0))","v":""},{"$f":"IF(解答!E19=\"\",\"\",IF(N21=解答!E19,1,0))","v":""},{"$f":"IF(解答!F19=\"\",\"\",IF(O21=解答!F19,1,0))","v":""},{"$f":"IF(解答!G19=\"\",\"\",IF(P21=解答!G19,1,0))","v":""},{"$f":"IF(解答!H19=\"\",\"\",IF(Q21=解答!H19,1,0))","v":""},{"$f":"IF(解答!I19=\"\",\"\",IF(R21=解答!I19,1,0))","v":""},{"$f":"IF(解答!J19=\"\",\"\",IF(S21=解答!J19,1,0))","v":""},{"$f":"IF(解答!K19=\"\",\"\",IF(T21=解答!K19,1,0))","v":""},{"$f":"IF(解答!B19=\"\",\"\",SUM(U21:AD21))","v":""}]
[19,null,null,null,null,null,null,null,null,0,null,null,null,null,null,null,null,null,null,null,{"$f":"IF(解答!B20=\"\",\"\",IF(K22=解答!B20,1,0))","v":""},{"$f":"IF(解答!C20=\"\",\"\",IF(L22=解答!C20,1,0))","v":""},{"$f":"IF(解答!D20=\"\",\"\",IF(M22=解答!D20,1,0))","v":""},{"$f":"IF(解答!E20=\"\",\"\",IF(N22=解答!E20,1,0))","v":""},{"$f":"IF(解答!F20=\"\",\"\",IF(O22=解答!F20,1,0))","v":""},{"$f":"IF(解答!G20=\"\",\"\",IF(P22=解答!G20,1,0))","v":""},{"$f":"IF(解答!H20=\"\",\"\",IF(Q22=解答!H20,1,0))","v":""},{"$f":"IF(解答!I20=\"\",\"\",IF(R22=解答!I20,1,0))","v":""},{"$f":"IF(解答!J20=\"\",\"\",IF(S22=解答!J20,1,0))","v":""},{"$f":"IF(解答!K20=\"\",\"\",IF(T22=解答!K20,1,0))","v":""},{"$f":"IF(解答!B20=\"\",\"\",SUM(U22:AD22))","v":""}]
[20,null,null,null,null,null,null,null,null,0,null,null,null,null,null,null,null,null,null,null,{"$f":"IF(解答!B21=\"\",\"\",IF(K23=解答!B21,1,0))","v":""},{"$f":"IF(解答!C21=\"\",\"\",IF(L23=解答!C21,1,0))","v":""},{"$f":"IF(解答!D21=\"\",\"\",IF(M23=解答!D21,1,0))","v":""},{"$f":"IF(解答!E21=\"\",\"\",IF(N23=解答!E21,1,0))","v":""},{"$f":"IF(解答!F21=\"\",\"\",IF(O23=解答!F21,1,0))","v":""},{"$f":"IF(解答!G21=\"\",\"\",IF(P23=解答!G21,1,0))","v":""},{"$f":"IF(解答!H21=\"\",\"\",IF(Q23=解答!H21,1,0))","v":""},{"$f":"IF(解答!I21=\"\",\"\",IF(R23=解答!I21,1,0))","v":""},{"$f":"IF(解答!J21=\"\",\"\",IF(S23=解答!J21,1,0))","v":""},{"$f":"IF(解答!K21=\"\",\"\",IF(T23=解答!K21,1,0))","v":""},{"$f":"IF(解答!B21=\"\",\"\",SUM(U23:AD23))","v":""}]
[21,null,null,null,null,null,null,null,null,0,null,null,null,null,null,null,null,null,null,null,{"$f":"IF(解答!B22=\"\",\"\",IF(K24=解答!B22,1,0))","v":""},{"$f":"IF(解答!C22=\"\",\"\",IF(L24=解答!C22,1,0))","v":""},{"$f":"IF(解答!D22=\"\",\"\",IF(M24=解答!D22,1,0))","v":""},{"$f":"IF(解答!E22=\"\",\"\",IF(N24=解答!E22,1,0))","v":""},{"$f":"IF(解答!F22=\"\",\"\",IF(O24=解答!F22,1,0))","v":""},{"$f":"IF(解答!G22=\"\",\"\",IF(P24=解答!G22,1,0))","v":""},{"$f":"IF(解答!H22=\"\",\"\",IF(Q24=解答!H22,1,0))","v":""},{"$f":"IF(解答!I22=\"\",\"\",IF(R24=解答!I22,1,0))","v":""},{"$f":"IF(解答!J22=\"\",\"\",IF(S24=解答!J22,1,0))","v":""},{"$f":"IF(解答!K22=\"\",\"\",IF(T24=解答!K22,1,0))","v":""},{"$f":"IF(解答!B22=\"\",\"\",SUM(U24:AD24))","v":""}]
[22,null,null,null,null,null,null,null,null,0,null,null,null,null,null,null,null,null,null,null,{"$f":"IF(解答!B23=\"\",\"\",IF(K25=解答!B23,1,0))","v":""},{"$f":"IF(解答!C23=\"\",\"\",IF(L25=解答!C23,1,0))","v":""},{"$f":"IF(解答!D23=\"\",\"\",IF(M25=解答!D23,1,0))","v":""},{"$f":"IF(解答!E23=\"\",\"\",IF(N25=解答!E23,1,0))","v":""},{"$f":"IF(解答!F23=\"\",\"\",IF(O25=解答!F23,1,0))","v":""},{"$f":"IF(解答!G23=\"\",\"\",IF(P25=解答!G23,1,0))","v":""},{"$f":"IF(解答!H23=\"\",\"\",IF(Q25=解答!H23,1,0))","v":""},{"$f":"IF(解答!I23=\"\",\"\",IF(R25=解答!I23,1,0))","v":""},{"$f":"IF(解答!J23=\"\",\"\",IF(S25=解答!J23,1,0))","v":""},{"$f":"IF(解答!K23=\"\",\"\",IF(T25=解答!K23,1,0))","v":""},{"$f":"IF(解答!B23=\"\",\"\",SUM(U25:AD25))","v":""}]
[23,null,null,null,null,null,null,null,null,0,null,null,null,null,null,null,null,null,null,null,{"$f":"IF(解答!B24=\"\",\"\",IF(K26=解答!B24,1,0))","v":""},{"$f":"IF(解答!C24=\"\",\"\",IF(L26=解答!C24,1,0))","v":""},{"$f":"IF(解答!D24=\"\",\"\",IF(M26=解答!D24,1,0))","v":""},{"$f":"IF(解答!E24=\"\",\"\",IF(N26=解答!E24,1,0))","v":""},{"$f":"IF(解答!F24=\"\",\"\",IF(O26=解答!F24,1,0))","v":""},{"$f":"IF(解答!G24=\"\",\"\",IF(P26=解答!G24,1,0))","v":""},{"$f":"IF(解答!H24=\"\",\"\",IF(Q26=解答!H24,1,0))","v":""},{"$f":"IF(解答!I24=\"\",\"\",IF(R26=解答!I24,1,0))","v":""},{"$f":"IF(解答!J24=\"\",\"\",IF(S26=解答!J24,1,0))","v":""},{"$f":"IF(解答!K24=\"\",\"\",IF(T26=解答!K24,1,0))","v":""},{"$f":"IF(解答!B24=\"\",\"\",SUM(U26:AD26))","v":""}]
[24,null,null,null,null,null,null,null,null,0,null,null,null,null,null,null,null,null,null,null,{"$f":"IF(解答!B25=\"\",\"\",IF(K27=解答!B25,1,0))","v":""},{"$f":"IF(解答!C25=\"\",\"\",IF(L27=解答!C25,1,0))","v":""},{"$f":"IF(解答!D25=\"\",\"\",IF(M27=解答!D25,1,0))","v":""},{"$f":"IF(解答!E25=\"\",\"\",IF(N27=解答!E25,1,0))","v":""},{"$f":"IF(解答!F25=\"\",\"\",IF(O27=解答!F25,1,0))","v":""},{"$f":"IF(解答!G25=\"\",\"\",IF(P27=解答!G25,1,0))","v":""},{"$f":"IF(解答!H25=\"\",\"\",IF(Q27=解答!H25,1,0))","v":""},{"$f":"IF(解答!I25=\"\",\"\",IF(R27=解答!I25,1,0))","v":""},{"$f":"IF(解答!J25=\"\",\"\",IF(S27=解答!J25,1,0))","v":""},{"$f":"IF(解答!K25=\"\",\"\",IF(T27=解答!K25,1,0))","v":""},{"$f":"IF(解答!B25=\"\",\"\",SUM(U27:AD27))","v":""}]
[25,null,null,null,null,null,null,null,null,0,null,null,null,null,null,null,null,null,null,null,{"$f":"IF(解答!B26=\"\",\"\",IF(K28=解答!B26,1,0))","v":""},{"$f":"IF(解答!C26=\"\",\"\",IF(L28=解答!C26,1,0))","v":""},{"$f":"IF(解答!D26=\"\",\"\",IF(M28=解答!D26,1,0))","v":""},{"$f":"IF(解答!E26=\"\",\"\",IF(N28=解答!E26,1,0))","v":""},{"$f":"IF(解答!F26=\"\",\"\",IF(O28=解答!F26,1,0))","v":""},{"$f":"IF(解答!G26=\"\",\"\",IF(P28=解答!G26,1,0))","v":""},{"$f":"IF(解答!H26=\"\",\"\",IF(Q28=解答!H26,1,0))","v":""},{"$f":"IF(解答!I26=\"\",\"\",IF(R28=解答!I26,1,0))","v":""},{"$f":"IF(解答!J26=\"\",\"\",IF(S28=解答!J26,1,0))","v":""},{"$f":"IF(解答!K26=\"\",\"\",IF(T28=解答!K26,1,0))","v":""},{"$f":"IF(解答!B26=\"\",\"\",SUM(U28:AD28))","v":""}]
[26,null,null,null,null,null,null,null,null,0,null,null,null,null,null,null,null,null,null,null,{"$f":"IF(解答!B27=\"\",\"\",IF(K29=解答!B27,1,0))","v":""},{"$f":"IF(解答!C27=\"\",\"\",IF(L29=解答!C27,1,0))","v":""},{"$f":"IF(解答!D27=\"\",\"\",IF(M29=解答!D27,1,0))","v":""},{"$f":"IF(解答!E27=\"\",\"\",IF(N29=解答!E27,1,0))","v":""},{"$f":"IF(解答!F27=\"\",\"\",IF(O29=解答!F27,1,0))","v":""},{"$f":"IF(解答!G27=\"\",\"\",IF(P29=解答!G27,1,0))","v":""},{"$f":"IF(解答!H27=\"\",\"\",IF(Q29=解答!H27,1,0))","v":""},{"$f":"IF(解答!I27=\"\",\"\",IF(R29=解答!I27,1,0))","v":""},{"$f":"IF(解答!J27=\"\",\"\",IF(S29=解答!J27,1,0))","v":""},{"$f":"IF(解答!K27=\"\",\"\",IF(T29=解答!K27,1,0))","v":""},{"$f":"IF(解答!B27=\"\",\"\",SUM(U29:AD29))","v":""}]
[27,null,null,null,null,null,null,null,null,0,null,null,null,null,null,null,null,null,null,null,{"$f":"IF(解答!B28=\"\",\"\",IF(K30=解答!B28,1,0))","v":""},{"$f":"IF(解答!C28=\"\",\"\",IF(L30=解答!C28,1,0))","v":""},{"$f":"IF(解答!D28=\"\",\"\",IF(M30=解答!D28,1,0))","v":""},{"$f":"IF(解答!E28=\"\",\"\",IF(N30=解答!E28,1,0))","v":""},{"$f":"IF(解答!F28=\"\",\"\",IF(O30=解答!F28,1,0))","v":""},{"$f":"IF(解答!G28=\"\",\"\",IF(P30=解答!G28,1,0))","v":""},{"$f":"IF(解答!H28=\"\",\"\",IF(Q30=解答!H28,1,0))","v":""},{"$f":"IF(解答!I28=\"\",\"\",IF(R30=解答!I28,1,0))","v":""},{"$f":"IF(解答!J28=\"\",\"\",IF(S30=解答!J28,1,0))","v":""},{"$f":"IF(解答!K28=\"\",\"\",IF(T30=解答!K28,1,0))","v":""},{"$f":"IF(解答!B28=\"\",\"\",SUM(U30:AD30))","v":""}]
[28,null,null,null,null,null,null,null,null,0,null,null,null,null,null,null,null,null,null,null,{"$f":"IF(解答!B29=\"\",\"\",IF(K31=解答!B29,1,0))","v":""},{"$f":"IF(解答!C29=\"\",\"\",IF(L31=解答!C29,1,0))","v":""},{"$f":"IF(解答!D29=\"\",\"\",IF(M31=解答!D29,1,0))","v":""},{"$f":"IF(解答!E29=\"\",\"\",IF(N31=解答!E29,1,0))","v":""},{"$f":"IF(解答!F29=\"\",\"\",IF(O31=解答!F29,1,0))","v":""},{"$f":"IF(解答!G29=\"\",\"\",IF(P31=解答!G29,1,0))","v":""},{"$f":"IF(解答!H29=\"\",\"\",IF(Q31=解答!H29,1,0))","v":""},{"$f":"IF(解答!I29=\"\",\"\",IF(R31=解答!I29,1,0))","v":""},{"$f":"IF(解答!J29=\"\",\"\",IF(S31=解答!J29,1,0))","v":""},{"$f":"IF(解答!K29=\"\",\"\",IF(T31=解答!K29,1,0))","v":""},{"$f":"IF(解答!B29=\"\",\"\",SUM(U31:AD31))","v":""}]
[29,null,null,null,null,null,null,null,null,0,null,null,null,null,null,null,null,null,null,null,{"$f":"IF(解答!B30=\"\",\"\",IF(K32=解答!B30,1,0))","v":""},{"$f":"IF(解答!C30=\"\",\"\",IF(L32=解答!C30,1,0))","v":""},{"$f":"IF(解答!D30=\"\",\"\",IF(M32=解答!D30,1,0))","v":""},{"$f":"IF(解答!E30=\"\",\"\",IF(N32=解答!E30,1,0))","v":""},{"$f":"IF(解答!F30=\"\",\"\",IF(O32=解答!F30,1,0))","v":""},{"$f":"IF(解答!G30=\"\",\"\",IF(P32=解答!G30,1,0))","v":""},{"$f":"IF(解答!H30=\"\",\"\",IF(Q32=解答!H30,1,0))","v":""},{"$f":"IF(解答!I30=\"\",\"\",IF(R32=解答!I30,1,0))","v":""},{"$f":"IF(解答!J30=\"\",\"\",IF(S32=解答!J30,1,0))","v":""},{"$f":"IF(解答!K30=\"\",\"\",IF(T32=解答!K30,1,0))","v":""},{"$f":"IF(解答!B30=\"\",\"\",SUM(U32:AD32))","v":""}]
[30,null,null,null,null,null,null,null,null,0,null,null,null,null,null,null,null,null,null,null,{"$f":"IF(解答!B31=\"\",\"\",IF(K33=解答!B31,1,0))","v":""},{"$f":"IF(解答!C31=\"\",\"\",IF(L33=解答!C31,1,0))","v":""},{"$f":"IF(解答!D31=\"\",\"\",IF(M33=解答!D31,1,0))","v":""},{"$f":"IF(解答!E31=\"\",\"\",IF(N33=解答!E31,1,0))","v":""},{"$f":"IF(解答!F31=\"\",\"\",IF(O33=解答!F31,1,0))","v":""},{"$f":"IF(解答!G31=\"\",\"\",IF(P33=解答!G31,1,0))","v":""},{"$f":"IF(解答!H31=\"\",\"\",IF(Q33=解答!H31,1,0))","v":""},{"$f":"IF(解答!I31=\"\",\"\",IF(R33=解答!I31,1,0))","v":""},{"$f":"IF(解答!J31=\"\",\"\",IF(S33=解答!J31,1,0))","v":""},{"$f":"IF(解答!K31=\"\",\"\",IF(T33=解答!K31,1,0))","v":""},{"$f":"IF(解答!B31=\"\",\"\",SUM(U33:AD33))","v":""}]
[31,null,null,null,null,null,null,null,null,0,null,null,null,null,null,null,null,null,null,null,{"$f":"IF(解答!B32=\"\",\"\",IF(K34=解答!B32,1,0))","v":""},{"$f":"IF(解答!C32=\"\",\"\",IF(L34=解答!C32,1,0))","v":""},{"$f":"IF(解答!D32=\"\",\"\",IF(M34=解答!D32,1,0))","v":""},{"$f":"IF(解答!E32=\"\",\"\",IF(N34=解答!E32,1,0))","v":""},{"$f":"IF(解答!F32=\"\",\"\",IF(O34=解答!F32,1,0))","v":""},{"$f":"IF(解答!G32=\"\",\"\",IF(P34=解答!G32,1,0))","v":""},{"$f":"IF(解答!H32=\"\",\"\",IF(Q34=解答!H32,1,0))","v":""},{"$f":"IF(解答!I32=\"\",\"\",IF(R34=解答!I32,1,0))","v":""},{"$f":"IF(解答!J32=\"\",\"\",IF(S34=解答!J32,1,0))","v":""},{"$f":"IF(解答!K32=\"\",\"\",IF(T34=解答!K32,1,0))","v":""},{"$f":"IF(解答!B32=\"\",\"\",SUM(U34:AD34))","v":""}]
[32,null,null,null,null,null,null,null,null,0,null,null,null,null,null,null,null,null,null,null,{"$f":"IF(解答!B33=\"\",\"\",IF(K35=解答!B33,1,0))","v":""},{"$f":"IF(解答!C33=\"\",\"\",IF(L35=解答!C33,1,0))","v":""},{"$f":"IF(解答!D33=\"\",\"\",IF(M35=解答!D33,1,0))","v":""},{"$f":"IF(解答!E33=\"\",\"\",IF(N35=解答!E33,1,0))","v":""},{"$f":"IF(解答!F33=\"\",\"\",IF(O35=解答!F33,1,0))","v":""},{"$f":"IF(解答!G33=\"\",\"\",IF(P35=解答!G33,1,0))","v":""},{"$f":"IF(解答!H33=\"\",\"\",IF(Q35=解答!H33,1,0))","v":""},{"$f":"IF(解答!I33=\"\",\"\",IF(R35=解答!I33,1,0))","v":""},{"$f":"IF(解答!J33=\"\",\"\",IF(S35=解答!J33,1,0))","v":""},{"$f":"IF(解答!K33=\"\",\"\",IF(T35=解答!K33,1,0))","v":""},{"$f":"IF(解答!B33=\"\",\"\",SUM(U35:AD35))","v":""}]
[33,null,null,null,null,null,null,null,null,0,null,null,null,null,null,null,null,null,null,null,{"$f":"IF(解答!B34=\"\",\"\",IF(K36=解答!B34,1,0))","v":""},{"$f":"IF(解答!C34=\"\",\"\",IF(L36=解答!C34,1,0))","v":""},{"$f":"IF(解答!D34=\"\",\"\",IF(M36=解答!D34,1,0))","v":""},{"$f":"IF(解答!E34=\"\",\"\",IF(N36=解答!E34,1,0))","v":""},{"$f":"IF(解答!F34=\"\",\"\",IF(O36=解答!F34,1,0))","v":""},{"$f":"IF(解答!G34=\"\",\"\",IF(P36=解答!G34,1,0))","v":""},{"$f":"IF(解答!H34=\"\",\"\",IF(Q36=解答!H34,1,0))","v":""},{"$f":"IF(解答!I34=\"\",\"\",IF(R36=解答!I34,1,0))","v":""},{"$f":"IF(解答!J34=\"\",\"\",IF(S36=解答!J34,1,0))","v":""},{"$f":"IF(解答!K34=\"\",\"\",IF(T36=解答!K34,1,0))","v":""},{"$f":"IF(解答!B34=\"\",\"\",SUM(U36:AD36))","v":""}]
[34,null,null,null,null,null,null,null,null,0,null,null,null,null,null,null,null,null,null,null,{"$f":"IF(解答!B35=\"\",\"\",IF(K37=解答!B35,1,0))","v":""},{"$f":"IF(解答!C35=\"\",\"\",IF(L37=解答!C35,1,0))","v":""},{"$f":"IF(解答!D35=\"\",\"\",IF(M37=解答!D35,1,0))","v":""},{"$f":"IF(解答!E35=\"\",\"\",IF(N37=解答!E35,1,0))","v":""},{"$f":"IF(解答!F35=\"\",\"\",IF(O37=解答!F35,1,0))","v":""},{"$f":"IF(解答!G35=\"\",\"\",IF(P37=解答!G35,1,0))","v":""},{"$f":"IF(解答!H35=\"\",\"\",IF(Q37=解答!H35,1,0))","v":""},{"$f":"IF(解答!I35=\"\",\"\",IF(R37=解答!I35,1,0))","v":""},{"$f":"IF(解答!J35=\"\",\"\",IF(S37=解答!J35,1,0))","v":""},{"$f":"IF(解答!K35=\"\",\"\",IF(T37=解答!K35,1,0))","v":""},{"$f":"IF(解答!B35=\"\",\"\",SUM(U37:AD37))","v":""}]
[35,null,null,null,null,null,null,null,null,0,null,null,null,null,null,null,null,null,null,null,{"$f":"IF(解答!B36=\"\",\"\",IF(K38=解答!B36,1,0))","v":""},{"$f":"IF(解答!C36=\"\",\"\",IF(L38=解答!C36,1,0))","v":""},{"$f":"IF(解答!D36=\"\",\"\",IF(M38=解答!D36,1,0))","v":""},{"$f":"IF(解答!E36=\"\",\"\",IF(N38=解答!E36,1,0))","v":""},{"$f":"IF(解答!F36=\"\",\"\",IF(O38=解答!F36,1,0))","v":""},{"$f":"IF(解答!G36=\"\",\"\",IF(P38=解答!G36,1,0))","v":""},{"$f":"IF(解答!H36=\"\",\"\",IF(Q38=解答!H36,1,0))","v":""},{"$f":"IF(解答!I36=\"\",\"\",IF(R38=解答!I36,1,0))","v":""},{"$f":"IF(解答!J36=\"\",\"\",IF(S38=解答!J36,1,0))","v":""},{"$f":"IF(解答!K36=\"\",\"\",IF(T38=解答!K36,1,0))","v":""},{"$f":"IF(解答!B36=\"\",\"\",SUM(U38:AD38))","v":""}]
[36,null,null,null,null,null,null,null,null,0,null,null,null,null,null,null,null,null,null,null,{"$f":"IF(解答!B37=\"\",\"\",IF(K39=解答!B37,1,0))","v":""},{"$f":"IF(解答!C37=\"\",\"\",IF(L39=解答!C37,1,0))","v":""},{"$f":"IF(解答!D37=\"\",\"\",IF(M39=解答!D37,1,0))","v":""},{"$f":"IF(解答!E37=\"\",\"\",IF(N39=解答!E37,1,0))","v":""},{"$f":"IF(解答!F37=\"\",\"\",IF(O39=解答!F37,1,0))","v":""},{"$f":"IF(解答!G37=\"\",\"\",IF(P39=解答!G37,1,0))","v":""},{"$f":"IF(解答!H37=\"\",\"\",IF(Q39=解答!H37,1,0))","v":""},{"$f":"IF(解答!I37=\"\",\"\",IF(R39=解答!I37,1,0))","v":""},{"$f":"IF(解答!J37=\"\",\"\",IF(S39=解答!J37,1,0))","v":""},{"$f":"IF(解答!K37=\"\",\"\",IF(T39=解答!K37,1,0))","v":""},{"$f":"IF(解答!B37=\"\",\"\",SUM(U39:AD39))","v":""}]
[37,null,null,null,null,null,null,null,null,0,null,null,null,null,null,null,null,null,null,null,{"$f":"IF(解答!B38=\"\",\"\",IF(K40=解答!B38,1,0))","v":""},{"$f":"IF(解答!C38=\"\",\"\",IF(L40=解答!C38,1,0))","v":""},{"$f":"IF(解答!D38=\"\",\"\",IF(M40=解答!D38,1,0))","v":""},{"$f":"IF(解答!E38=\"\",\"\",IF(N40=解答!E38,1,0))","v":""},{"$f":"IF(解答!F38=\"\",\"\",IF(O40=解答!F38,1,0))","v":""},{"$f":"IF(解答!G38=\"\",\"\",IF(P40=解答!G38,1,0))","v":""},{"$f":"IF(解答!H38=\"\",\"\",IF(Q40=解答!H38,1,0))","v":""},{"$f":"IF(解答!I38=\"\",\"\",IF(R40=解答!I38,1,0))","v":""},{"$f":"IF(解答!J38=\"\",\"\",IF(S40=解答!J38,1,0))","v":""},{"$f":"IF(解答!K38=\"\",\"\",IF(T40=解答!K38,1,0))","v":""},{"$f":"IF(解答!B38=\"\",\"\",SUM(U40:AD40))","v":""}]
[38,null,null,null,null,null,null,null,null,0,null,null,null,null,null,null,null,null,null,null,{"$f":"IF(解答!B39=\"\",\"\",IF(K41=解答!B39,1,0))","v":""},{"$f":"IF(解答!C39=\"\",\"\",IF(L41=解答!C39,1,0))","v":""},{"$f":"IF(解答!D39=\"\",\"\",IF(M41=解答!D39,1,0))","v":""},{"$f":"IF(解答!E39=\"\",\"\",IF(N41=解答!E39,1,0))","v":""},{"$f":"IF(解答!F39=\"\",\"\",IF(O41=解答!F39,1,0))","v":""},{"$f":"IF(解答!G39=\"\",\"\",IF(P41=解答!G39,1,0))","v":""},{"$f":"IF(解答!H39=\"\",\"\",IF(Q41=解答!H39,1,0))","v":""},{"$f":"IF(解答!I39=\"\",\"\",IF(R41=解答!I39,1,0))","v":""},{"$f":"IF(解答!J39=\"\",\"\",IF(S41=解答!J39,1,0))","v":""},{"$f":"IF(解答!K39=\"\",\"\",IF(T41=解答!K39,1,0))","v":""},{"$f":"IF(解答!B39=\"\",\"\",SUM(U41:AD41))","v":""}]
[39,null,null,null,null,null,null,null,null,0,null,null,null,null,null,null,null,null,null,null,{"$f":"IF(解答!B40=\"\",\"\",IF(K42=解答!B40,1,0))","v":""},{"$f":"IF(解答!C40=\"\",\"\",IF(L42=解答!C40,1,0))","v":""},{"$f":"IF(解答!D40=\"\",\"\",IF(M42=解答!D40,1,0))","v":""},{"$f":"IF(解答!E40=\"\",\"\",IF(N42=解答!E40,1,0))","v":""},{"$f":"IF(解答!F40=\"\",\"\",IF(O42=解答!F40,1,0))","v":""},{"$f":"IF(解答!G40=\"\",\"\",IF(P42=解答!G40,1,0))","v":""},{"$f":"IF(解答!H40=\"\",\"\",IF(Q42=解答!H40,1,0))","v":""},{"$f":"IF(解答!I40=\"\",\"\",IF(R42=解答!I40,1,0))","v":""},{"$f":"IF(解答!J40=\"\",\"\",IF(S42=解答!J40,1,0))","v":""},{"$f":"IF(解答!K40=\"\",\"\",IF(T42=解答!K40,1,0))","v":""},{"$f":"IF(解答!B40=\"\",\"\",SUM(U42:AD42))","v":""}]
[40,null,null,null,null,null,null,null,null,0,null,null,null,null,null,null,null,null,null,null,{"$f":"IF(解答!B41=\"\",\"\",IF(K43=解答!B41,1,0))","v":""},{"$f":"IF(解答!C41=\"\",\"\",IF(L43=解答!C41,1,0))","v":""},{"$f":"IF(解答!D41=\"\",\"\",IF(M43=解答!D41,1,0))","v":""},{"$f":"IF(解答!E41=\"\",\"\",IF(N43=解答!E41,1,0))","v":""},{"$f":"IF(解答!F41=\"\",\"\",IF(O43=解答!F41,1,0))","v":""},{"$f":"IF(解答!G41=\"\",\"\",IF(P43=解答!G41,1,0))","v":""},{"$f":"IF(解答!H41=\"\",\"\",IF(Q43=解答!H41,1,0))","v":""},{"$f":"IF(解答!I41=\"\",\"\",IF(R43=解答!I41,1,0))","v":""},{"$f":"IF(解答!J41=\"\",\"\",IF(S43=解答!J41,1,0))","v":""},{"$f":"IF(解答!K41=\"\",\"\",IF(T43=解答!K41,1,0))","v":""},{"$f":"IF(解答!B41=\"\",\"\",SUM(U43:AD43))","v":""}]
[41,null,null,null,null,null,null,null,null,0,null,null,null,null,null,null,null,null,null,null,{"$f":"IF(解答!B42=\"\",\"\",IF(K44=解答!B42,1,0))","v":""},{"$f":"IF(解答!C42=\"\",\"\",IF(L44=解答!C42,1,0))","v":""},{"$f":"IF(解答!D42=\"\",\"\",IF(M44=解答!D42,1,0))","v":""},{"$f":"IF(解答!E42=\"\",\"\",IF(N44=解答!E42,1,0))","v":""},{"$f":"IF(解答!F42=\"\",\"\",IF(O44=解答!F42,1,0))","v":""},{"$f":"IF(解答!G42=\"\",\"\",IF(P44=解答!G42,1,0))","v":""},{"$f":"IF(解答!H42=\"\",\"\",IF(Q44=解答!H42,1,0))","v":""},{"$f":"IF(解答!I42=\"\",\"\",IF(R44=解答!I42,1,0))","v":""},{"$f":"IF(解答!J42=\"\",\"\",IF(S44=解答!J42,1,0))","v":""},{"$f":"IF(解答!K42=\"\",\"\",IF(T44=解答!K42,1,0))","v":""},{"$f":"IF(解答!B42=\"\",\"\",SUM(U44:AD44))","v":""}]
[42,null,null,null,null,null,null,null,null,0,null,null,null,null,null,null,null,null,null,null,{"$f":"IF(解答!B43=\"\",\"\",IF(K45=解答!B43,1,0))","v":""},{"$f":"IF(解答!C43=\"\",\"\",IF(L45=解答!C43,1,0))","v":""},{"$f":"IF(解答!D43=\"\",\"\",IF(M45=解答!D43,1,0))","v":""},{"$f":"IF(解答!E43=\"\",\"\",IF(N45=解答!E43,1,0))","v":""},{"$f":"IF(解答!F43=\"\",\"\",IF(O45=解答!F43,1,0))","v":""},{"$f":"IF(解答!G43=\"\",\"\",IF(P45=解答!G43,1,0))","v":""},{"$f":"IF(解答!H43=\"\",\"\",IF(Q45=解答!H43,1,0))","v":""},{"$f":"IF(解答!I43=\"\",\"\",IF(R45=解答!I43,1,0))","v":""},{"$f":"IF(解答!J43=\"\",\"\",IF(S45=解答!J43,1,0))","v":""},{"$f":"IF(解答!K43=\"\",\"\",IF(T45=解答!K43,1,0))","v":""},{"$f":"IF(解答!B43=\"\",\"\",SUM(U45:AD45))","v":""}]
[43,null,null,null,null,null,null,null,null,0,null,null,null,null,null,null,null,null,null,null,{"$f":"IF(解答!B44=\"\",\"\",IF(K46=解答!B44,1,0))","v":""},{"$f":"IF(解答!C44=\"\",\"\",IF(L46=解答!C44,1,0))","v":""},{"$f":"IF(解答!D44=\"\",\"\",IF(M46=解答!D44,1,0))","v":""},{"$f":"IF(解答!E44=\"\",\"\",IF(N46=解答!E44,1,0))","v":""},{"$f":"IF(解答!F44=\"\",\"\",IF(O46=解答!F44,1,0))","v":""},{"$f":"IF(解答!G44=\"\",\"\",IF(P46=解答!G44,1,0))","v":""},{"$f":"IF(解答!H44=\"\",\"\",IF(Q46=解答!H44,1,0))","v":""},{"$f":"IF(解答!I44=\"\",\"\",IF(R46=解答!I44,1,0))","v":""},{"$f":"IF(解答!J44=\"\",\"\",IF(S46=解答!J44,1,0))","v":""},{"$f":"IF(解答!K44=\"\",\"\",IF(T46=解答!K44,1,0))","v":""},{"$f":"IF(解答!B44=\"\",\"\",SUM(U46:AD46))","v":""}]
[44,null,null,null,null,null,null,null,null,0,null,null,null,null,null,null,null,null,null,null,{"$f":"IF(解答!B45=\"\",\"\",IF(K47=解答!B45,1,0))","v":""},{"$f":"IF(解答!C45=\"\",\"\",IF(L47=解答!C45,1,0))","v":""},{"$f":"IF(解答!D45=\"\",\"\",IF(M47=解答!D45,1,0))","v":""},{"$f":"IF(解答!E45=\"\",\"\",IF(N47=解答!E45,1,0))","v":""},{"$f":"IF(解答!F45=\"\",\"\",IF(O47=解答!F45,1,0))","v":""},{"$f":"IF(解答!G45=\"\",\"\",IF(P47=解答!G45,1,0))","v":""},{"$f":"IF(解答!H45=\"\",\"\",IF(Q47=解答!H45,1,0))","v":""},{"$f":"IF(解答!I45=\"\",\"\",IF(R47=解答!I45,1,0))","v":""},{"$f":"IF(解答!J45=\"\",\"\",IF(S47=解答!J45,1,0))","v":""},{"$f":"IF(解答!K45=\"\",\"\",IF(T47=解答!K45,1,0))","v":""},{"$f":"IF(解答!B45=\"\",\"\",SUM(U47:AD47))","v":""}]
[45,null,null,null,null,null,null,null,null,0,null,null,null,null,null,null,null,null,null,null,{"$f":"IF(解答!B46=\"\",\"\",IF(K48=解答!B46,1,0))","v":""},{"$f":"IF(解答!C46=\"\",\"\",IF(L48=解答!C46,1,0))","v":""},{"$f":"IF(解答!D46=\"\",\"\",IF(M48=解答!D46,1,0))","v":""},{"$f":"IF(解答!E46=\"\",\"\",IF(N48=解答!E46,1,0))","v":""},{"$f":"IF(解答!F46=\"\",\"\",IF(O48=解答!F46,1,0))","v":""},{"$f":"IF(解答!G46=\"\",\"\",IF(P48=解答!G46,1,0))","v":""},{"$f":"IF(解答!H46=\"\",\"\",IF(Q48=解答!H46,1,0))","v":""},{"$f":"IF(解答!I46=\"\",\"\",IF(R48=解答!I46,1,0))","v":""},{"$f":"IF(解答!J46=\"\",\"\",IF(S48=解答!J46,1,0))","v":""},{"$f":"IF(解答!K46=\"\",\"\",IF(T48=解答!K46,1,0))","v":""},{"$f":"IF(解答!B46=\"\",\"\",SUM(U48:AD48))","v":""}]
[46,null,null,null,null,null,null,null,null,0,null,null,null,null,null,null,null,null,null,null,{"$f":"IF(解答!B47=\"\",\"\",IF(K49=解答!B47,1,0))","v":""},{"$f":"IF(解答!C47=\"\",\"\",IF(L49=解答!C47,1,0))","v":""},{"$f":"IF(解答!D47=\"\",\"\",IF(M49=解答!D47,1,0))","v":""},{"$f":"IF(解答!E47=\"\",\"\",IF(N49=解答!E47,1,0))","v":""},{"$f":"IF(解答!F47=\"\",\"\",IF(O49=解答!F47,1,0))","v":""},{"$f":"IF(解答!G47=\"\",\"\",IF(P49=解答!G47,1,0))","v":""},{"$f":"IF(解答!H47=\"\",\"\",IF(Q49=解答!H47,1,0))","v":""},{"$f":"IF(解答!I47=\"\",\"\",IF(R49=解答!I47,1,0))","v":""},{"$f":"IF(解答!J47=\"\",\"\",IF(S49=解答!J47,1,0))","v":""},{"$f":"IF(解答!K47=\"\",\"\",IF(T49=解答!K47,1,0))","v":""},{"$f":"IF(解答!B47=\"\",\"\",SUM(U49:AD49))","v":""}]
[47,null,null,null,null,null,null,null,null,0,null,null,null,null,null,null,null,null,null,null,{"$f":"IF(解答!B48=\"\",\"\",IF(K50=解答!B48,1,0))","v":""},{"$f":"IF(解答!C48=\"\",\"\",IF(L50=解答!C48,1,0))","v":""},{"$f":"IF(解答!D48=\"\",\"\",IF(M50=解答!D48,1,0))","v":""},{"$f":"IF(解答!E48=\"\",\"\",IF(N50=解答!E48,1,0))","v":""},{"$f":"IF(解答!F48=\"\",\"\",IF(O50=解答!F48,1,0))","v":""},{"$f":"IF(解答!G48=\"\",\"\",IF(P50=解答!G48,1,0))","v":""},{"$f":"IF(解答!H48=\"\",\"\",IF(Q50=解答!H48,1,0))","v":""},{"$f":"IF(解答!I48=\"\",\"\",IF(R50=解答!I48,1,0))","v":""},{"$f":"IF(解答!J48=\"\",\"\",IF(S50=解答!J48,1,0))","v":""},{"$f":"IF(解答!K48=\"\",\"\",IF(T50=解答!K48,1,0))","v":""},{"$f":"IF(解答!B48=\"\",\"\",SUM(U50:AD50))","v":""}]
[48,null,null,null,null,null,null,null,null,0,null,null,null,null,null,null,null,null,null,null,{"$f":"IF(解答!B49=\"\",\"\",IF(K51=解答!B49,1,0))","v":""},{"$f":"IF(解答!C49=\"\",\"\",IF(L51=解答!C49,1,0))","v":""},{"$f":"IF(解答!D49=\"\",\"\",IF(M51=解答!D49,1,0))","v":""},{"$f":"IF(解答!E49=\"\",\"\",IF(N51=解答!E49,1,0))","v":""},{"$f":"IF(解答!F49=\"\",\"\",IF(O51=解答!F49,1,0))","v":""},{"$f":"IF(解答!G49=\"\",\"\",IF(P51=解答!G49,1,0))","v":""},{"$f":"IF(解答!H49=\"\",\"\",IF(Q51=解答!H49,1,0))","v":""},{"$f":"IF(解答!I49=\"\",\"\",IF(R51=解答!I49,1,0))","v":""},{"$f":"IF(解答!J49=\"\",\"\",IF(S51=解答!J49,1,0))","v":""},{"$f":"IF(解答!K49=\"\",\"\",IF(T51=解答!K49,1,0))","v":""},{"$f":"IF(解答!B49=\"\",\"\",SUM(U51:AD51))","v":""}]
[49,null,null,null,null,null,null,null,null,0,null,null,null,null,null,null,null,null,null,null,{"$f":"IF(解答!B50=\"\",\"\",IF(K52=解答!B50,1,0))","v":""},{"$f":"IF(解答!C50=\"\",\"\",IF(L52=解答!C50,1,0))","v":""},{"$f":"IF(解答!D50=\"\",\"\",IF(M52=解答!D50,1,0))","v":""},{"$f":"IF(解答!E50=\"\",\"\",IF(N52=解答!E50,1,0))","v":""},{"$f":"IF(解答!F50=\"\",\"\",IF(O52=解答!F50,1,0))","v":""},{"$f":"IF(解答!G50=\"\",\"\",IF(P52=解答!G50,1,0))","v":""},{"$f":"IF(解答!H50=\"\",\"\",IF(Q52=解答!H50,1,0))","v":""},{"$f":"IF(解答!I50=\"\",\"\",IF(R52=解答!I50,1,0))","v":""},{"$f":"IF(解答!J50=\"\",\"\",IF(S52=解答!J50,1,0))","v":""},{"$f":"IF(解答!K50=\"\",\"\",IF(T52=解答!K50,1,0))","v":""},{"$f":"IF(解答!B50=\"\",\"\",SUM(U52:AD52))","v":""}]
[50,null,null,null,null,null,null,null,null,0,null,null,null,null,null,null,null,null,null,null,{"$f":"IF(解答!B51=\"\",\"\",IF(K53=解答!B51,1,0))","v":""},{"$f":"IF(解答!C51=\"\",\"\",IF(L53=解答!C51,1,0))","v":""},{"$f":"IF(解答!D51=\"\",\"\",IF(M53=解答!D51,1,0))","v":""},{"$f":"IF(解答!E51=\"\",\"\",IF(N53=解答!E51,1,0))","v":""},{"$f":"IF(解答!F51=\"\",\"\",IF(O53=解答!F51,1,0))","v":""},{"$f":"IF(解答!G51=\"\",\"\",IF(P53=解答!G51,1,0))","v":""},{"$f":"IF(解答!H51=\"\",\"\",IF(Q53=解答!H51,1,0))","v":""},{"$f":"IF(解答!I51=\"\",\"\",IF(R53=解答!I51,1,0))","v":""},{"$f":"IF(解答!J51=\"\",\"\",IF(S53=解答!J51,1,0))","v":""},{"$f":"IF(解答!K51=\"\",\"\",IF(T53=解答!K51,1,0))","v":""},{"$f":"IF(解答!B51=\"\",\"\",SUM(U53:AD53))","v":""}]

{"sheet":"1102","index":6,"n_rows":53,"n_cols":31,"rows_kept":53,"cut":false,"hidden":false,"merged":[[6,6,6,8],[0,0,0,3],[2,6,2,8],[3,6,3,8],[4,6,4,8],[5,6,5,8],[18,6,18,8],[7,6,7,8],[8,6,8,8],[9,6,9,8],[10,6,10,8],[11,6,11,8],[12,6,12,8],[13,6,13,8],[14,6,14,8],[15,6,15,8],[16,6,16,8],[17,6,17,8],[30,6,30,8],[19,6,19,8],[20,6,20,8],[21,6,21,8],[22,6,22,8],[23,6,23,8],[24,6,24,8],[25,6,25,8],[26,6,26,8],[27,6,27,8],[28,6,28,8],[29,6,29,8],[42,6,42,8],[31,6,31,8],[32,6,32,8],[33,6,33,8],[34,6,34,8],[35,6,35,8],[36,6,36,8],[37,6,37,8],[38,6,38,8],[39,6,39,8],[40,6,40,8],[41,6,41,8],[49,6,49,8],[50,6,50,8],[51,6,51,8],[52,6,52,8],[43,6,43,8],[44,6,44,8],[45,6,45,8],[46,6,46,8],[47,6,47,8],[48,6,48,8]]}
["学習の記録",null,null,null,null,"HRNO",1102,"氏名","新居満里奈",null,"時間数",1,"出席",{"$f":"COUNT(C4:C53)","v":1},"欠席",{"$f":"L1-N1","v":0},"総文字数",{"$f":"SUM(J4:J53)","v":34},"達成数",{"$f":"COUNTIF(J4:J53,\">=30\")","v":1}]
[]
["No","日付","出欠\n(出1,遅2,早3)","欠席者No.","ノート","評価","反省・感想・備考",null,null,"文字数","A1","A2","A3","A4","A5","A6","A7","A8","A9","A10","S1","S2","S3","S4","S5","S6","S7","S8","S9","S10","T"]
[1,"2022-04-11",1,null,"学習の記録\n情報ノートの準備\n教科書P１６～P１７",2,"久しぶりにパソコンに触れたのですが、ちゃんと覚えていてよかったです。",null,null,{"$f":"LEN(G4)","v":34},1,2,3,4,5,5,4,3,2,1,{"$f":"IF(解答!B2=\"\",\"\",IF(K4=解答!B2,1,0))","v":1},{"$f":"IF(解答!C2=\"\",\"\",IF(L4=解答!C2,1,0))","v":1},{"$f":"IF(解答!D2=\"\",\"\",IF(M4=解答!D2,1,0))","v":1},{"$f":"IF(解答!E2=\"\",\"\",IF(N4=解答!E2,1,0))","v":1},{"$f":"IF(解答!F2=\"\",\"\",IF(O4=解答!F2,1,0))","v":1},{"$f":"IF(解答!G2=\"\",\"\",IF(P4=解答!G2,1,0))","v":0},{"$f":"IF(解答!H2=\"\",\"\",IF(Q4=解答!H2,1,0))","v":0},{"$f":"IF(解答!I2=\"\",\"\",IF(R4=解答!I2,1,0))","v":0},{"$f":"IF(解答!J2=\"\",\"\",IF(S4=解答!J2,1,0))","v":0},{"$f":"IF(解答!K2=\"\",\"\",IF(T4=解答!K2,1,0))","v":0},{"$f":"SUM(U4:AD4)","v":5}]
[2,null,null,null,null,null,null,null,null,{"$f":"LEN(G5)","v":0},null,null,null,null,null,null,null,null,null,null,{"$f":"IF(解答!B3=\"\",\"\",IF(K5=解答!B3,1,0))","v":""},{"$f":"IF(解答!C3=\"\",\"\",IF(L5=解答!C3,1,0))","v":""},{"$f":"IF(解答!D3=\"\",\"\",IF(M5=解答!D3,1,0))","v":""},{"$f":"IF(解答!E3=\"\",\"\",IF(N5=解答!E3,1,0))","v":""},{"$f":"IF(解答!F3=\"\",\"\",IF(O5=解答!F3,1,0))","v":""},{"$f":"IF(解答!G3=\"\",\"\",IF(P5=解答!G3,1,0))","v":""},{"$f":"IF(解答!H3=\"\",\"\",IF(Q5=解答!H3,1,0))","v":""},{"$f":"IF(解答!I3=\"\",\"\",IF(R5=解答!I3,1,0))","v":""},{"$f":"IF(解答!J3=\"\",\"\",IF(S5=解答!J3,1,0))","v":""},{"$f":"IF(解答!K3=\"\",\"\",IF(T5=解答!K3,1,0))","v":""},{"$f":"IF(解答!B3=\"\",\"\",SUM(U5:AD5))","v":""}]
[3,null,null,null,null,null,null,null,null,0,null,null,null,null,null,null,null,null,null,null,{"$f":"IF(解答!B4=\"\",\"\",IF(K6=解答!B4,1,0))","v":""},{"$f":"IF(解答!C4=\"\",\"\",IF(L6=解答!C4,1,0))","v":""},{"$f":"IF(解答!D4=\"\",\"\",IF(M6=解答!D4,1,0))","v":""},{"$f":"IF(解答!E4=\"\",\"\",IF(N6=解答!E4,1,0))","v":""},{"$f":"IF(解答!F4=\"\",\"\",IF(O6=解答!F4,1,0))","v":""},{"$f":"IF(解答!G4=\"\",\"\",IF(P6=解答!G4,1,0))","v":""},{"$f":"IF(解答!H4=\"\",\"\",IF(Q6=解答!H4,1,0))","v":""},{"$f":"IF(解答!I4=\"\",\"\",IF(R6=解答!I4,1,0))","v":""},{"$f":"IF(解答!J4=\"\",\"\",IF(S6=解答!J4,1,0))","v":""},{"$f":"IF(解答!K4=\"\",\"\",IF(T6=解答!K4,1,0))","v":""},{"$f":"IF(解答!B4=\"\",\"\",SUM(U6:AD6))","v":""}]
[4,null,null,null,null,null,null,null,null,0,null,null,null,null,null,null,null,null,null,null,{"$f":"IF(解答!B5=\"\",\"\",IF(K7=解答!B5,1,0))","v":""},{"$f":"IF(解答!C5=\"\",\"\",IF(L7=解答!C5,1,0))","v":""},{"$f":"IF(解答!D5=\"\",\"\",IF(M7=解答!D5,1,0))","v":""},{"$f":"IF(解答!E5=\"\",\"\",IF(N7=解答!E5,1,0))","v":""},{"$f":"IF(解答!F5=\"\",\"\",IF(O7=解答!F5,1,0))","v":""},{"$f":"IF(解答!G5=\"\",\"\",IF(P7=解答!G5,1,0))","v":""},{"$f":"IF(解答!H5=\"\",\"\",IF(Q7=解答!H5,1,0))","v":""},{"$f":"IF(解答!I5=\"\",\"\",IF(R7=解答!I5,1,0))","v":""},{"$f":"IF(解答!J5=\"\",\"\",IF(S7=解答!J5,1,0))","v":""},{"$f":"IF(解答!K5=\"\",\"\",IF(T7=解答!K5,1,0))","v":""},{"$f":"IF(解答!B5=\"\",\"\",SUM(U7:AD7))","v":""}]
[5,null,null,null,null,null,null,null,null,0,null,null,null,null,null,null,null,null,null,null,{"$f":"IF(解答!B6=\"\",\"\",IF(K8=解答!B6,1,0))","v":""},{"$f":"IF(解答!C6=\"\",\"\",IF(L8=解答!C6,1,0))","v":""},{"$f":"IF(解答!D6=\"\",\"\",IF(M8=解答!D6,1,0))","v":""},{"$f":"IF(解答!E6=\"\",\"\",IF(N8=解答!E6,1,0))","v":""},{"$f":"IF(解答!F6=\"\",\"\",IF(O8=解答!F6,1,0))","v":""},{"$f":"IF(解答!G6=\"\",\"\",IF(P8=解答!G6,1,0))","v":""},{"$f":"IF(解答!H6=\"\",\"\",IF(Q8=解答!H6,1,0))","v":""},{"$f":"IF(解答!I6=\"\",\"\",IF(R8=解答!I6,1,0))","v":""},{"$f":"IF(解答!J6=\"\",\"\",IF(S8=解答!J6,1,0))","v":""},{"$f":"IF(解答!K6=\"\",\"\",IF(T8=解答!K6,1,0))","v":""},{"$f":"IF(解答!B6=\"\",\"\",SUM(U8:AD8))","v":""}]
[6,null,null,null,null,null,null,null,null,0,null,null,null,null,null,null,null,null,null,null,{"$f":"IF(解答!B7=\"\",\"\",IF(K9=解答!B7,1,0))","v":""},{"$f":"IF(解答!C7=\"\",\"\",IF(L9=解答!C7,1,0))","v":""},{"$f":"IF(解答!D7=\"\",\"\",IF(M9=解答!D7,1,0))","v":""},{"$f":"IF(解答!E7=\"\",\"\",IF(N9=解答!E7,1,0))","v":""},{"$f":"IF(解答!F7=\"\",\"\",IF(O9=解答!F7,1,0))","v":""},{"$f":"IF(解答!G7=\"\",\"\",IF(P9=解答!G7,1,0))","v":""},{"$f":"IF(解答!H7=\"\",\"\",IF(Q9=解答!H7,1,0))","v":""},{"$f":"IF(解答!I7=\"\",\"\",IF(R9=解答!I7,1,0))","v":""},{"$f":"IF(解答!J7=\"\",\"\",IF(S9=解答!J7,1,0))","v":""},{"$f":"IF(解答!K7=\"\",\"\",IF(T9=解答!K7,1,0))","v":""},{"$f":"IF(解答!B7=\"\",\"\",SUM(U9:AD9))","v":""}]
[7,null,null,null,null,null,null,null,null,0,null,null,null,null,null,null,null,null,null,null,{"$f":"IF(解答!B8=\"\",\"\",IF(K10=解答!B8,1,0))","v":""},{"$f":"IF(解答!C8=\"\",\"\",IF(L10=解答!C8,1,0))","v":""},{"$f":"IF(解答!D8=\"\",\"\",IF(M10=解答!D8,1,0))","v":""},{"$f":"IF(解答!E8=\"\",\"\",IF(N10=解答!E8,1,0))","v":""},{"$f":"IF(解答!F8=\"\",\"\",IF(O10=解答!F8,1,0))","v":""},{"$f":"IF(解答!G8=\"\",\"\",IF(P10=解答!G8,1,0))","v":""},{"$f":"IF(解答!H8=\"\",\"\",IF(Q10=解答!H8,1,0))","v":""},{"$f":"IF(解答!I8=\"\",\"\",IF(R10=解答!I8,1,0))","v":""},{"$f":"IF(解答!J8=\"\",\"\",IF(S10=解答!J8,1,0))","v":""},{"$f":"IF(解答!K8=\"\",\"\",IF(T10=解答!K8,1,0))","v":""},{"$f":"IF(解答!B8=\"\",\"\",SUM(U10:AD10))","v":""}]
[8,null,null,null,null,null,null,null,null,0,null,null,null,null,null,null,null,null,null,null,{"$f":"IF(解答!B9=\"\",\"\",IF(K11=解答!B9,1,0))","v":""},{"$f":"IF(解答!C9=\"\",\"\",IF(L11=解答!C9,1,0))","v":""},{"$f":"IF(解答!D9=\"\",\"\",IF(M11=解答!D9,1,0))","v":""},{"$f":"IF(解答!E9=\"\",\"\",IF(N11=解答!E9,1,0))","v":""},{"$f":"IF(解答!F9=\"\",\"\",IF(O11=解答!F9,1,0))","v":""},{"$f":"IF(解答!G9=\"\",\"\",IF(P11=解答!G9,1,0))","v":""},{"$f":"IF(解答!H9=\"\",\"\",IF(Q11=解答!H9,1,0))","v":""},{"$f":"IF(解答!I9=\"\",\"\",IF(R11=解答!I9,1,0))","v":""},{"$f":"IF(解答!J9=\"\",\"\",IF(S11=解答!J9,1,0))","v":""},{"$f":"IF(解答!K9=\"\",\"\",IF(T11=解答!K9,1,0))","v":""},{"$f":"IF(解答!B9=\"\",\"\",SUM(U11:AD11))","v":""}]
[9,null,null,null,null,null,null,null,null,0,null,null,null,null,null,null,null,null,null,null,{"$f":"IF(解答!B10=\"\",\"\",IF(K12=解答!B10,1,0))","v":""},{"$f":"IF(解答!C10=\"\",\"\",IF(L12=解答!C10,1,0))","v":""},{"$f":"IF(解答!D10=\"\",\"\",IF(M12=解答!D10,1,0))","v":""},{"$f":"IF(解答!E10=\"\",\"\",IF(N12=解答!E10,1,0))","v":""},{"$f":"IF(解答!F10=\"\",\"\",IF(O12=解答!F10,1,0))","v":""},{"$f":"IF(解答!G10=\"\",\"\",IF(P12=解答!G10,1,0))","v":""},{"$f":"IF(解答!H10=\"\",\"\",IF(Q12=解答!H10,1,0))","v":""},{"$f":"IF(解答!I10=\"\",\"\",IF(R12=解答!I10,1,0))","v":""},{"$f":"IF(解答!J10=\"\",\"\",IF(S12=解答!J10,1,0))","v":""},{"$f":"IF(解答!K10=\"\",\"\",IF(T12=解答!K10,1,0))","v":""},{"$f":"IF(解答!B10=\"\",\"\",SUM(U12:AD12))","v":""}]
[10,null,null,null,null,null,null,null,null,0,null,null,null,null,null,null,null,null,null,null,{"$f":"IF(解答!B11=\"\",\"\",IF(K13=解答!B11,1,0))","v":""},{"$f":"IF(解答!C11=\"\",\"\",IF(L13=解答!C11,1,0))","v":""},{"$f":"IF(解答!D11=\"\",\"\",IF(M13=解答!D11,1,0))","v":""},{"$f":"IF(解答!E11=\"\",\"\",IF(N13=解答!E11,1,0))","v":""},{"$f":"IF(解答!F11=\"\",\"\",IF(O13=解答!F11,1,0))","v":""},{"$f":"IF(解答!G11=\"\",\"\",IF(P13=解答!G11,1,0))","v":""},{"$f":"IF(解答!H11=\"\",\"\",IF(Q13=解答!H11,1,0))","v":""},{"$f":"IF(解答!I11=\"\",\"\",IF(R13=解答!I11,1,0))","v":""},{"$f":"IF(解答!J11=\"\",\"\",IF(S13=解答!J11,1,0))","v":""},{"$f":"IF(解答!K11=\"\",\"\",IF(T13=解答!K11,1,0))","v":""},{"$f":"IF(解答!B11=\"\",\"\",SUM(U13:AD13))","v":""}]
[11,null,null,null,null,null,null,null,null,0,null,null,null,null,null,null,null,null,null,null,{"$f":"IF(解答!B12=\"\",\"\",IF(K14=解答!B12,1,0))","v":""},{"$f":"IF(解答!C12=\"\",\"\",IF(L14=解答!C12,1,0))","v":""},{"$f":"IF(解答!D12=\"\",\"\",IF(M14=解答!D12,1,0))","v":""},{"$f":"IF(解答!E12=\"\",\"\",IF(N14=解答!E12,1,0))","v":""},{"$f":"IF(解答!F12=\"\",\"\",IF(O14=解答!F12,1,0))","v":""},{"$f":"IF(解答!G12=\"\",\"\",IF(P14=解答!G12,1,0))","v":""},{"$f":"IF(解答!H12=\"\",\"\",IF(Q14=解答!H12,1,0))","v":""},{"$f":"IF(解答!I12=\"\",\"\",IF(R14=解答!I12,1,0))","v":""},{"$f":"IF(解答!J12=\"\",\"\",IF(S14=解答!J12,1,0))","v":""},{"$f":"IF(解答!K12=\"\",\"\",IF(T14=解答!K12,1,0))","v":""},{"$f":"IF(解答!B12=\"\",\"\",SUM(U14:AD14))","v":""}]
[12,null,null,null,null,null,null,null,null,0,null,null,null,null,null,null,null,null,null,null,{"$f":"IF(解答!B13=\"\",\"\",IF(K15=解答!B13,1,0))","v":""},{"$f":"IF(解答!C13=\"\",\"\",IF(L15=解答!C13,1,0))","v":""},{"$f":"IF(解答!D13=\"\",\"\",IF(M15=解答!D13,1,0))","v":""},{"$f":"IF(解答!E13=\"\",\"\",IF(N15=解答!E13,1,0))","v":""},{"$f":"IF(解答!F13=\"\",\"\",IF(O15=解答!F13,1,0))","v":""},{"$f":"IF(解答!G13=\"\",\"\",IF(P15=解答!G13,1,0))","v":""},{"$f":"IF(解答!H13=\"\",\"\",IF(Q15=解答!H13,1,0))","v":""},{"$f":"IF(解答!I13=\"\",\"\",IF(R15=解答!I13,1,0))","v":""},{"$f":"IF(解答!J13=\"\",\"\",IF(S15=解答!J13,1,0))","v":""},{"$f":"IF(解答!K13=\"\",\"\",IF(T15=解答!K13,1,0))","v":""},{"$f":"IF(解答!B13=\"\",\"\",SUM(U15:AD15))","v":""}]
[13,null,null,null,null,null,null,null,null,0,null,null,null,null,null,null,null,null,null,null,{"$f":"IF(解答!B14=\"\",\"\",IF(K16=解答!B14,1,0))","v":""},{"$f":"IF(解答!C14=\"\",\"\",IF(L16=解答!C14,1,0))","v":""},{"$f":"IF(解答!D14=\"\",\"\",IF(M16=解答!D14,1,0))","v":""},{"$f":"IF(解答!E14=\"\",\"\",IF(N16=解答!E14,1,0))","v":""},{"$f":"IF(解答!F14=\"\",\"\",IF(O16=解答!F14,1,0))","v":""},{"$f":"IF(解答!G14=\"\",\"\",IF(P16=解答!G14,1,0))","v":""},{"$f":"IF(解答!H14=\"\",\"\",IF(Q16=解答!H14,1,0))","v":""},{"$f":"IF(解答!I14=\"\",\"\",IF(R16=解答!I14,1,0))","v":""},{"$f":"IF(解答!J14=\"\",\"\",IF(S16=解答!J14,1,0))","v":""},{"$f":"IF(解答!K14=\"\",\"\",IF(T16=解答!K14,1,0))","v":""},{"$f":"IF(解答!B14=\"\",\"\",SUM(U16:AD16))","v":""}]
[14,null,null,null,null,null,null,null,null,0,null,null,null,null,null,null,null,null,null,null,{"$f":"IF(解答!B15=\"\",\"\",IF(K17=解答!B15,1,0))","v":""},{"$f":"IF(解答!C15=\"\",\"\",IF(L17=解答!C15,1,0))","v":""},{"$f":"IF(解答!D15=\"\",\"\",IF(M17=解答!D15,1,0))","v":""},{"$f":"IF(解答!E15=\"\",\"\",IF(N17=解答!E15,1,0))","v":""},{"$f":"IF(解答!F15=\"\",\"\",IF(O17=解答!F15,1,0))","v":""},{"$f":"IF(解答!G15=\"\",\"\",IF(P17=解答!G15,1,0))","v":""},{"$f":"IF(解答!H15=\"\",\"\",IF(Q17=解答!H15,1,0))","v":""},{"$f":"IF(解答!I15=\"\",\"\",IF(R17=解答!I15,1,0))","v":""},{"$f":"IF(解答!J15=\"\",\"\",IF(S17=解答!J15,1,0))","v":""},{"$f":"IF(解答!K15=\"\",\"\",IF(T17=解答!K15,1,0))","v":""},{"$f":"IF(解答!B15=\"\",\"\",SUM(U17:AD17))","v":""}]
[15,null,null,null,null,null,null,null,null,0,null,null,null,null,null,null,null,null,null,null,{"$f":"IF(解答!B16=\"\",\"\",IF(K18=解答!B16,1,0))","v":""},{"$f":"IF(解答!C16=\"\",\"\",IF(L18=解答!C16,1,0))","v":""},{"$f":"IF(解答!D16=\"\",\"\",IF(M18=解答!D16,1,0))","v":""},{"$f":"IF(解答!E16=\"\",\"\",IF(N18=解答!E16,1,0))","v":""},{"$f":"IF(解答!F16=\"\",\"\",IF(O18=解答!F16,1,0))","v":""},{"$f":"IF(解答!G16=\"\",\"\",IF(P18=解答!G16,1,0))","v":""},{"$f":"IF(解答!H16=\"\",\"\",IF(Q18=解答!H16,1,0))","v":""},{"$f":"IF(解答!I16=\"\",\"\",IF(R18=解答!I16,1,0))","v":""},{"$f":"IF(解答!J16=\"\",\"\",IF(S18=解答!J16,1,0))","v":""},{"$f":"IF(解答!K16=\"\",\"\",IF(T18=解答!K16,1,0))","v":""},{"$f":"IF(解答!B16=\"\",\"\",SUM(U18:AD18))","v":""}]
[16,null,null,null,null,null,null,null,null,0,null,null,null,null,null,null,null,null,null,null,{"$f":"IF(解答!B17=\"\",\"\",IF(K19=解答!B17,1,0))","v":""},{"$f":"IF(解答!C17=\"\",\"\",IF(L19=解答!C17,1,0))","v":""},{"$f":"IF(解答!D17=\"\",\"\",IF(M19=解答!D17,1,0))","v":""},{"$f":"IF(解答!E17=\"\",\"\",IF(N19=解答!E17,1,0))","v":""},{"$f":"IF(解答!F17=\"\",\"\",IF(O19=解答!F17,1,0))","v":""},{"$f":"IF(解答!G17=\"\",\"\",IF(P19=解答!G17,1,0))","v":""},{"$f":"IF(解答!H17=\"\",\"\",IF(Q19=解答!H17,1,0))","v":""},{"$f":"IF(解答!I17=\"\",\"\",IF(R19=解答!I17,1,0))","v":""},{"$f":"IF(解答!J17=\"\",\"\",IF(S19=解答!J17,1,0))","v":""},{"$f":"IF(解答!K17=\"\",\"\",IF(T19=解答!K17,1,0))","v":""},{"$f":"IF(解答!B17=\"\",\"\",SUM(U19:AD19))","v":""}]
[17,null,null,null,null,null,null,null,null,0,null,null,null,null,null,null,null,null,null,null,{"$f":"IF(解答!B18=\"\",\"\",IF(K20=解答!B18,1,0))","v":""},{"$f":"IF(解答!C18=\"\",\"\",IF(L20=解答!C18,1,0))","v":""},{"$f":"IF(解答!D18=\"\",\"\",IF(M20=解答!D18,1,0))","v":""},{"$f":"IF(解答!E18=\"\",\"\",IF(N20=解答!E18,1,0))","v":""},{"$f":"IF(解答!F18=\"\",\"\",IF(O20=解答!F18,1,0))","v":""},{"$f":"IF(解答!G18=\"\",\"\",IF(P20=解答!G18,1,0))","v":""},{"$f":"IF(解答!H18=\"\",\"\",IF(Q20=解答!H18,1,0))","v":""},{"$f":"IF(解答!I18=\"\",\"\",IF(R20=解答!I18,1,0))","v":""},{"$f":"IF(解答!J18=\"\",\"\",IF(S20=解答!J18,1,0))","v":""},{"$f":"IF(解答!K18=\"\",\"\",IF(T20=解答!K18,1,0))","v":""},{"$f":"IF(解答!B18=\"\",\"\",SUM(U20:AD20))","v":""}]
[18,null,null,null,null,null,null,null,null,0,null,null,null,null,null,null,null,null,null,null,{"$f":"IF(解答!B19=\"\",\"\",IF(K21=解答!B19,1,0))","v":""},{"$f":"IF(解答!C19=\"\",\"\",IF(L21=解答!C19,1,0))","v":""},{"$f":"IF(解答!D19=\"\",\"\",IF(M21=解答!D19,1,0))","v":""},{"$f":"IF(解答!E19=\"\",\"\",IF(N21=解答!E19,1,0))","v":""},{"$f":"IF(解答!F19=\"\",\"\",IF(O21=解答!F19,1,0))","v":""},{"$f":"IF(解答!G19=\"\",\"\",IF(P21=解答!G19,1,0))","v":""},{"$f":"IF(解答!H19=\"\",\"\",IF(Q21=解答!H19,1,0))","v":""},{"$f":"IF(解答!I19=\"\",\"\",IF(R21=解答!I19,1,0))","v":""},{"$f":"IF(解答!J19=\"\",\"\",IF(S21=解答!J19,1,0))","v":""},{"$f":"IF(解答!K19=\"\",\"\",IF(T21=解答!K19,1,0))","v":""},{"$f":"IF(解答!B19=\"\",\"\",SUM(U21:AD21))","v":""}]
[19,null,null,null,null,null,null,null,null,0,null,null,null,null,null,null,null,null,null,null,{"$f":"IF(解答!B20=\"\",\"\",IF(K22=解答!B20,1,0))","v":""},{"$f":"IF(解答!C20=\"\",\"\",IF(L22=解答!C20,1,0))","v":""},{"$f":"IF(解答!D20=\"\",\"\",IF(M22=解答!D20,1,0))","v":""},{"$f":"IF(解答!E20=\"\",\"\",IF(N22=解答!E20,1,0))","v":""},{"$f":"IF(解答!F20=\"\",\"\",IF(O22=解答!F20,1,0))","v":""},{"$f":"IF(解答!G20=\"\",\"\",IF(P22=解答!G20,1,0))","v":""},{"$f":"IF(解答!H20=\"\",\"\",IF(Q22=解答!H20,1,0))","v":""},{"$f":"IF(解答!I20=\"\",\"\",IF(R22=解答!I20,1,0))","v":""},{"$f":"IF(解答!J20=\"\",\"\",IF(S22=解答!J20,1,0))","v":""},{"$f":"IF(解答!K20=\"\",\"\",IF(T22=解答!K20,1,0))","v":""},{"$f":"IF(解答!B20=\"\",\"\",SUM(U22:AD22))","v":""}]
[20,null,null,null,null,null,null,null,null,0,null,null,null,null,null,null,null,null,null,null,{"$f":"IF(解答!B21=\"\",\"\",IF(K23=解答!B21,1,0))","v":""},{"$f":"IF(解答!C21=\"\",\"\",IF(L23=解答!C21,1,0))","v":""},{"$f":"IF(解答!D21=\"\",\"\",IF(M23=解答!D21,1,0))","v":""},{"$f":"IF(解答!E21=\"\",\"\",IF(N23=解答!E21,1,0))","v":""},{"$f":"IF(解答!F21=\"\",\"\",IF(O23=解答!F21,1,0))","v":""},{"$f":"IF(解答!G21=\"\",\"\",IF(P23=解答!G21,1,0))","v":""},{"$f":"IF(解答!H21=\"\",\"\",IF(Q23=解答!H21,1,0))","v":""},{"$f":"IF(解答!I21=\"\",\"\",IF(R23=解答!I21,1,0))","v":""},{"$f":"IF(解答!J21=\"\",\"\",IF(S23=解答!J21,1,0))","v":""},{"$f":"IF(解答!K21=\"\",\"\",IF(T23=解答!K21,1,0))","v":""},{"$f":"IF(解答!B21=\"\",\"\",SUM(U23:AD23))","v":""}]
[21,null,null,null,null,null,null,null,null,0,null,null,null,null,null,null,null,null,null,null,{"$f":"IF(解答!B22=\"\",\"\",IF(K24=解答!B22,1,0))","v":""},{"$f":"IF(解答!C22=\"\",\"\",IF(L24=解答!C22,1,0))","v":""},{"$f":"IF(解答!D22=\"\",\"\",IF(M24=解答!D22,1,0))","v":""},{"$f":"IF(解答!E22=\"\",\"\",IF(N24=解答!E22,1,0))","v":""},{"$f":"IF(解答!F22=\"\",\"\",IF(O24=解答!F22,1,0))","v":""},{"$f":"IF(解答!G22=\"\",\"\",IF(P24=解答!G22,1,0))","v":""},{"$f":"IF(解答!H22=\"\",\"\",IF(Q24=解答!H22,1,0))","v":""},{"$f":"IF(解答!I22=\"\",\"\",IF(R24=解答!I22,1,0))","v":""},{"$f":"IF(解答!J22=\"\",\"\",IF(S24=解答!J22,1,0))","v":""},{"$f":"IF(解答!K22=\"\",\"\",IF(T24=解答!K22,1,0))","v":""},{"$f":"IF(解答!B22=\"\",\"\",SUM(U24:AD24))","v":""}]
[22,null,null,null,null,null,null,null,null,0,null,null,null,null,null,null,null,null,null,null,{"$f":"IF(解答!B23=\"\",\"\",IF(K25=解答!B23,1,0))","v":""},{"$f":"IF(解答!C23=\"\",\"\",IF(L25=解答!C23,1,0))","v":""},{"$f":"IF(解答!D23=\"\",\"\",IF(M25=解答!D23,1,0))","v":""},{"$f":"IF(解答!E23=\"\",\"\",IF(N25=解答!E23,1,0))","v":""},{"$f":"IF(解答!F23=\"\",\"\",IF(O25=解答!F23,1,0))","v":""},{"$f":"IF(解答!G23=\"\",\"\",IF(P25=解答!G23,1,0))","v":""},{"$f":"IF(解答!H23=\"\",\"\",IF(Q25=解答!H23,1,0))","v":""},{"$f":"IF(解答!I23=\"\",\"\",IF(R25=解答!I23,1,0))","v":""},{"$f":"IF(解答!J23=\"\",\"\",IF(S25=解答!J23,1,0))","v":""},{"$f":"IF(解答!K23=\"\",\"\",IF(T25=解答!K23,1,0))","v":""},{"$f":"IF(解答!B23=\"\",\"\",SUM(U25:AD25))","v":""}]
[23,null,null,null,null,null,null,null,null,0,null,null,null,null,null,null,null,null,null,null,{"$f":"IF(解答!B24=\"\",\"\",IF(K26=解答!B24,1,0))","v":""},{"$f":"IF(解答!C24=\"\",\"\",IF(L26=解答!C24,1,0))","v":""},{"$f":"IF(解答!D24=\"\",\"\",IF(M26=解答!D24,1,0))","v":""},{"$f":"IF(解答!E24=\"\",\"\",IF(N26=解答!E24,1,0))","v":""},{"$f":"IF(解答!F24=\"\",\"\",IF(O26=解答!F24,1,0))","v":""},{"$f":"IF(解答!G24=\"\",\"\",IF(P26=解答!G24,1,0))","v":""},{"$f":"IF(解答!H24=\"\",\"\",IF(Q26=解答!H24,1,0))","v":""},{"$f":"IF(解答!I24=\"\",\"\",IF(R26=解答!I24,1,0))","v":""},{"$f":"IF(解答!J24=\"\",\"\",IF(S26=解答!J24,1,0))","v":""},{"$f":"IF(解答!K24=\"\",\"\",IF(T26=解答!K24,1,0))","v":""},{"$f":"IF(解答!B24=\"\",\"\",SUM(U26:AD26))","v":""}]
[24,null,null,null,null,null,null,null,null,0,null,null,null,null,null,null,null,null,null,null,{"$f":"IF(解答!B25=\"\",\"\",IF(K27=解答!B25,1,0))","v":""},{"$f":"IF(解答!C25=\"\",\"\",IF(L27=解答!C25,1,0))","v":""},{"$f":"IF(解答!D25=\"\",\"\",IF(M27=解答!D25,1,0))","v":""},{"$f":"IF(解答!E25=\"\",\"\",IF(N27=解答!E25,1,0))","v":""},{"$f":"IF(解答!F25=\"\",\"\",IF(O27=解答!F25,1,0))","v":""},{"$f":"IF(解答!G25=\"\",\"\",IF(P27=解答!G25,1,0))","v":""},{"$f":"IF(解答!H25=\"\",\"\",IF(Q27=解答!H25,1,0))","v":""},{"$f":"IF(解答!I25=\"\",\"\",IF(R27=解答!I25,1,0))","v":""},{"$f":"IF(解答!J25=\"\",\"\",IF(S27=解答!J25,1,0))","v":""},{"$f":"IF(解答!K25=\"\",\"\",IF(T27=解答!K25,1,0))","v":""},{"$f":"IF(解答!B25=\"\",\"\",SUM(U27:AD27))","v":""}]
[25,null,null,null,null,null,null,null,null,0,null,null,null,null,null,null,null,null,null,null,{"$f":"IF(解答!B26=\"\",\"\",IF(K28=解答!B26,1,0))","v":""},{"$f":"IF(解答!C26=\"\",\"\",IF(L28=解答!C26,1,0))","v":""},{"$f":"IF(解答!D26=\"\",\"\",IF(M28=解答!D26,1,0))","v":""},{"$f":"IF(解答!E26=\"\",\"\",IF(N28=解答!E26,1,0))","v":""},{"$f":"IF(解答!F26=\"\",\"\",IF(O28=解答!F26,1,0))","v":""},{"$f":"IF(解答!G26=\"\",\"\",IF(P28=解答!G26,1,0))","v":""},{"$f":"IF(解答!H26=\"\",\"\",IF(Q28=解答!H26,1,0))","v":""},{"$f":"IF(解答!I26=\"\",\"\",IF(R28=解答!I26,1,0))","v":""},{"$f":"IF(解答!J26=\"\",\"\",IF(S28=解答!J26,1,0))","v":""},{"$f":"IF(解答!K26=\"\",\"\",IF(T28=解答!K26,1,0))","v":""},{"$f":"IF(解答!B26=\"\",\"\",SUM(U28:AD28))","v":""}]
[26,null,null,null,null,null,null,null,null,0,null,null,null,null,null,null,null,null,null,null,{"$f":"IF(解答!B27=\"\",\"\",IF(K29=解答!B27,1,0))","v":""},{"$f":"IF(解答!C27=\"\",\"\",IF(L29=解答!C27,1,0))","v":""},{"$f":"IF(解答!D27=\"\",\"\",IF(M29=解答!D27,1,0))","v":""},{"$f":"IF(解答!E27=\"\",\"\",IF(N29=解答!E27,1,0))","v":""},{"$f":"IF(解答!F27=\"\",\"\",IF(O29=解答!F27,1,0))","v":""},{"$f":"IF(解答!G27=\"\",\"\",IF(P29=解答!G27,1,0))","v":""},{"$f":"IF(解答!H27=\"\",\"\",IF(Q29=解答!H27,1,0))","v":""},{"$f":"IF(解答!I27=\"\",\"\",IF(R29=解答!I27,1,0))","v":""},{"$f":"IF(解答!J27=\"\",\"\",IF(S29=解答!J27,1,0))","v":""},{"$f":"IF(解答!K27=\"\",\"\",IF(T29=解答!K27,1,0))","v":""},{"$f":"IF(解答!B27=\"\",\"\",SUM(U29:AD29))","v":""}]
[27,null,null,null,null,null,null,null,null,0,null,null,null,null,null,null,null,null,null,null,{"$f":"IF(解答!B28=\"\",\"\",IF(K30=解答!B28,1,0))","v":""},{"$f":"IF(解答!C28=\"\",\"\",IF(L30=解答!C28,1,0))","v":""},{"$f":"IF(解答!D28=\"\",\"\",IF(M30=解答!D28,1,0))","v":""},{"$f":"IF(解答!E28=\"\",\"\",IF(N30=解答!E28,1,0))","v":""},{"$f":"IF(解答!F28=\"\",\"\",IF(O30=解答!F28,1,0))","v":""},{"$f":"IF(解答!G28=\"\",\"\",IF(P30=解答!G28,1,0))","v":""},{"$f":"IF(解答!H28=\"\",\"\",IF(Q30=解答!H28,1,0))","v":""},{"$f":"IF(解答!I28=\"\",\"\",IF(R30=解答!I28,1,0))","v":""},{"$f":"IF(解答!J28=\"\",\"\",IF(S30=解答!J28,1,0))","v":""},{"$f":"IF(解答!K28=\"\",\"\",IF(T30=解答!K28,1,0))","v":""},{"$f":"IF(解答!B28=\"\",\"\",SUM(U30:AD30))","v":""}]
[28,null,null,null,null,null,null,null,null,0,null,null,null,null,null,null,null,null,null,null,{"$f":"IF(解答!B29=\"\",\"\",IF(K31=解答!B29,1,0))","v":""},{"$f":"IF(解答!C29=\"\",\"\",IF(L31=解答!C29,1,0))","v":""},{"$f":"IF(解答!D29=\"\",\"\",IF(M31=解答!D29,1,0))","v":""},{"$f":"IF(解答!E29=\"\",\"\",IF(N31=解答!E29,1,0))","v":""},{"$f":"IF(解答!F29=\"\",\"\",IF(O31=解答!F29,1,0))","v":""},{"$f":"IF(解答!G29=\"\",\"\",IF(P31=解答!G29,1,0))","v":""},{"$f":"IF(解答!H29=\"\",\"\",IF(Q31=解答!H29,1,0))","v":""},{"$f":"IF(解答!I29=\"\",\"\",IF(R31=解答!I29,1,0))","v":""},{"$f":"IF(解答!J29=\"\",\"\",IF(S31=解答!J29,1,0))","v":""},{"$f":"IF(解答!K29=\"\",\"\",IF(T31=解答!K29,1,0))","v":""},{"$f":"IF(解答!B29=\"\",\"\",SUM(U31:AD31))","v":""}]
[29,null,null,null,null,null,null,null,null,0,null,null,null,null,null,null,null,null,null,null,{"$f":"IF(解答!B30=\"\",\"\",IF(K32=解答!B30,1,0))","v":""},{"$f":"IF(解答!C30=\"\",\"\",IF(L32=解答!C30,1,0))","v":""},{"$f":"IF(解答!D30=\"\",\"\",IF(M32=解答!D30,1,0))","v":""},{"$f":"IF(解答!E30=\"\",\"\",IF(N32=解答!E30,1,0))","v":""},{"$f":"IF(解答!F30=\"\",\"\",IF(O32=解答!F30,1,0))","v":""},{"$f":"IF(解答!G30=\"\",\"\",IF(P32=解答!G30,1,0))","v":""},{"$f":"IF(解答!H30=\"\",\"\",IF(Q32=解答!H30,1,0))","v":""},{"$f":"IF(解答!I30=\"\",\"\",IF(R32=解答!I30,1,0))","v":""},{"$f":"IF(解答!J30=\"\",\"\",IF(S32=解答!J30,1,0))","v":""},{"$f":"IF(解答!K30=\"\",\"\",IF(T32=解答!K30,1,0))","v":""},{"$f":"IF(解答!B30=\"\",\"\",SUM(U32:AD32))","v":""}]
[30,null,null,null,null,null,null,null,null,0,null,null,null,null,null,null,null,null,null,null,{"$f":"IF(解答!B31=\"\",\"\",IF(K33=解答!B31,1,0))","v":""},{"$f":"IF(解答!C31=\"\",\"\",IF(L33=解答!C31,1,0))","v":""},{"$f":"IF(解答!D31=\"\",\"\",IF(M33=解答!D31,1,0))","v":""},{"$f":"IF(解答!E31=\"\",\"\",IF(N33=解答!E31,1,0))","v":""},{"$f":"IF(解答!F31=\"\",\"\",IF(O33=解答!F31,1,0))","v":""},{"$f":"IF(解答!G31=\"\",\"\",IF(P33=解答!G31,1,0))","v":""},{"$f":"IF(解答!H31=\"\",\"\",IF(Q33=解答!H31,1,0))","v":""},{"$f":"IF(解答!I31=\"\",\"\",IF(R33=解答!I31,1,0))","v":""},{"$f":"IF(解答!J31=\"\",\"\",IF(S33=解答!J31,1,0))","v":""},{"$f":"IF(解答!K31=\"\",\"\",IF(T33=解答!K31,1,0))","v":""},{"$f":"IF(解答!B31=\"\",\"\",SUM(U33:AD33))","v":""}]
[31,null,null,null,null,null,null,null,null,0,null,null,null,null,null,null,null,null,null,null,{"$f":"IF(解答!B32=\"\",\"\",IF(K34=解答!B32,1,0))","v":""},{"$f":"IF(解答!C32=\"\",\"\",IF(L34=解答!C32,1,0))","v":""},{"$f":"IF(解答!D32=\"\",\"\",IF(M34=解答!D32,1,0))","v":""},{"$f":"IF(解答!E32=\"\",\"\",IF(N34=解答!E32,1,0))","v":""},{"$f":"IF(解答!F32=\"\",\"\",IF(O34=解答!F32,1,0))","v":""},{"$f":"IF(解答!G32=\"\",\"\",IF(P34=解答!G32,1,0))","v":""},{"$f":"IF(解答!H32=\"\",\"\",IF(Q34=解答!H32,1,0))","v":""},{"$f":"IF(解答!I32=\"\",\"\",IF(R34=解答!I32,1,0))","v":""},{"$f":"IF(解答!J32=\"\",\"\",IF(S34=解答!J32,1,0))","v":""},{"$f":"IF(解答!K32=\"\",\"\",IF(T34=解答!K32,1,0))","v":""},{"$f":"IF(解答!B32=\"\",\"\",SUM(U34:AD34))","v":""}]
[32,null,null,null,null,null,null,null,null,0,null,null,null,null,null,null,null,null,null,null,{"$f":"IF(解答!B33=\"\",\"\",IF(K35=解答!B33,1,0))","v":""},{"$f":"IF(解答!C33=\"\",\"\",IF(L35=解答!C33,1,0))","v":""},{"$f":"IF(解答!D33=\"\",\"\",IF(M35=解答!D33,1,0))","v":""},{"$f":"IF(解答!E33=\"\",\"\",IF(N35=解答!E33,1,0))","v":""},{"$f":"IF(解答!F33=\"\",\"\",IF(O35=解答!F33,1,0))","v":""},{"$f":"IF(解答!G33=\"\",\"\",IF(P35=解答!G33,1,0))","v":""},{"$f":"IF(解答!H33=\"\",\"\",IF(Q35=解答!H33,1,0))","v":""},{"$f":"IF(解答!I33=\"\",\"\",IF(R35=解答!I33,1,0))","v":""},{"$f":"IF(解答!J33=\"\",\"\",IF(S35=解答!J33,1,0))","v":""},{"$f":"IF(解答!K33=\"\",\"\",IF(T35=解答!K33,1,0))","v":""},{"$f":"IF(解答!B33=\"\",\"\",SUM(U35:AD35))","v":""}]
[33,null,null,null,null,null,null,null,null,0,null,null,null,null,null,null,null,null,null,null,{"$f":"IF(解答!B34=\"\",\"\",IF(K36=解答!B34,1,0))","v":""},{"$f":"IF(解答!C34=\"\",\"\",IF(L36=解答!C34,1,0))","v":""},{"$f":"IF(解答!D34=\"\",\"\",IF(M36=解答!D34,1,0))","v":""},{"$f":"IF(解答!E34=\"\",\"\",IF(N36=解答!E34,1,0))","v":""},{"$f":"IF(解答!F34=\"\",\"\",IF(O36=解答!F34,1,0))","v":""},{"$f":"IF(解答!G34=\"\",\"\",IF(P36=解答!G34,1,0))","v":""},{"$f":"IF(解答!H34=\"\",\"\",IF(Q36=解答!H34,1,0))","v":""},{"$f":"IF(解答!I34=\"\",\"\",IF(R36=解答!I34,1,0))","v":""},{"$f":"IF(解答!J34=\"\",\"\",IF(S36=解答!J34,1,0))","v":""},{"$f":"IF(解答!K34=\"\",\"\",IF(T36=解答!K34,1,0))","v":""},{"$f":"IF(解答!B34=\"\",\"\",SUM(U36:AD36))","v":""}]
[34,null,null,null,null,null,null,null,null,0,null,null,null,null,null,null,null,null,null,null,{"$f":"IF(解答!B35=\"\",\"\",IF(K37=解答!B35,1,0))","v":""},{"$f":"IF(解答!C35=\"\",\"\",IF(L37=解答!C35,1,0))","v":""},{"$f":"IF(解答!D35=\"\",\"\",IF(M37=解答!D35,1,0))","v":""},{"$f":"IF(解答!E35=\"\",\"\",IF(N37=解答!E35,1,0))","v":""},{"$f":"IF(解答!F35=\"\",\"\",IF(O37=解答!F35,1,0))","v":""},{"$f":"IF(解答!G35=\"\",\"\",IF(P37=解答!G35,1,0))","v":""},{"$f":"IF(解答!H35=\"\",\"\",IF(Q37=解答!H35,1,0))","v":""},{"$f":"IF(解答!I35=\"\",\"\",IF(R37=解答!I35,1,0))","v":""},{"$f":"IF(解答!J35=\"\",\"\",IF(S37=解答!J35,1,0))","v":""},{"$f":"IF(解答!K35=\"\",\"\",IF(T37=解答!K35,1,0))","v":""},{"$f":"IF(解答!B35=\"\",\"\",SUM(U37:AD37))","v":""}]
[35,null,null,null,null,null,null,null,null,0,null,null,null,null,null,null,null,null,null,null,{"$f":"IF(解答!B36=\"\",\"\",IF(K38=解答!B36,1,0))","v":""},{"$f":"IF(解答!C36=\"\",\"\",IF(L38=解答!C36,1,0))","v":""},{"$f":"IF(解答!D36=\"\",\"\",IF(M38=解答!D36,1,0))","v":""},{"$f":"IF(解答!E36=\"\",\"\",IF(N38=解答!E36,1,0))","v":""},{"$f":"IF(解答!F36=\"\",\"\",IF(O38=解答!F36,1,0))","v":""},{"$f":"IF(解答!G36=\"\",\"\",IF(P38=解答!G36,1,0))","v":""},{"$f":"IF(解答!H36=\"\",\"\",IF(Q38=解答!H36,1,0))","v":""},{"$f":"IF(解答!I36=\"\",\"\",IF(R38=解答!I36,1,0))","v":""},{"$f":"IF(解答!J36=\"\",\"\",IF(S38=解答!J36,1,0))","v":""},{"$f":"IF(解答!K36=\"\",\"\",IF(T38=解答!K36,1,0))","v":""},{"$f":"IF(解答!B36=\"\",\"\",SUM(U38:AD38))","v":""}]
[36,null,null,null,null,null,null,null,null,0,null,null,null,null,null,null,null,null,null,null,{"$f":"IF(解答!B37=\"\",\"\",IF(K39=解答!B37,1,0))","v":""},{"$f":"IF(解答!C37=\"\",\"\",IF(L39=解答!C37,1,0))","v":""},{"$f":"IF(解答!D37=\"\",\"\",IF(M39=解答!D37,1,0))","v":""},{"$f":"IF(解答!E37=\"\",\"\",IF(N39=解答!E37,1,0))","v":""},{"$f":"IF(解答!F37=\"\",\"\",IF(O39=解答!F37,1,0))","v":""},{"$f":"IF(解答!G37=\"\",\"\",IF(P39=解答!G37,1,0))","v":""},{"$f":"IF(解答!H37=\"\",\"\",IF(Q39=解答!H37,1,0))","v":""},{"$f":"IF(解答!I37=\"\",\"\",IF(R39=解答!I37,1,0))","v":""},{"$f":"IF(解答!J37=\"\",\"\",IF(S39=解答!J37,1,0))","v":""},{"$f":"IF(解答!K37=\"\",\"\",IF(T39=解答!K37,1,0))","v":""},{"$f":"IF(解答!B37=\"\",\"\",SUM(U39:AD39))","v":""}]
[37,null,null,null,null,null,null,null,null,0,null,null,null,null,null,null,null,null,null,null,{"$f":"IF(解答!B38=\"\",\"\",IF(K40=解答!B38,1,0))","v":""},{"$f":"IF(解答!C38=\"\",\"\",IF(L40=解答!C38,1,0))","v":""},{"$f":"IF(解答!D38=\"\",\"\",IF(M40=解答!D38,1,0))","v":""},{"$f":"IF(解答!E38=\"\",\"\",IF(N40=解答!E38,1,0))","v":""},{"$f":"IF(解答!F38=\"\",\"\",IF(O40=解答!F38,1,0))","v":""},{"$f":"IF(解答!G38=\"\",\"\",IF(P40=解答!G38,1,0))","v":""},{"$f":"IF(解答!H38=\"\",\"\",IF(Q40=解答!H38,1,0))","v":""},{"$f":"IF(解答!I38=\"\",\"\",IF(R40=解答!I38,1,0))","v":""},{"$f":"IF(解答!J38=\"\",\"\",IF(S40=解答!J38,1,0))","v":""},{"$f":"IF(解答!K38=\"\",\"\",IF(T40=解答!K38,1,0))","v":""},{"$f":"IF(解答!B38=\"\",\"\",SUM(U40:AD40))","v":""}]
[38,null,null,null,null,null,null,null,null,0,null,null,null,null,null,null,null,null,null,null,{"$f":"IF(解答!B39=\"\",\"\",IF(K41=解答!B39,1,0))","v":""},{"$f":"IF(解答!C39=\"\",\"\",IF(L41=解答!C39,1,0))","v":""},{"$f":"IF(解答!D39=\"\",\"\",IF(M41=解答!D39,1,0))","v":""},{"$f":"IF(解答!E39=\"\",\"\",IF(N41=解答!E39,1,0))","v":""},{"$f":"IF(解答!F39=\"\",\"\",IF(O41=解答!F39,1,0))","v":""},{"$f":"IF(解答!G39=\"\",\"\",IF(P41=解答!G39,1,0))","v":""},{"$f":"IF(解答!H39=\"\",\"\",IF(Q41=解答!H39,1,0))","v":""},{"$f":"IF(解答!I39=\"\",\"\",IF(R41=解答!I39,1,0))","v":""},{"$f":"IF(解答!J39=\"\",\"\",IF(S41=解答!J39,1,0))","v":""},{"$f":"IF(解答!K39=\"\",\"\",IF(T41=解答!K39,1,0))","v":""},{"$f":"IF(解答!B39=\"\",\"\",SUM(U41:AD41))","v":""}]
[39,null,null,null,null,null,null,null,null,0,null,null,null,null,null,null,null,null,null,null,{"$f":"IF(解答!B40=\"\",\"\",IF(K42=解答!B40,1,0))","v":""},{"$f":"IF(解答!C40=\"\",\"\",IF(L42=解答!C40,1,0))","v":""},{"$f":"IF(解答!D40=\"\",\"\",IF(M42=解答!D40,1,0))","v":""},{"$f":"IF(解答!E40=\"\",\"\",IF(N42=解答!E40,1,0))","v":""},{"$f":"IF(解答!F40=\"\",\"\",IF(O42=解答!F40,1,0))","v":""},{"$f":"IF(解答!G40=\"\",\"\",IF(P42=解答!G40,1,0))","v":""},{"$f":"IF(解答!H40=\"\",\"\",IF(Q42=解答!H40,1,0))","v":""},{"$f":"IF(解答!I40=\"\",\"\",IF(R42=解答!I40,1,0))","v":""},{"$f":"IF(解答!J40=\"\",\"\",IF(S42=解答!J40,1,0))","v":""},{"$f":"IF(解答!K40=\"\",\"\",IF(T42=解答!K40,1,0))","v":""},{"$f":"IF(解答!B40=\"\",\"\",SUM(U42:AD42))","v":""}]
[40,null,null,null,null,null,null,null,null,0,null,null,null,null,null,null,null,null,null,null,{"$f":"IF(解答!B41=\"\",\"\",IF(K43=解答!B41,1,0))","v":""},{"$f":"IF(解答!C41=\"\",\"\",IF(L43=解答!C41,1,0))","v":""},{"$f":"IF(解答!D41=\"\",\"\",IF(M43=解答!D41,1,0))","v":""},{"$f":"IF(解答!E41=\"\",\"\",IF(N43=解答!E41,1,0))","v":""},{"$f":"IF(解答!F41=\"\",\"\",IF(O43=解答!F41,1,0))","v":""},{"$f":"IF(解答!G41=\"\",\"\",IF(P43=解答!G41,1,0))","v":""},{"$f":"IF(解答!H41=\"\",\"\",IF(Q43=解答!H41,1,0))","v":""},{"$f":"IF(解答!I41=\"\",\"\",IF(R43=解答!I41,1,0))","v":""},{"$f":"IF(解答!J41=\"\",\"\",IF(S43=解答!J41,1,0))","v":""},{"$f":"IF(解答!K41=\"\",\"\",IF(T43=解答!K41,1,0))","v":""},{"$f":"IF(解答!B41=\"\",\"\",SUM(U43:AD43))","v":""}]
[41,null,null,null,null,null,null,null,null,0,null,null,null,null,null,null,null,null,null,null,{"$f":"IF(解答!B42=\"\",\"\",IF(K44=解答!B42,1,0))","v":""},{"$f":"IF(解答!C42=\"\",\"\",IF(L44=解答!C42,1,0))","v":""},{"$f":"IF(解答!D42=\"\",\"\",IF(M44=解答!D42,1,0))","v":""},{"$f":"IF(解答!E42=\"\",\"\",IF(N44=解答!E42,1,0))","v":""},{"$f":"IF(解答!F42=\"\",\"\",IF(O44=解答!F42,1,0))","v":""},{"$f":"IF(解答!G42=\"\",\"\",IF(P44=解答!G42,1,0))","v":""},{"$f":"IF(解答!H42=\"\",\"\",IF(Q44=解答!H42,1,0))","v":""},{"$f":"IF(解答!I42=\"\",\"\",IF(R44=解答!I42,1,0))","v":""},{"$f":"IF(解答!J42=\"\",\"\",IF(S44=解答!J42,1,0))","v":""},{"$f":"IF(解答!K42=\"\",\"\",IF(T44=解答!K42,1,0))","v":""},{"$f":"IF(解答!B42=\"\",\"\",SUM(U44:AD44))","v":""}]
[42,null,null,null,null,null,null,null,null,0,null,null,null,null,null,null,null,null,null,null,{"$f":"IF(解答!B43=\"\",\"\",IF(K45=解答!B43,1,0))","v":""},{"$f":"IF(解答!C43=\"\",\"\",IF(L45=解答!C43,1,0))","v":""},{"$f":"IF(解答!D43=\"\",\"\",IF(M45=解答!D43,1,0))","v":""},{"$f":"IF(解答!E43=\"\",\"\",IF(N45=解答!E43,1,0))","v":""},{"$f":"IF(解答!F43=\"\",\"\",IF(O45=解答!F43,1,0))","v":""},{"$f":"IF(解答!G43=\"\",\"\",IF(P45=解答!G43,1,0))","v":""},{"$f":"IF(解答!H43=\"\",\"\",IF(Q45=解答!H43,1,0))","v":""},{"$f":"IF(解答!I43=\"\",\"\",IF(R45=解答!I43,1,0))","v":""},{"$f":"IF(解答!J43=\"\",\"\",IF(S45=解答!J43,1,0))","v":""},{"$f":"IF(解答!K43=\"\",\"\",IF(T45=解答!K43,1,0))","v":""},{"$f":"IF(解答!B43=\"\",\"\",SUM(U45:AD45))","v":""}]
[43,null,null,null,null,null,null,null,null,0,null,null,null,null,null,null,null,null,null,null,{"$f":"IF(解答!B44=\"\",\"\",IF(K46=解答!B44,1,0))","v":""},{"$f":"IF(解答!C44=\"\",\"\",IF(L46=解答!C44,1,0))","v":""},{"$f":"IF(解答!D44=\"\",\"\",IF(M46=解答!D44,1,0))","v":""},{"$f":"IF(解答!E44=\"\",\"\",IF(N46=解答!E44,1,0))","v":""},{"$f":"IF(解答!F44=\"\",\"\",IF(O46=解答!F44,1,0))","v":""},{"$f":"IF(解答!G44=\"\",\"\",IF(P46=解答!G44,1,0))","v":""},{"$f":"IF(解答!H44=\"\",\"\",IF(Q46=解答!H44,1,0))","v":""},{"$f":"IF(解答!I44=\"\",\"\",IF(R46=解答!I44,1,0))","v":""},{"$f":"IF(解答!J44=\"\",\"\",IF(S46=解答!J44,1,0))","v":""},{"$f":"IF(解答!K44=\"\",\"\",IF(T46=解答!K44,1,0))","v":""},{"$f":"IF(解答!B44=\"\",\"\",SUM(U46:AD46))","v":""}]
[44,null,null,null,null,null,null,null,null,0,null,null,null,null,null,null,null,null,null,null,{"$f":"IF(解答!B45=\"\",\"\",IF(K47=解答!B45,1,0))","v":""},{"$f":"IF(解答!C45=\"\",\"\",IF(L47=解答!C45,1,0))","v":""},{"$f":"IF(解答!D45=\"\",\"\",IF(M47=解答!D45,1,0))","v":""},{"$f":"IF(解答!E45=\"\",\"\",IF(N47=解答!E45,1,0))","v":""},{"$f":"IF(解答!F45=\"\",\"\",IF(O47=解答!F45,1,0))","v":""},{"$f":"IF(解答!G45=\"\",\"\",IF(P47=解答!G45,1,0))","v":""},{"$f":"IF(解答!H45=\"\",\"\",IF(Q47=解答!H45,1,0))","v":""},{"$f":"IF(解答!I45=\"\",\"\",IF(R47=解答!I45,1,0))","v":""},{"$f":"IF(解答!J45=\"\",\"\",IF(S47=解答!J45,1,0))","v":""},{"$f":"IF(解答!K45=\"\",\"\",IF(T47=解答!K45,1,0))","v":""},{"$f":"IF(解答!B45=\"\",\"\",SUM(U47:AD47))","v":""}]
[45,null,null,null,null,null,null,null,null,0,null,null,null,null,null,null,null,null,null,null,{"$f":"IF(解答!B46=\"\",\"\",IF(K48=解答!B46,1,0))","v":""},{"$f":"IF(解答!C46=\"\",\"\",IF(L48=解答!C46,1,0))","v":""},{"$f":"IF(解答!D46=\"\",\"\",IF(M48=解答!D46,1,0))","v":""},{"$f":"IF(解答!E46=\"\",\"\",IF(N48=解答!E46,1,0))","v":""},{"$f":"IF(解答!F46=\"\",\"\",IF(O48=解答!F46,1,0))","v":""},{"$f":"IF(解答!G46=\"\",\"\",IF(P48=解答!G46,1,0))","v":""},{"$f":"IF(解答!H46=\"\",\"\",IF(Q48=解答!H46,1,0))","v":""},{"$f":"IF(解答!I46=\"\",\"\",IF(R48=解答!I46,1,0))","v":""},{"$f":"IF(解答!J46=\"\",\"\",IF(S48=解答!J46,1,0))","v":""},{"$f":"IF(解答!K46=\"\",\"\",IF(T48=解答!K46,1,0))","v":""},{"$f":"IF(解答!B46=\"\",\"\",SUM(U48:AD48))","v":""}]
[46,null,null,null,null,null,null,null,null,0,null,null,null,null,null,null,null,null,null,null,{"$f":"IF(解答!B47=\"\",\"\",IF(K49=解答!B47,1,0))","v":""},{"$f":"IF(解答!C47=\"\",\"\",IF(L49=解答!C47,1,0))","v":""},{"$f":"IF(解答!D47=\"\",\"\",IF(M49=解答!D47,1,0))","v":""},{"$f":"IF(解答!E47=\"\",\"\",IF(N49=解答!E47,1,0))","v":""},{"$f":"IF(解答!F47=\"\",\"\",IF(O49=解答!F47,1,0))","v":""},{"$f":"IF(解答!G47=\"\",\"\",IF(P49=解答!G47,1,0))","v":""},{"$f":"IF(解答!H47=\"\",\"\",IF(Q49=解答!H47,1,0))","v":""},{"$f":"IF(解答!I47=\"\",\"\",IF(R49=解答!I47,1,0))","v":""},{"$f":"IF(解答!J47=\"\",\"\",IF(S49=解答!J47,1,0))","v":""},{"$f":"IF(解答!K47=\"\",\"\",IF(T49=解答!K47,1,0))","v":""},{"$f":"IF(解答!B47=\"\",\"\",SUM(U49:AD49))","v":""}]
[47,null,null,null,null,null,null,null,null,0,null,null,null,null,null,null,null,null,null,null,{"$f":"IF(解答!B48=\"\",\"\",IF(K50=解答!B48,1,0))","v":""},{"$f":"IF(解答!C48=\"\",\"\",IF(L50=解答!C48,1,0))","v":""},{"$f":"IF(解答!D48=\"\",\"\",IF(M50=解答!D48,1,0))","v":""},{"$f":"IF(解答!E48=\"\",\"\",IF(N50=解答!E48,1,0))","v":""},{"$f":"IF(解答!F48=\"\",\"\",IF(O50=解答!F48,1,0))","v":""},{"$f":"IF(解答!G48=\"\",\"\",IF(P50=解答!G48,1,0))","v":""},{"$f":"IF(解答!H48=\"\",\"\",IF(Q50=解答!H48,1,0))","v":""},{"$f":"IF(解答!I48=\"\",\"\",IF(R50=解答!I48,1,0))","v":""},{"$f":"IF(解答!J48=\"\",\"\",IF(S50=解答!J48,1,0))","v":""},{"$f":"IF(解答!K48=\"\",\"\",IF(T50=解答!K48,1,0))","v":""},{"$f":"IF(解答!B48=\"\",\"\",SUM(U50:AD50))","v":""}]
[48,null,null,null,null,null,null,null,null,0,null,null,null,null,null,null,null,null,null,null,{"$f":"IF(解答!B49=\"\",\"\",IF(K51=解答!B49,1,0))","v":""},{"$f":"IF(解答!C49=\"\",\"\",IF(L51=解答!C49,1,0))","v":""},{"$f":"IF(解答!D49=\"\",\"\",IF(M51=解答!D49,1,0))","v":""},{"$f":"IF(解答!E49=\"\",\"\",IF(N51=解答!E49,1,0))","v":""},{"$f":"IF(解答!F49=\"\",\"\",IF(O51=解答!F49,1,0))","v":""},{"$f":"IF(解答!G49=\"\",\"\",IF(P51=解答!G49,1,0))","v":""},{"$f":"IF(解答!H49=\"\",\"\",IF(Q51=解答!H49,1,0))","v":""},{"$f":"IF(解答!I49=\"\",\"\",IF(R51=解答!I49,1,0))","v":""},{"$f":"IF(解答!J49=\"\",\"\",IF(S51=解答!J49,1,0))","v":""},{"$f":"IF(解答!K49=\"\",\"\",IF(T51=解答!K49,1,0))","v":""},{"$f":"IF(解答!B49=\"\",\"\",SUM(U51:AD51))","v":""}]
[49,null,null,null,null,null,null,null,null,0,null,null,null,null,null,null,null,null,null,null,{"$f":"IF(解答!B50=\"\",\"\",IF(K52=解答!B50,1,0))","v":""},{"$f":"IF(解答!C50=\"\",\"\",IF(L52=解答!C50,1,0))","v":""},{"$f":"IF(解答!D50=\"\",\"\",IF(M52=解答!D50,1,0))","v":""},{"$f":"IF(解答!E50=\"\",\"\",IF(N52=解答!E50,1,0))","v":""},{"$f":"IF(解答!F50=\"\",\"\",IF(O52=解答!F50,1,0))","v":""},{"$f":"IF(解答!G50=\"\",\"\",IF(P52=解答!G50,1,0))","v":""},{"$f":"IF(解答!H50=\"\",\"\",IF(Q52=解答!H50,1,0))","v":""},{"$f":"IF(解答!I50=\"\",\"\",IF(R52=解答!I50,1,0))","v":""},{"$f":"IF(解答!J50=\"\",\"\",IF(S52=解答!J50,1,0))","v":""},{"$f":"IF(解答!K50=\"\",\"\",IF(T52=解答!K50,1,0))","v":""},{"$f":"IF(解答!B50=\"\",\"\",SUM(U52:AD52))","v":""}]
[50,null,null,null,null,null,null,null,null,0,null,null,null,null,null,null,null,null,null,null,{"$f":"IF(解答!B51=\"\",\"\",IF(K53=解答!B51,1,0))","v":""},{"$f":"IF(解答!C51=\"\",\"\",IF(L53=解答!C51,1,0))","v":""},{"$f":"IF(解答!D51=\"\",\"\",IF(M53=解答!D51,1,0))","v":""},{"$f":"IF(解答!E51=\"\",\"\",IF(N53=解答!E51,1,0))","v":""},{"$f":"IF(解答!F51=\"\",\"\",IF(O53=解答!F51,1,0))","v":""},{"$f":"IF(解答!G51=\"\",\"\",IF(P53=解答!G51,1,0))","v":""},{"$f":"IF(解答!H51=\"\",\"\",IF(Q53=解答!H51,1,0))","v":""},{"$f":"IF(解答!I51=\"\",\"\",IF(R53=解答!I51,1,0))","v":""},{"$f":"IF(解答!J51=\"\",\"\",IF(S53=解答!J51,1,0))","v":""},{"$f":"IF(解答!K51=\"\",\"\",IF(T53=解答!K51,1,0))","v":""},{"$f":"IF(解答!B51=\"\",\"\",SUM(U53:AD53))","v":""}]

{"sheet":"1103","index":7,"n_rows":53,"n_cols":31,"rows_kept":53,"cut":false,"hidden":false,"merged":[[6,6,6,8],[0,0,0,3],[2,6,2,8],[3,6,3,8],[4,6,4,8],[5,6,5,8],[18,6,18,8],[7,6,7,8],[8,6,8,8],[9,6,9,8],[10,6,10,8],[11,6,11,8],[12,6,12,8],[13,6,13,8],[14,6,14,8],[15,6,15,8],[16,6,16,8],[17,6,17,8],[30,6,30,8],[19,6,19,8],[20,6,20,8],[21,6,21,8],[22,6,22,8],[23,6,23,8],[24,6,24,8],[25,6,25,8],[26,6,26,8],[27,6,27,8],[28,6,28,8],[29,6,29,8],[42,6,42,8],[31,6,31,8],[32,6,32,8],[33,6,33,8],[34,6,34,8],[35,6,35,8],[36,6,36,8],[37,6,37,8],[38,6,38,8],[39,6,39,8],[40,6,40,8],[41,6,41,8],[49,6,49,8],[50,6,50,8],[51,6,51,8],[52,6,52,8],[43,6,43,8],[44,6,44,8],[45,6,45,8],[46,6,46,8],[47,6,47,8],[48,6,48,8]]}
["学習の記録",null,null,null,null,"HRNO",1103,"氏名","石部湖南",null,"時間数",1,"出席",{"$f":"COUNT(C4:C53)","v":1},"欠席",{"$f":"L1-N1","v":0},"総文字数",{"$f":"SUM(J4:J53)","v":49},"達成数",{"$f":"COUNTIF(J4:J53,\">=30\")","v":1}]
[]
["No","日付","出欠\n(出1,遅2,早3)","欠席者No.","ノート","評価","反省・感想・備考",null,null,"文字数","A1","A2","A3","A4","A5","A6","A7","A8","A9","A10","S1","S2","S3","S4","S5","S6","S7","S8","S9","S10","T"]
[1,"2022-04-11",1,null,"学習の記録\n情報ノートの準備\n教科書P１６～P１７",2,"学習の記録の仕方に早く慣れるように頑張ります。ギターのようにパソコンが使えたらいいと思っています。",null,null,{"$f":"LEN(G4)","v":49},1,2,3,6,5,4,7,8,9,10,{"$f":"IF(解答!B2=\"\",\"\",IF(K4=解答!B2,1,0))","v":1},{"$f":"IF(解答!C2=\"\",\"\",IF(L4=解答!C2,1,0))","v":1},{"$f":"IF(解答!D2=\"\",\"\",IF(M4=解答!D2,1,0))","v":1},{"$f":"IF(解答!E2=\"\",\"\",IF(N4=解答!E2,1,0))","v":0},{"$f":"IF(解答!F2=\"\",\"\",IF(O4=解答!F2,1,0))","v":1},{"$f":"IF(解答!G2=\"\",\"\",IF(P4=解答!G2,1,0))","v":0},{"$f":"IF(解答!H2=\"\",\"\",IF(Q4=解答!H2,1,0))","v":1},{"$f":"IF(解答!I2=\"\",\"\",IF(R4=解答!I2,1,0))","v":1},{"$f":"IF(解答!J2=\"\",\"\",IF(S4=解答!J2,1,0))","v":1},{"$f":"IF(解答!K2=\"\",\"\",IF(T4=解答!K2,1,0))","v":1},{"$f":"SUM(U4:AD4)","v":8}]
[2,null,null,null,null,null,null,null,null,{"$f":"LEN(G5)","v":0},null,null,null,null,null,null,null,null,null,null,{"$f":"IF(解答!B3=\"\",\"\",IF(K5=解答!B3,1,0))","v":""},{"$f":"IF(解答!C3=\"\",\"\",IF(L5=解答!C3,1,0))","v":""},{"$f":"IF(解答!D3=\"\",\"\",IF(M5=解答!D3,1,0))","v":""},{"$f":"IF(解答!E3=\"\",\"\",IF(N5=解答!E3,1,0))","v":""},{"$f":"IF(解答!F3=\"\",\"\",IF(O5=解答!F3,1,0))","v":""},{"$f":"IF(解答!G3=\"\",\"\",IF(P5=解答!G3,1,0))","v":""},{"$f":"IF(解答!H3=\"\",\"\",IF(Q5=解答!H3,1,0))","v":""},{"$f":"IF(解答!I3=\"\",\"\",IF(R5=解答!I3,1,0))","v":""},{"$f":"IF(解答!J3=\"\",\"\",IF(S5=解答!J3,1,0))","v":""},{"$f":"IF(解答!K3=\"\",\"\",IF(T5=解答!K3,1,0))","v":""},{"$f":"IF(解答!B3=\"\",\"\",SUM(U5:AD5))","v":""}]
[3,null,null,null,null,null,null,null,null,0,null,null,null,null,null,null,null,null,null,null,{"$f":"IF(解答!B4=\"\",\"\",IF(K6=解答!B4,1,0))","v":""},{"$f":"IF(解答!C4=\"\",\"\",IF(L6=解答!C4,1,0))","v":""},{"$f":"IF(解答!D4=\"\",\"\",IF(M6=解答!D4,1,0))","v":""},{"$f":"IF(解答!E4=\"\",\"\",IF(N6=解答!E4,1,0))","v":""},{"$f":"IF(解答!F4=\"\",\"\",IF(O6=解答!F4,1,0))","v":""},{"$f":"IF(解答!G4=\"\",\"\",IF(P6=解答!G4,1,0))","v":""},{"$f":"IF(解答!H4=\"\",\"\",IF(Q6=解答!H4,1,0))","v":""},{"$f":"IF(解答!I4=\"\",\"\",IF(R6=解答!I4,1,0))","v":""},{"$f":"IF(解答!J4=\"\",\"\",IF(S6=解答!J4,1,0))","v":""},{"$f":"IF(解答!K4=\"\",\"\",IF(T6=解答!K4,1,0))","v":""},{"$f":"IF(解答!B4=\"\",\"\",SUM(U6:AD6))","v":""}]
[4,null,null,null,null,null,null,null,null,0,null,null,null,null,null,null,null,null,null,null,{"$f":"IF(解答!B5=\"\",\"\",IF(K7=解答!B5,1,0))","v":""},{"$f":"IF(解答!C5=\"\",\"\",IF(L7=解答!C5,1,0))","v":""},{"$f":"IF(解答!D5=\"\",\"\",IF(M7=解答!D5,1,0))","v":""},{"$f":"IF(解答!E5=\"\",\"\",IF(N7=解答!E5,1,0))","v":""},{"$f":"IF(解答!F5=\"\",\"\",IF(O7=解答!F5,1,0))","v":""},{"$f":"IF(解答!G5=\"\",\"\",IF(P7=解答!G5,1,0))","v":""},{"$f":"IF(解答!H5=\"\",\"\",IF(Q7=解答!H5,1,0))","v":""},{"$f":"IF(解答!I5=\"\",\"\",IF(R7=解答!I5,1,0))","v":""},{"$f":"IF(解答!J5=\"\",\"\",IF(S7=解答!J5,1,0))","v":""},{"$f":"IF(解答!K5=\"\",\"\",IF(T7=解答!K5,1,0))","v":""},{"$f":"IF(解答!B5=\"\",\"\",SUM(U7:AD7))","v":""}]
[5,null,null,null,null,null,null,null,null,0,null,null,null,null,null,null,null,null,null,null,{"$f":"IF(解答!B6=\"\",\"\",IF(K8=解答!B6,1,0))","v":""},{"$f":"IF(解答!C6=\"\",\"\",IF(L8=解答!C6,1,0))","v":""},{"$f":"IF(解答!D6=\"\",\"\",IF(M8=解答!D6,1,0))","v":""},{"$f":"IF(解答!E6=\"\",\"\",IF(N8=解答!E6,1,0))","v":""},{"$f":"IF(解答!F6=\"\",\"\",IF(O8=解答!F6,1,0))","v":""},{"$f":"IF(解答!G6=\"\",\"\",IF(P8=解答!G6,1,0))","v":""},{"$f":"IF(解答!H6=\"\",\"\",IF(Q8=解答!H6,1,0))","v":""},{"$f":"IF(解答!I6=\"\",\"\",IF(R8=解答!I6,1,0))","v":""},{"$f":"IF(解答!J6=\"\",\"\",IF(S8=解答!J6,1,0))","v":""},{"$f":"IF(解答!K6=\"\",\"\",IF(T8=解答!K6,1,0))","v":""},{"$f":"IF(解答!B6=\"\",\"\",SUM(U8:AD8))","v":""}]
[6,null,null,null,null,null,null,null,null,0,null,null,null,null,null,null,null,null,null,null,{"$f":"IF(解答!B7=\"\",\"\",IF(K9=解答!B7,1,0))","v":""},{"$f":"IF(解答!C7=\"\",\"\",IF(L9=解答!C7,1,0))","v":""},{"$f":"IF(解答!D7=\"\",\"\",IF(M9=解答!D7,1,0))","v":""},{"$f":"IF(解答!E7=\"\",\"\",IF(N9=解答!E7,1,0))","v":""},{"$f":"IF(解答!F7=\"\",\"\",IF(O9=解答!F7,1,0))","v":""},{"$f":"IF(解答!G7=\"\",\"\",IF(P9=解答!G7,1,0))","v":""},{"$f":"IF(解答!H7=\"\",\"\",IF(Q9=解答!H7,1,0))","v":""},{"$f":"IF(解答!I7=\"\",\"\",IF(R9=解答!I7,1,0))","v":""},{"$f":"IF(解答!J7=\"\",\"\",IF(S9=解答!J7,1,0))","v":""},{"$f":"IF(解答!K7=\"\",\"\",IF(T9=解答!K7,1,0))","v":""},{"$f":"IF(解答!B7=\"\",\"\",SUM(U9:AD9))","v":""}]
[7,null,null,null,null,null,null,null,null,0,null,null,null,null,null,null,null,null,null,null,{"$f":"IF(解答!B8=\"\",\"\",IF(K10=解答!B8,1,0))","v":""},{"$f":"IF(解答!C8=\"\",\"\",IF(L10=解答!C8,1,0))","v":""},{"$f":"IF(解答!D8=\"\",\"\",IF(M10=解答!D8,1,0))","v":""},{"$f":"IF(解答!E8=\"\",\"\",IF(N10=解答!E8,1,0))","v":""},{"$f":"IF(解答!F8=\"\",\"\",IF(O10=解答!F8,1,0))","v":""},{"$f":"IF(解答!G8=\"\",\"\",IF(P10=解答!G8,1,0))","v":""},{"$f":"IF(解答!H8=\"\",\"\",IF(Q10=解答!H8,1,0))","v":""},{"$f":"IF(解答!I8=\"\",\"\",IF(R10=解答!I8,1,0))","v":""},{"$f":"IF(解答!J8=\"\",\"\",IF(S10=解答!J8,1,0))","v":""},{"$f":"IF(解答!K8=\"\",\"\",IF(T10=解答!K8,1,0))","v":""},{"$f":"IF(解答!B8=\"\",\"\",SUM(U10:AD10))","v":""}]
[8,null,null,null,null,null,null,null,null,0,null,null,null,null,null,null,null,null,null,null,{"$f":"IF(解答!B9=\"\",\"\",IF(K11=解答!B9,1,0))","v":""},{"$f":"IF(解答!C9=\"\",\"\",IF(L11=解答!C9,1,0))","v":""},{"$f":"IF(解答!D9=\"\",\"\",IF(M11=解答!D9,1,0))","v":""},{"$f":"IF(解答!E9=\"\",\"\",IF(N11=解答!E9,1,0))","v":""},{"$f":"IF(解答!F9=\"\",\"\",IF(O11=解答!F9,1,0))","v":""},{"$f":"IF(解答!G9=\"\",\"\",IF(P11=解答!G9,1,0))","v":""},{"$f":"IF(解答!H9=\"\",\"\",IF(Q11=解答!H9,1,0))","v":""},{"$f":"IF(解答!I9=\"\",\"\",IF(R11=解答!I9,1,0))","v":""},{"$f":"IF(解答!J9=\"\",\"\",IF(S11=解答!J9,1,0))","v":""},{"$f":"IF(解答!K9=\"\",\"\",IF(T11=解答!K9,1,0))","v":""},{"$f":"IF(解答!B9=\"\",\"\",SUM(U11:AD11))","v":""}]
[9,null,null,null,null,null,null,null,null,0,null,null,null,null,null,null,null,null,null,null,{"$f":"IF(解答!B10=\"\",\"\",IF(K12=解答!B10,1,0))","v":""},{"$f":"IF(解答!C10=\"\",\"\",IF(L12=解答!C10,1,0))","v":""},{"$f":"IF(解答!D10=\"\",\"\",IF(M12=解答!D10,1,0))","v":""},{"$f":"IF(解答!E10=\"\",\"\",IF(N12=解答!E10,1,0))","v":""},{"$f":"IF(解答!F10=\"\",\"\",IF(O12=解答!F10,1,0))","v":""},{"$f":"IF(解答!G10=\"\",\"\",IF(P12=解答!G10,1,0))","v":""},{"$f":"IF(解答!H10=\"\",\"\",IF(Q12=解答!H10,1,0))","v":""},{"$f":"IF(解答!I10=\"\",\"\",IF(R12=解答!I10,1,0))","v":""},{"$f":"IF(解答!J10=\"\",\"\",IF(S12=解答!J10,1,0))","v":""},{"$f":"IF(解答!K10=\"\",\"\",IF(T12=解答!K10,1,0))","v":""},{"$f":"IF(解答!B10=\"\",\"\",SUM(U12:AD12))","v":""}]
[10,null,null,null,null,null,null,null,null,0,null,null,null,null,null,null,null,null,null,null,{"$f":"IF(解答!B11=\"\",\"\",IF(K13=解答!B11,1,0))","v":""},{"$f":"IF(解答!C11=\"\",\"\",IF(L13=解答!C11,1,0))","v":""},{"$f":"IF(解答!D11=\"\",\"\",IF(M13=解答!D11,1,0))","v":""},{"$f":"IF(解答!E11=\"\",\"\",IF(N13=解答!E11,1,0))","v":""},{"$f":"IF(解答!F11=\"\",\"\",IF(O13=解答!F11,1,0))","v":""},{"$f":"IF(解答!G11=\"\",\"\",IF(P13=解答!G11,1,0))","v":""},{"$f":"IF(解答!H11=\"\",\"\",IF(Q13=解答!H11,1,0))","v":""},{"$f":"IF(解答!I11=\"\",\"\",IF(R13=解答!I11,1,0))","v":""},{"$f":"IF(解答!J11=\"\",\"\",IF(S13=解答!J11,1,0))","v":""},{"$f":"IF(解答!K11=\"\",\"\",IF(T13=解答!K11,1,0))","v":""},{"$f":"IF(解答!B11=\"\",\"\",SUM(U13:AD13))","v":""}]
[11,null,null,null,null,null,null,null,null,0,null,null,null,null,null,null,null,null,null,null,{"$f":"IF(解答!B12=\"\",\"\",IF(K14=解答!B12,1,0))","v":""},{"$f":"IF(解答!C12=\"\",\"\",IF(L14=解答!C12,1,0))","v":""},{"$f":"IF(解答!D12=\"\",\"\",IF(M14=解答!D12,1,0))","v":""},{"$f":"IF(解答!E12=\"\",\"\",IF(N14=解答!E12,1,0))","v":""},{"$f":"IF(解答!F12=\"\",\"\",IF(O14=解答!F12,1,0))","v":""},{"$f":"IF(解答!G12=\"\",\"\",IF(P14=解答!G12,1,0))","v":""},{"$f":"IF(解答!H12=\"\",\"\",IF(Q14=解答!H12,1,0))","v":""},{"$f":"IF(解答!I12=\"\",\"\",IF(R14=解答!I12,1,0))","v":""},{"$f":"IF(解答!J12=\"\",\"\",IF(S14=解答!J12,1,0))","v":""},{"$f":"IF(解答!K12=\"\",\"\",IF(T14=解答!K12,1,0))","v":""},{"$f":"IF(解答!B12=\"\",\"\",SUM(U14:AD14))","v":""}]
[12,null,null,null,null,null,null,null,null,0,null,null,null,null,null,null,null,null,null,null,{"$f":"IF(解答!B13=\"\",\"\",IF(K15=解答!B13,1,0))","v":""},{"$f":"IF(解答!C13=\"\",\"\",IF(L15=解答!C13,1,0))","v":""},{"$f":"IF(解答!D13=\"\",\"\",IF(M15=解答!D13,1,0))","v":""},{"$f":"IF(解答!E13=\"\",\"\",IF(N15=解答!E13,1,0))","v":""},{"$f":"IF(解答!F13=\"\",\"\",IF(O15=解答!F13,1,0))","v":""},{"$f":"IF(解答!G13=\"\",\"\",IF(P15=解答!G13,1,0))","v":""},{"$f":"IF(解答!H13=\"\",\"\",IF(Q15=解答!H13,1,0))","v":""},{"$f":"IF(解答!I13=\"\",\"\",IF(R15=解答!I13,1,0))","v":""},{"$f":"IF(解答!J13=\"\",\"\",IF(S15=解答!J13,1,0))","v":""},{"$f":"IF(解答!K13=\"\",\"\",IF(T15=解答!K13,1,0))","v":""},{"$f":"IF(解答!B13=\"\",\"\",SUM(U15:AD15))","v":""}]
[13,null,null,null,null,null,null,null,null,0,null,null,null,null,null,null,null,null,null,null,{"$f":"IF(解答!B14=\"\",\"\",IF(K16=解答!B14,1,0))","v":""},{"$f":"IF(解答!C14=\"\",\"\",IF(L16=解答!C14,1,0))","v":""},{"$f":"IF(解答!D14=\"\",\"\",IF(M16=解答!D14,1,0))","v":""},{"$f":"IF(解答!E14=\"\",\"\",IF(N16=解答!E14,1,0))","v":""},{"$f":"IF(解答!F14=\"\",\"\",IF(O16=解答!F14,1,0))","v":""},{"$f":"IF(解答!G14=\"\",\"\",IF(P16=解答!G14,1,0))","v":""},{"$f":"IF(解答!H14=\"\",\"\",IF(Q16=解答!H14,1,0))","v":""},{"$f":"IF(解答!I14=\"\",\"\",IF(R16=解答!I14,1,0))","v":""},{"$f":"IF(解答!J14=\"\",\"\",IF(S16=解答!J14,1,0))","v":""},{"$f":"IF(解答!K14=\"\",\"\",IF(T16=解答!K14,1,0))","v":""},{"$f":"IF(解答!B14=\"\",\"\",SUM(U16:AD16))","v":""}]
[14,null,null,null,null,null,null,null,null,0,null,null,null,null,null,null,null,null,null,null,{"$f":"IF(解答!B15=\"\",\"\",IF(K17=解答!B15,1,0))","v":""},{"$f":"IF(解答!C15=\"\",\"\",IF(L17=解答!C15,1,0))","v":""},{"$f":"IF(解答!D15=\"\",\"\",IF(M17=解答!D15,1,0))","v":""},{"$f":"IF(解答!E15=\"\",\"\",IF(N17=解答!E15,1,0))","v":""},{"$f":"IF(解答!F15=\"\",\"\",IF(O17=解答!F15,1,0))","v":""},{"$f":"IF(解答!G15=\"\",\"\",IF(P17=解答!G15,1,0))","v":""},{"$f":"IF(解答!H15=\"\",\"\",IF(Q17=解答!H15,1,0))","v":""},{"$f":"IF(解答!I15=\"\",\"\",IF(R17=解答!I15,1,0))","v":""},{"$f":"IF(解答!J15=\"\",\"\",IF(S17=解答!J15,1,0))","v":""},{"$f":"IF(解答!K15=\"\",\"\",IF(T17=解答!K15,1,0))","v":""},{"$f":"IF(解答!B15=\"\",\"\",SUM(U17:AD17))","v":""}]
[15,null,null,null,null,null,null,null,null,0,null,null,null,null,null,null,null,null,null,null,{"$f":"IF(解答!B16=\"\",\"\",IF(K18=解答!B16,1,0))","v":""},{"$f":"IF(解答!C16=\"\",\"\",IF(L18=解答!C16,1,0))","v":""},{"$f":"IF(解答!D16=\"\",\"\",IF(M18=解答!D16,1,0))","v":""},{"$f":"IF(解答!E16=\"\",\"\",IF(N18=解答!E16,1,0))","v":""},{"$f":"IF(解答!F16=\"\",\"\",IF(O18=解答!F16,1,0))","v":""},{"$f":"IF(解答!G16=\"\",\"\",IF(P18=解答!G16,1,0))","v":""},{"$f":"IF(解答!H16=\"\",\"\",IF(Q18=解答!H16,1,0))","v":""},{"$f":"IF(解答!I16=\"\",\"\",IF(R18=解答!I16,1,0))","v":""},{"$f":"IF(解答!J16=\"\",\"\",IF(S18=解答!J16,1,0))","v":""},{"$f":"IF(解答!K16=\"\",\"\",IF(T18=解答!K16,1,0))","v":""},{"$f":"IF(解答!B16=\"\",\"\",SUM(U18:AD18))","v":""}]
[16,null,null,null,null,null,null,null,null,0,null,null,null,null,null,null,null,null,null,null,{"$f":"IF(解答!B17=\"\",\"\",IF(K19=解答!B17,1,0))","v":""},{"$f":"IF(解答!C17=\"\",\"\",IF(L19=解答!C17,1,0))","v":""},{"$f":"IF(解答!D17=\"\",\"\",IF(M19=解答!D17,1,0))","v":""},{"$f":"IF(解答!E17=\"\",\"\",IF(N19=解答!E17,1,0))","v":""},{"$f":"IF(解答!F17=\"\",\"\",IF(O19=解答!F17,1,0))","v":""},{"$f":"IF(解答!G17=\"\",\"\",IF(P19=解答!G17,1,0))","v":""},{"$f":"IF(解答!H17=\"\",\"\",IF(Q19=解答!H17,1,0))","v":""},{"$f":"IF(解答!I17=\"\",\"\",IF(R19=解答!I17,1,0))","v":""},{"$f":"IF(解答!J17=\"\",\"\",IF(S19=解答!J17,1,0))","v":""},{"$f":"IF(解答!K17=\"\",\"\",IF(T19=解答!K17,1,0))","v":""},{"$f":"IF(解答!B17=\"\",\"\",SUM(U19:AD19))","v":""}]
[17,null,null,null,null,null,null,null,null,0,null,null,null,null,null,null,null,null,null,null,{"$f":"IF(解答!B18=\"\",\"\",IF(K20=解答!B18,1,0))","v":""},{"$f":"IF(解答!C18=\"\",\"\",IF(L20=解答!C18,1,0))","v":""},{"$f":"IF(解答!D18=\"\",\"\",IF(M20=解答!D18,1,0))","v":""},{"$f":"IF(解答!E18=\"\",\"\",IF(N20=解答!E18,1,0))","v":""},{"$f":"IF(解答!F18=\"\",\"\",IF(O20=解答!F18,1,0))","v":""},{"$f":"IF(解答!G18=\"\",\"\",IF(P20=解答!G18,1,0))","v":""},{"$f":"IF(解答!H18=\"\",\"\",IF(Q20=解答!H18,1,0))","v":""},{"$f":"IF(解答!I18=\"\",\"\",IF(R20=解答!I18,1,0))","v":""},{"$f":"IF(解答!J18=\"\",\"\",IF(S20=解答!J18,1,0))","v":""},{"$f":"IF(解答!K18=\"\",\"\",IF(T20=解答!K18,1,0))","v":""},{"$f":"IF(解答!B18=\"\",\"\",SUM(U20:AD20))","v":""}]
[18,null,null,null,null,null,null,null,null,0,null,null,null,null,null,null,null,null,null,null,{"$f":"IF(解答!B19=\"\",\"\",IF(K21=解答!B19,1,0))","v":""},{"$f":"IF(解答!C19=\"\",\"\",IF(L21=解答!C19,1,0))","v":""},{"$f":"IF(解答!D19=\"\",\"\",IF(M21=解答!D19,1,0))","v":""},{"$f":"IF(解答!E19=\"\",\"\",IF(N21=解答!E19,1,0))","v":""},{"$f":"IF(解答!F19=\"\",\"\",IF(O21=解答!F19,1,0))","v":""},{"$f":"IF(解答!G19=\"\",\"\",IF(P21=解答!G19,1,0))","v":""},{"$f":"IF(解答!H19=\"\",\"\",IF(Q21=解答!H19,1,0))","v":""},{"$f":"IF(解答!I19=\"\",\"\",IF(R21=解答!I19,1,0))","v":""},{"$f":"IF(解答!J19=\"\",\"\",IF(S21=解答!J19,1,0))","v":""},{"$f":"IF(解答!K19=\"\",\"\",IF(T21=解答!K19,1,0))","v":""},{"$f":"IF(解答!B19=\"\",\"\",SUM(U21:AD21))","v":""}]
[19,null,null,null,null,null,null,null,null,0,null,null,null,null,null,null,null,null,null,null,{"$f":"IF(解答!B20=\"\",\"\",IF(K22=解答!B20,1,0))","v":""},{"$f":"IF(解答!C20=\"\",\"\",IF(L22=解答!C20,1,0))","v":""},{"$f":"IF(解答!D20=\"\",\"\",IF(M22=解答!D20,1,0))","v":""},{"$f":"IF(解答!E20=\"\",\"\",IF(N22=解答!E20,1,0))","v":""},{"$f":"IF(解答!F20=\"\",\"\",IF(O22=解答!F20,1,0))","v":""},{"$f":"IF(解答!G20=\"\",\"\",IF(P22=解答!G20,1,0))","v":""},{"$f":"IF(解答!H20=\"\",\"\",IF(Q22=解答!H20,1,0))","v":""},{"$f":"IF(解答!I20=\"\",\"\",IF(R22=解答!I20,1,0))","v":""},{"$f":"IF(解答!J20=\"\",\"\",IF(S22=解答!J20,1,0))","v":""},{"$f":"IF(解答!K20=\"\",\"\",IF(T22=解答!K20,1,0))","v":""},{"$f":"IF(解答!B20=\"\",\"\",SUM(U22:AD22))","v":""}]
[20,null,null,null,null,null,null,null,null,0,null,null,null,null,null,null,null,null,null,null,{"$f":"IF(解答!B21=\"\",\"\",IF(K23=解答!B21,1,0))","v":""},{"$f":"IF(解答!C21=\"\",\"\",IF(L23=解答!C21,1,0))","v":""},{"$f":"IF(解答!D21=\"\",\"\",IF(M23=解答!D21,1,0))","v":""},{"$f":"IF(解答!E21=\"\",\"\",IF(N23=解答!E21,1,0))","v":""},{"$f":"IF(解答!F21=\"\",\"\",IF(O23=解答!F21,1,0))","v":""},{"$f":"IF(解答!G21=\"\",\"\",IF(P23=解答!G21,1,0))","v":""},{"$f":"IF(解答!H21=\"\",\"\",IF(Q23=解答!H21,1,0))","v":""},{"$f":"IF(解答!I21=\"\",\"\",IF(R23=解答!I21,1,0))","v":""},{"$f":"IF(解答!J21=\"\",\"\",IF(S23=解答!J21,1,0))","v":""},{"$f":"IF(解答!K21=\"\",\"\",IF(T23=解答!K21,1,0))","v":""},{"$f":"IF(解答!B21=\"\",\"\",SUM(U23:AD23))","v":""}]
[21,null,null,null,null,null,null,null,null,0,null,null,null,null,null,null,null,null,null,null,{"$f":"IF(解答!B22=\"\",\"\",IF(K24=解答!B22,1,0))","v":""},{"$f":"IF(解答!C22=\"\",\"\",IF(L24=解答!C22,1,0))","v":""},{"$f":"IF(解答!D22=\"\",\"\",IF(M24=解答!D22,1,0))","v":""},{"$f":"IF(解答!E22=\"\",\"\",IF(N24=解答!E22,1,0))","v":""},{"$f":"IF(解答!F22=\"\",\"\",IF(O24=解答!F22,1,0))","v":""},{"$f":"IF(解答!G22=\"\",\"\",IF(P24=解答!G22,1,0))","v":""},{"$f":"IF(解答!H22=\"\",\"\",IF(Q24=解答!H22,1,0))","v":""},{"$f":"IF(解答!I22=\"\",\"\",IF(R24=解答!I22,1,0))","v":""},{"$f":"IF(解答!J22=\"\",\"\",IF(S24=解答!J22,1,0))","v":""},{"$f":"IF(解答!K22=\"\",\"\",IF(T24=解答!K22,1,0))","v":""},{"$f":"IF(解答!B22=\"\",\"\",SUM(U24:AD24))","v":""}]
[22,null,null,null,null,null,null,null,null,0,null,null,null,null,null,null,null,null,null,null,{"$f":"IF(解答!B23=\"\",\"\",IF(K25=解答!B23,1,0))","v":""},{"$f":"IF(解答!C23=\"\",\"\",IF(L25=解答!C23,1,0))","v":""},{"$f":"IF(解答!D23=\"\",\"\",IF(M25=解答!D23,1,0))","v":""},{"$f":"IF(解答!E23=\"\",\"\",IF(N25=解答!E23,1,0))","v":""},{"$f":"IF(解答!F23=\"\",\"\",IF(O25=解答!F23,1,0))","v":""},{"$f":"IF(解答!G23=\"\",\"\",IF(P25=解答!G23,1,0))","v":""},{"$f":"IF(解答!H23=\"\",\"\",IF(Q25=解答!H23,1,0))","v":""},{"$f":"IF(解答!I23=\"\",\"\",IF(R25=解答!I23,1,0))","v":""},{"$f":"IF(解答!J23=\"\",\"\",IF(S25=解答!J23,1,0))","v":""},{"$f":"IF(解答!K23=\"\",\"\",IF(T25=解答!K23,1,0))","v":""},{"$f":"IF(解答!B23=\"\",\"\",SUM(U25:AD25))","v":""}]
[23,null,null,null,null,null,null,null,null,0,null,null,null,null,null,null,null,null,null,null,{"$f":"IF(解答!B24=\"\",\"\",IF(K26=解答!B24,1,0))","v":""},{"$f":"IF(解答!C24=\"\",\"\",IF(L26=解答!C24,1,0))","v":""},{"$f":"IF(解答!D24=\"\",\"\",IF(M26=解答!D24,1,0))","v":""},{"$f":"IF(解答!E24=\"\",\"\",IF(N26=解答!E24,1,0))","v":""},{"$f":"IF(解答!F24=\"\",\"\",IF(O26=解答!F24,1,0))","v":""},{"$f":"IF(解答!G24=\"\",\"\",IF(P26=解答!G24,1,0))","v":""},{"$f":"IF(解答!H24=\"\",\"\",IF(Q26=解答!H24,1,0))","v":""},{"$f":"IF(解答!I24=\"\",\"\",IF(R26=解答!I24,1,0))","v":""},{"$f":"IF(解答!J24=\"\",\"\",IF(S26=解答!J24,1,0))","v":""},{"$f":"IF(解答!K24=\"\",\"\",IF(T26=解答!K24,1,0))","v":""},{"$f":"IF(解答!B24=\"\",\"\",SUM(U26:AD26))","v":""}]
[24,null,null,null,null,null,null,null,null,0,null,null,null,null,null,null,null,null,null,null,{"$f":"IF(解答!B25=\"\",\"\",IF(K27=解答!B25,1,0))","v":""},{"$f":"IF(解答!C25=\"\",\"\",IF(L27=解答!C25,1,0))","v":""},{"$f":"IF(解答!D25=\"\",\"\",IF(M27=解答!D25,1,0))","v":""},{"$f":"IF(解答!E25=\"\",\"\",IF(N27=解答!E25,1,0))","v":""},{"$f":"IF(解答!F25=\"\",\"\",IF(O27=解答!F25,1,0))","v":""},{"$f":"IF(解答!G25=\"\",\"\",IF(P27=解答!G25,1,0))","v":""},{"$f":"IF(解答!H25=\"\",\"\",IF(Q27=解答!H25,1,0))","v":""},{"$f":"IF(解答!I25=\"\",\"\",IF(R27=解答!I25,1,0))","v":""},{"$f":"IF(解答!J25=\"\",\"\",IF(S27=解答!J25,1,0))","v":""},{"$f":"IF(解答!K25=\"\",\"\",IF(T27=解答!K25,1,0))","v":""},{"$f":"IF(解答!B25=\"\",\"\",SUM(U27:AD27))","v":""}]
[25,null,null,null,null,null,null,null,null,0,null,null,null,null,null,null,null,null,null,null,{"$f":"IF(解答!B26=\"\",\"\",IF(K28=解答!B26,1,0))","v":""},{"$f":"IF(解答!C26=\"\",\"\",IF(L28=解答!C26,1,0))","v":""},{"$f":"IF(解答!D26=\"\",\"\",IF(M28=解答!D26,1,0))","v":""},{"$f":"IF(解答!E26=\"\",\"\",IF(N28=解答!E26,1,0))","v":""},{"$f":"IF(解答!F26=\"\",\"\",IF(O28=解答!F26,1,0))","v":""},{"$f":"IF(解答!G26=\"\",\"\",IF(P28=解答!G26,1,0))","v":""},{"$f":"IF(解答!H26=\"\",\"\",IF(Q28=解答!H26,1,0))","v":""},{"$f":"IF(解答!I26=\"\",\"\",IF(R28=解答!I26,1,0))","v":""},{"$f":"IF(解答!J26=\"\",\"\",IF(S28=解答!J26,1,0))","v":""},{"$f":"IF(解答!K26=\"\",\"\",IF(T28=解答!K26,1,0))","v":""},{"$f":"IF(解答!B26=\"\",\"\",SUM(U28:AD28))","v":""}]
[26,null,null,null,null,null,null,null,null,0,null,null,null,null,null,null,null,null,null,null,{"$f":"IF(解答!B27=\"\",\"\",IF(K29=解答!B27,1,0))","v":""},{"$f":"IF(解答!C27=\"\",\"\",IF(L29=解答!C27,1,0))","v":""},{"$f":"IF(解答!D27=\"\",\"\",IF(M29=解答!D27,1,0))","v":""},{"$f":"IF(解答!E27=\"\",\"\",IF(N29=解答!E27,1,0))","v":""},{"$f":"IF(解答!F27=\"\",\"\",IF(O29=解答!F27,1,0))","v":""},{"$f":"IF(解答!G27=\"\",\"\",IF(P29=解答!G27,1,0))","v":""},{"$f":"IF(解答!H27=\"\",\"\",IF(Q29=解答!H27,1,0))","v":""},{"$f":"IF(解答!I27=\"\",\"\",IF(R29=解答!I27,1,0))","v":""},{"$f":"IF(解答!J27=\"\",\"\",IF(S29=解答!J27,1,0))","v":""},{"$f":"IF(解答!K27=\"\",\"\",IF(T29=解答!K27,1,0))","v":""},{"$f":"IF(解答!B27=\"\",\"\",SUM(U29:AD29))","v":""}]
[27,null,null,null,null,null,null,null,null,0,null,null,null,null,null,null,null,null,null,null,{"$f":"IF(解答!B28=\"\",\"\",IF(K30=解答!B28,1,0))","v":""},{"$f":"IF(解答!C28=\"\",\"\",IF(L30=解答!C28,1,0))","v":""},{"$f":"IF(解答!D28=\"\",\"\",IF(M30=解答!D28,1,0))","v":""},{"$f":"IF(解答!E28=\"\",\"\",IF(N30=解答!E28,1,0))","v":""},{"$f":"IF(解答!F28=\"\",\"\",IF(O30=解答!F28,1,0))","v":""},{"$f":"IF(解答!G28=\"\",\"\",IF(P30=解答!G28,1,0))","v":""},{"$f":"IF(解答!H28=\"\",\"\",IF(Q30=解答!H28,1,0))","v":""},{"$f":"IF(解答!I28=\"\",\"\",IF(R30=解答!I28,1,0))","v":""},{"$f":"IF(解答!J28=\"\",\"\",IF(S30=解答!J28,1,0))","v":""},{"$f":"IF(解答!K28=\"\",\"\",IF(T30=解答!K28,1,0))","v":""},{"$f":"IF(解答!B28=\"\",\"\",SUM(U30:AD30))","v":""}]
[28,null,null,null,null,null,null,null,null,0,null,null,null,null,null,null,null,null,null,null,{"$f":"IF(解答!B29=\"\",\"\",IF(K31=解答!B29,1,0))","v":""},{"$f":"IF(解答!C29=\"\",\"\",IF(L31=解答!C29,1,0))","v":""},{"$f":"IF(解答!D29=\"\",\"\",IF(M31=解答!D29,1,0))","v":""},{"$f":"IF(解答!E29=\"\",\"\",IF(N31=解答!E29,1,0))","v":""},{"$f":"IF(解答!F29=\"\",\"\",IF(O31=解答!F29,1,0))","v":""},{"$f":"IF(解答!G29=\"\",\"\",IF(P31=解答!G29,1,0))","v":""},{"$f":"IF(解答!H29=\"\",\"\",IF(Q31=解答!H29,1,0))","v":""},{"$f":"IF(解答!I29=\"\",\"\",IF(R31=解答!I29,1,0))","v":""},{"$f":"IF(解答!J29=\"\",\"\",IF(S31=解答!J29,1,0))","v":""},{"$f":"IF(解答!K29=\"\",\"\",IF(T31=解答!K29,1,0))","v":""},{"$f":"IF(解答!B29=\"\",\"\",SUM(U31:AD31))","v":""}]
[29,null,null,null,null,null,null,null,null,0,null,null,null,null,null,null,null,null,null,null,{"$f":"IF(解答!B30=\"\",\"\",IF(K32=解答!B30,1,0))","v":""},{"$f":"IF(解答!C30=\"\",\"\",IF(L32=解答!C30,1,0))","v":""},{"$f":"IF(解答!D30=\"\",\"\",IF(M32=解答!D30,1,0))","v":""},{"$f":"IF(解答!E30=\"\",\"\",IF(N32=解答!E30,1,0))","v":""},{"$f":"IF(解答!F30=\"\",\"\",IF(O32=解答!F30,1,0))","v":""},{"$f":"IF(解答!G30=\"\",\"\",IF(P32=解答!G30,1,0))","v":""},{"$f":"IF(解答!H30=\"\",\"\",IF(Q32=解答!H30,1,0))","v":""},{"$f":"IF(解答!I30=\"\",\"\",IF(R32=解答!I30,1,0))","v":""},{"$f":"IF(解答!J30=\"\",\"\",IF(S32=解答!J30,1,0))","v":""},{"$f":"IF(解答!K30=\"\",\"\",IF(T32=解答!K30,1,0))","v":""},{"$f":"IF(解答!B30=\"\",\"\",SUM(U32:AD32))","v":""}]
[30,null,null,null,null,null,null,null,null,0,null,null,null,null,null,null,null,null,null,null,{"$f":"IF(解答!B31=\"\",\"\",IF(K33=解答!B31,1,0))","v":""},{"$f":"IF(解答!C31=\"\",\"\",IF(L33=解答!C31,1,0))","v":""},{"$f":"IF(解答!D31=\"\",\"\",IF(M33=解答!D31,1,0))","v":""},{"$f":"IF(解答!E31=\"\",\"\",IF(N33=解答!E31,1,0))","v":""},{"$f":"IF(解答!F31=\"\",\"\",IF(O33=解答!F31,1,0))","v":""},{"$f":"IF(解答!G31=\"\",\"\",IF(P33=解答!G31,1,0))","v":""},{"$f":"IF(解答!H31=\"\",\"\",IF(Q33=解答!H31,1,0))","v":""},{"$f":"IF(解答!I31=\"\",\"\",IF(R33=解答!I31,1,0))","v":""},{"$f":"IF(解答!J31=\"\",\"\",IF(S33=解答!J31,1,0))","v":""},{"$f":"IF(解答!K31=\"\",\"\",IF(T33=解答!K31,1,0))","v":""},{"$f":"IF(解答!B31=\"\",\"\",SUM(U33:AD33))","v":""}]
[31,null,null,null,null,null,null,null,null,0,null,null,null,null,null,null,null,null,null,null,{"$f":"IF(解答!B32=\"\",\"\",IF(K34=解答!B32,1,0))","v":""},{"$f":"IF(解答!C32=\"\",\"\",IF(L34=解答!C32,1,0))","v":""},{"$f":"IF(解答!D32=\"\",\"\",IF(M34=解答!D32,1,0))","v":""},{"$f":"IF(解答!E32=\"\",\"\",IF(N34=解答!E32,1,0))","v":""},{"$f":"IF(解答!F32=\"\",\"\",IF(O34=解答!F32,1,0))","v":""},{"$f":"IF(解答!G32=\"\",\"\",IF(P34=解答!G32,1,0))","v":""},{"$f":"IF(解答!H32=\"\",\"\",IF(Q34=解答!H32,1,0))","v":""},{"$f":"IF(解答!I32=\"\",\"\",IF(R34=解答!I32,1,0))","v":""},{"$f":"IF(解答!J32=\"\",\"\",IF(S34=解答!J32,1,0))","v":""},{"$f":"IF(解答!K32=\"\",\"\",IF(T34=解答!K32,1,0))","v":""},{"$f":"IF(解答!B32=\"\",\"\",SUM(U34:AD34))","v":""}]
[32,null,null,null,null,null,null,null,null,0,null,null,null,null,null,null,null,null,null,null,{"$f":"IF(解答!B33=\"\",\"\",IF(K35=解答!B33,1,0))","v":""},{"$f":"IF(解答!C33=\"\",\"\",IF(L35=解答!C33,1,0))","v":""},{"$f":"IF(解答!D33=\"\",\"\",IF(M35=解答!D33,1,0))","v":""},{"$f":"IF(解答!E33=\"\",\"\",IF(N35=解答!E33,1,0))","v":""},{"$f":"IF(解答!F33=\"\",\"\",IF(O35=解答!F33,1,0))","v":""},{"$f":"IF(解答!G33=\"\",\"\",IF(P35=解答!G33,1,0))","v":""},{"$f":"IF(解答!H33=\"\",\"\",IF(Q35=解答!H33,1,0))","v":""},{"$f":"IF(解答!I33=\"\",\"\",IF(R35=解答!I33,1,0))","v":""},{"$f":"IF(解答!J33=\"\",\"\",IF(S35=解答!J33,1,0))","v":""},{"$f":"IF(解答!K33=\"\",\"\",IF(T35=解答!K33,1,0))","v":""},{"$f":"IF(解答!B33=\"\",\"\",SUM(U35:AD35))","v":""}]
[33,null,null,null,null,null,null,null,null,0,null,null,null,null,null,null,null,null,null,null,{"$f":"IF(解答!B34=\"\",\"\",IF(K36=解答!B34,1,0))","v":""},{"$f":"IF(解答!C34=\"\",\"\",IF(L36=解答!C34,1,0))","v":""},{"$f":"IF(解答!D34=\"\",\"\",IF(M36=解答!D34,1,0))","v":""},{"$f":"IF(解答!E34=\"\",\"\",IF(N36=解答!E34,1,0))","v":""},{"$f":"IF(解答!F34=\"\",\"\",IF(O36=解答!F34,1,0))","v":""},{"$f":"IF(解答!G34=\"\",\"\",IF(P36=解答!G34,1,0))","v":""},{"$f":"IF(解答!H34=\"\",\"\",IF(Q36=解答!H34,1,0))","v":""},{"$f":"IF(解答!I34=\"\",\"\",IF(R36=解答!I34,1,0))","v":""},{"$f":"IF(解答!J34=\"\",\"\",IF(S36=解答!J34,1,0))","v":""},{"$f":"IF(解答!K34=\"\",\"\",IF(T36=解答!K34,1,0))","v":""},{"$f":"IF(解答!B34=\"\",\"\",SUM(U36:AD36))","v":""}]
[34,null,null,null,null,null,null,null,null,0,null,null,null,null,null,null,null,null,null,null,{"$f":"IF(解答!B35=\"\",\"\",IF(K37=解答!B35,1,0))","v":""},{"$f":"IF(解答!C35=\"\",\"\",IF(L37=解答!C35,1,0))","v":""},{"$f":"IF(解答!D35=\"\",\"\",IF(M37=解答!D35,1,0))","v":""},{"$f":"IF(解答!E35=\"\",\"\",IF(N37=解答!E35,1,0))","v":""},{"$f":"IF(解答!F35=\"\",\"\",IF(O37=解答!F35,1,0))","v":""},{"$f":"IF(解答!G35=\"\",\"\",IF(P37=解答!G35,1,0))","v":""},{"$f":"IF(解答!H35=\"\",\"\",IF(Q37=解答!H35,1,0))","v":""},{"$f":"IF(解答!I35=\"\",\"\",IF(R37=解答!I35,1,0))","v":""},{"$f":"IF(解答!J35=\"\",\"\",IF(S37=解答!J35,1,0))","v":""},{"$f":"IF(解答!K35=\"\",\"\",IF(T37=解答!K35,1,0))","v":""},{"$f":"IF(解答!B35=\"\",\"\",SUM(U37:AD37))","v":""}]
[35,null,null,null,null,null,null,null,null,0,null,null,null,null,null,null,null,null,null,null,{"$f":"IF(解答!B36=\"\",\"\",IF(K38=解答!B36,1,0))","v":""},{"$f":"IF(解答!C36=\"\",\"\",IF(L38=解答!C36,1,0))","v":""},{"$f":"IF(解答!D36=\"\",\"\",IF(M38=解答!D36,1,0))","v":""},{"$f":"IF(解答!E36=\"\",\"\",IF(N38=解答!E36,1,0))","v":""},{"$f":"IF(解答!F36=\"\",\"\",IF(O38=解答!F36,1,0))","v":""},{"$f":"IF(解答!G36=\"\",\"\",IF(P38=解答!G36,1,0))","v":""},{"$f":"IF(解答!H36=\"\",\"\",IF(Q38=解答!H36,1,0))","v":""},{"$f":"IF(解答!I36=\"\",\"\",IF(R38=解答!I36,1,0))","v":""},{"$f":"IF(解答!J36=\"\",\"\",IF(S38=解答!J36,1,0))","v":""},{"$f":"IF(解答!K36=\"\",\"\",IF(T38=解答!K36,1,0))","v":""},{"$f":"IF(解答!B36=\"\",\"\",SUM(U38:AD38))","v":""}]
[36,null,null,null,null,null,null,null,null,0,null,null,null,null,null,null,null,null,null,null,{"$f":"IF(解答!B37=\"\",\"\",IF(K39=解答!B37,1,0))","v":""},{"$f":"IF(解答!C37=\"\",\"\",IF(L39=解答!C37,1,0))","v":""},{"$f":"IF(解答!D37=\"\",\"\",IF(M39=解答!D37,1,0))","v":""},{"$f":"IF(解答!E37=\"\",\"\",IF(N39=解答!E37,1,0))","v":""},{"$f":"IF(解答!F37=\"\",\"\",IF(O39=解答!F37,1,0))","v":""},{"$f":"IF(解答!G37=\"\",\"\",IF(P39=解答!G37,1,0))","v":""},{"$f":"IF(解答!H37=\"\",\"\",IF(Q39=解答!H37,1,0))","v":""},{"$f":"IF(解答!I37=\"\",\"\",IF(R39=解答!I37,1,0))","v":""},{"$f":"IF(解答!J37=\"\",\"\",IF(S39=解答!J37,1,0))","v":""},{"$f":"IF(解答!K37=\"\",\"\",IF(T39=解答!K37,1,0))","v":""},{"$f":"IF(解答!B37=\"\",\"\",SUM(U39:AD39))","v":""}]
[37,null,null,null,null,null,null,null,null,0,null,null,null,null,null,null,null,null,null,null,{"$f":"IF(解答!B38=\"\",\"\",IF(K40=解答!B38,1,0))","v":""},{"$f":"IF(解答!C38=\"\",\"\",IF(L40=解答!C38,1,0))","v":""},{"$f":"IF(解答!D38=\"\",\"\",IF(M40=解答!D38,1,0))","v":""},{"$f":"IF(解答!E38=\"\",\"\",IF(N40=解答!E38,1,0))","v":""},{"$f":"IF(解答!F38=\"\",\"\",IF(O40=解答!F38,1,0))","v":""},{"$f":"IF(解答!G38=\"\",\"\",IF(P40=解答!G38,1,0))","v":""},{"$f":"IF(解答!H38=\"\",\"\",IF(Q40=解答!H38,1,0))","v":""},{"$f":"IF(解答!I38=\"\",\"\",IF(R40=解答!I38,1,0))","v":""},{"$f":"IF(解答!J38=\"\",\"\",IF(S40=解答!J38,1,0))","v":""},{"$f":"IF(解答!K38=\"\",\"\",IF(T40=解答!K38,1,0))","v":""},{"$f":"IF(解答!B38=\"\",\"\",SUM(U40:AD40))","v":""}]
[38,null,null,null,null,null,null,null,null,0,null,null,null,null,null,null,null,null,null,null,{"$f":"IF(解答!B39=\"\",\"\",IF(K41=解答!B39,1,0))","v":""},{"$f":"IF(解答!C39=\"\",\"\",IF(L41=解答!C39,1,0))","v":""},{"$f":"IF(解答!D39=\"\",\"\",IF(M41=解答!D39,1,0))","v":""},{"$f":"IF(解答!E39=\"\",\"\",IF(N41=解答!E39,1,0))","v":""},{"$f":"IF(解答!F39=\"\",\"\",IF(O41=解答!F39,1,0))","v":""},{"$f":"IF(解答!G39=\"\",\"\",IF(P41=解答!G39,1,0))","v":""},{"$f":"IF(解答!H39=\"\",\"\",IF(Q41=解答!H39,1,0))","v":""},{"$f":"IF(解答!I39=\"\",\"\",IF(R41=解答!I39,1,0))","v":""},{"$f":"IF(解答!J39=\"\",\"\",IF(S41=解答!J39,1,0))","v":""},{"$f":"IF(解答!K39=\"\",\"\",IF(T41=解答!K39,1,0))","v":""},{"$f":"IF(解答!B39=\"\",\"\",SUM(U41:AD41))","v":""}]
[39,null,null,null,null,null,null,null,null,0,null,null,null,null,null,null,null,null,null,null,{"$f":"IF(解答!B40=\"\",\"\",IF(K42=解答!B40,1,0))","v":""},{"$f":"IF(解答!C40=\"\",\"\",IF(L42=解答!C40,1,0))","v":""},{"$f":"IF(解答!D40=\"\",\"\",IF(M42=解答!D40,1,0))","v":""},{"$f":"IF(解答!E40=\"\",\"\",IF(N42=解答!E40,1,0))","v":""},{"$f":"IF(解答!F40=\"\",\"\",IF(O42=解答!F40,1,0))","v":""},{"$f":"IF(解答!G40=\"\",\"\",IF(P42=解答!G40,1,0))","v":""},{"$f":"IF(解答!H40=\"\",\"\",IF(Q42=解答!H40,1,0))","v":""},{"$f":"IF(解答!I40=\"\",\"\",IF(R42=解答!I40,1,0))","v":""},{"$f":"IF(解答!J40=\"\",\"\",IF(S42=解答!J40,1,0))","v":""},{"$f":"IF(解答!K40=\"\",\"\",IF(T42=解答!K40,1,0))","v":""},{"$f":"IF(解答!B40=\"\",\"\",SUM(U42:AD42))","v":""}]
[40,null,null,null,null,null,null,null,null,0,null,null,null,null,null,null,null,null,null,null,{"$f":"IF(解答!B41=\"\",\"\",IF(K43=解答!B41,1,0))","v":""},{"$f":"IF(解答!C41=\"\",\"\",IF(L43=解答!C41,1,0))","v":""},{"$f":"IF(解答!D41=\"\",\"\",IF(M43=解答!D41,1,0))","v":""},{"$f":"IF(解答!E41=\"\",\"\",IF(N43=解答!E41,1,0))","v":""},{"$f":"IF(解答!F41=\"\",\"\",IF(O43=解答!F41,1,0))","v":""},{"$f":"IF(解答!G41=\"\",\"\",IF(P43=解答!G41,1,0))","v":""},{"$f":"IF(解答!H41=\"\",\"\",IF(Q43=解答!H41,1,0))","v":""},{"$f":"IF(解答!I41=\"\",\"\",IF(R43=解答!I41,1,0))","v":""},{"$f":"IF(解答!J41=\"\",\"\",IF(S43=解答!J41,1,0))","v":""},{"$f":"IF(解答!K41=\"\",\"\",IF(T43=解答!K41,1,0))","v":""},{"$f":"IF(解答!B41=\"\",\"\",SUM(U43:AD43))","v":""}]
[41,null,null,null,null,null,null,null,null,0,null,null,null,null,null,null,null,null,null,null,{"$f":"IF(解答!B42=\"\",\"\",IF(K44=解答!B42,1,0))","v":""},{"$f":"IF(解答!C42=\"\",\"\",IF(L44=解答!C42,1,0))","v":""},{"$f":"IF(解答!D42=\"\",\"\",IF(M44=解答!D42,1,0))","v":""},{"$f":"IF(解答!E42=\"\",\"\",IF(N44=解答!E42,1,0))","v":""},{"$f":"IF(解答!F42=\"\",\"\",IF(O44=解答!F42,1,0))","v":""},{"$f":"IF(解答!G42=\"\",\"\",IF(P44=解答!G42,1,0))","v":""},{"$f":"IF(解答!H42=\"\",\"\",IF(Q44=解答!H42,1,0))","v":""},{"$f":"IF(解答!I42=\"\",\"\",IF(R44=解答!I42,1,0))","v":""},{"$f":"IF(解答!J42=\"\",\"\",IF(S44=解答!J42,1,0))","v":""},{"$f":"IF(解答!K42=\"\",\"\",IF(T44=解答!K42,1,0))","v":""},{"$f":"IF(解答!B42=\"\",\"\",SUM(U44:AD44))","v":""}]
[42,null,null,null,null,null,null,null,null,0,null,null,null,null,null,null,null,null,null,null,{"$f":"IF(解答!B43=\"\",\"\",IF(K45=解答!B43,1,0))","v":""},{"$f":"IF(解答!C43=\"\",\"\",IF(L45=解答!C43,1,0))","v":""},{"$f":"IF(解答!D43=\"\",\"\",IF(M45=解答!D43,1,0))","v":""},{"$f":"IF(解答!E43=\"\",\"\",IF(N45=解答!E43,1,0))","v":""},{"$f":"IF(解答!F43=\"\",\"\",IF(O45=解答!F43,1,0))","v":""},{"$f":"IF(解答!G43=\"\",\"\",IF(P45=解答!G43,1,0))","v":""},{"$f":"IF(解答!H43=\"\",\"\",IF(Q45=解答!H43,1,0))","v":""},{"$f":"IF(解答!I43=\"\",\"\",IF(R45=解答!I43,1,0))","v":""},{"$f":"IF(解答!J43=\"\",\"\",IF(S45=解答!J43,1,0))","v":""},{"$f":"IF(解答!K43=\"\",\"\",IF(T45=解答!K43,1,0))","v":""},{"$f":"IF(解答!B43=\"\",\"\",SUM(U45:AD45))","v":""}]
[43,null,null,null,null,null,null,null,null,0,null,null,null,null,null,null,null,null,null,null,{"$f":"IF(解答!B44=\"\",\"\",IF(K46=解答!B44,1,0))","v":""},{"$f":"IF(解答!C44=\"\",\"\",IF(L46=解答!C44,1,0))","v":""},{"$f":"IF(解答!D44=\"\",\"\",IF(M46=解答!D44,1,0))","v":""},{"$f":"IF(解答!E44=\"\",\"\",IF(N46=解答!E44,1,0))","v":""},{"$f":"IF(解答!F44=\"\",\"\",IF(O46=解答!F44,1,0))","v":""},{"$f":"IF(解答!G44=\"\",\"\",IF(P46=解答!G44,1,0))","v":""},{"$f":"IF(解答!H44=\"\",\"\",IF(Q46=解答!H44,1,0))","v":""},{"$f":"IF(解答!I44=\"\",\"\",IF(R46=解答!I44,1,0))","v":""},{"$f":"IF(解答!J44=\"\",\"\",IF(S46=解答!J44,1,0))","v":""},{"$f":"IF(解答!K44=\"\",\"\",IF(T46=解答!K44,1,0))","v":""},{"$f":"IF(解答!B44=\"\",\"\",SUM(U46:AD46))","v":""}]
[44,null,null,null,null,null,null,null,null,0,null,null,null,null,null,null,null,null,null,null,{"$f":"IF(解答!B45=\"\",\"\",IF(K47=解答!B45,1,0))","v":""},{"$f":"IF(解答!C45=\"\",\"\",IF(L47=解答!C45,1,0))","v":""},{"$f":"IF(解答!D45=\"\",\"\",IF(M47=解答!D45,1,0))","v":""},{"$f":"IF(解答!E45=\"\",\"\",IF(N47=解答!E45,1,0))","v":""},{"$f":"IF(解答!F45=\"\",\"\",IF(O47=解答!F45,1,0))","v":""},{"$f":"IF(解答!G45=\"\",\"\",IF(P47=解答!G45,1,0))","v":""},{"$f":"IF(解答!H45=\"\",\"\",IF(Q47=解答!H45,1,0))","v":""},{"$f":"IF(解答!I45=\"\",\"\",IF(R47=解答!I45,1,0))","v":""},{"$f":"IF(解答!J45=\"\",\"\",IF(S47=解答!J45,1,0))","v":""},{"$f":"IF(解答!K45=\"\",\"\",IF(T47=解答!K45,1,0))","v":""},{"$f":"IF(解答!B45=\"\",\"\",SUM(U47:AD47))","v":""}]
[45,null,null,null,null,null,null,null,null,0,null,null,null,null,null,null,null,null,null,null,{"$f":"IF(解答!B46=\"\",\"\",IF(K48=解答!B46,1,0))","v":""},{"$f":"IF(解答!C46=\"\",\"\",IF(L48=解答!C46,1,0))","v":""},{"$f":"IF(解答!D46=\"\",\"\",IF(M48=解答!D46,1,0))","v":""},{"$f":"IF(解答!E46=\"\",\"\",IF(N48=解答!E46,1,0))","v":""},{"$f":"IF(解答!F46=\"\",\"\",IF(O48=解答!F46,1,0))","v":""},{"$f":"IF(解答!G46=\"\",\"\",IF(P48=解答!G46,1,0))","v":""},{"$f":"IF(解答!H46=\"\",\"\",IF(Q48=解答!H46,1,0))","v":""},{"$f":"IF(解答!I46=\"\",\"\",IF(R48=解答!I46,1,0))","v":""},{"$f":"IF(解答!J46=\"\",\"\",IF(S48=解答!J46,1,0))","v":""},{"$f":"IF(解答!K46=\"\",\"\",IF(T48=解答!K46,1,0))","v":""},{"$f":"IF(解答!B46=\"\",\"\",SUM(U48:AD48))","v":""}]
[46,null,null,null,null,null,null,null,null,0,null,null,null,null,null,null,null,null,null,null,{"$f":"IF(解答!B47=\"\",\"\",IF(K49=解答!B47,1,0))","v":""},{"$f":"IF(解答!C47=\"\",\"\",IF(L49=解答!C47,1,0))","v":""},{"$f":"IF(解答!D47=\"\",\"\",IF(M49=解答!D47,1,0))","v":""},{"$f":"IF(解答!E47=\"\",\"\",IF(N49=解答!E47,1,0))","v":""},{"$f":"IF(解答!F47=\"\",\"\",IF(O49=解答!F47,1,0))","v":""},{"$f":"IF(解答!G47=\"\",\"\",IF(P49=解答!G47,1,0))","v":""},{"$f":"IF(解答!H47=\"\",\"\",IF(Q49=解答!H47,1,0))","v":""},{"$f":"IF(解答!I47=\"\",\"\",IF(R49=解答!I47,1,0))","v":""},{"$f":"IF(解答!J47=\"\",\"\",IF(S49=解答!J47,1,0))","v":""},{"$f":"IF(解答!K47=\"\",\"\",IF(T49=解答!K47,1,0))","v":""},{"$f":"IF(解答!B47=\"\",\"\",SUM(U49:AD49))","v":""}]
[47,null,null,null,null,null,null,null,null,0,null,null,null,null,null,null,null,null,null,null,{"$f":"IF(解答!B48=\"\",\"\",IF(K50=解答!B48,1,0))","v":""},{"$f":"IF(解答!C48=\"\",\"\",IF(L50=解答!C48,1,0))","v":""},{"$f":"IF(解答!D48=\"\",\"\",IF(M50=解答!D48,1,0))","v":""},{"$f":"IF(解答!E48=\"\",\"\",IF(N50=解答!E48,1,0))","v":""},{"$f":"IF(解答!F48=\"\",\"\",IF(O50=解答!F48,1,0))","v":""},{"$f":"IF(解答!G48=\"\",\"\",IF(P50=解答!G48,1,0))","v":""},{"$f":"IF(解答!H48=\"\",\"\",IF(Q50=解答!H48,1,0))","v":""},{"$f":"IF(解答!I48=\"\",\"\",IF(R50=解答!I48,1,0))","v":""},{"$f":"IF(解答!J48=\"\",\"\",IF(S50=解答!J48,1,0))","v":""},{"$f":"IF(解答!K48=\"\",\"\",IF(T50=解答!K48,1,0))","v":""},{"$f":"IF(解答!B48=\"\",\"\",SUM(U50:AD50))","v":""}]
[48,null,null,null,null,null,null,null,null,0,null,null,null,null,null,null,null,null,null,null,{"$f":"IF(解答!B49=\"\",\"\",IF(K51=解答!B49,1,0))","v":""},{"$f":"IF(解答!C49=\"\",\"\",IF(L51=解答!C49,1,0))","v":""},{"$f":"IF(解答!D49=\"\",\"\",IF(M51=解答!D49,1,0))","v":""},{"$f":"IF(解答!E49=\"\",\"\",IF(N51=解答!E49,1,0))","v":""},{"$f":"IF(解答!F49=\"\",\"\",IF(O51=解答!F49,1,0))","v":""},{"$f":"IF(解答!G49=\"\",\"\",IF(P51=解答!G49,1,0))","v":""},{"$f":"IF(解答!H49=\"\",\"\",IF(Q51=解答!H49,1,0))","v":""},{"$f":"IF(解答!I49=\"\",\"\",IF(R51=解答!I49,1,0))","v":""},{"$f":"IF(解答!J49=\"\",\"\",IF(S51=解答!J49,1,0))","v":""},{"$f":"IF(解答!K49=\"\",\"\",IF(T51=解答!K49,1,0))","v":""},{"$f":"IF(解答!B49=\"\",\"\",SUM(U51:AD51))","v":""}]
[49,null,null,null,null,null,null,null,null,0,null,null,null,null,null,null,null,null,null,null,{"$f":"IF(解答!B50=\"\",\"\",IF(K52=解答!B50,1,0))","v":""},{"$f":"IF(解答!C50=\"\",\"\",IF(L52=解答!C50,1,0))","v":""},{"$f":"IF(解答!D50=\"\",\"\",IF(M52=解答!D50,1,0))","v":""},{"$f":"IF(解答!E50=\"\",\"\",IF(N52=解答!E50,1,0))","v":""},{"$f":"IF(解答!F50=\"\",\"\",IF(O52=解答!F50,1,0))","v":""},{"$f":"IF(解答!G50=\"\",\"\",IF(P52=解答!G50,1,0))","v":""},{"$f":"IF(解答!H50=\"\",\"\",IF(Q52=解答!H50,1,0))","v":""},{"$f":"IF(解答!I50=\"\",\"\",IF(R52=解答!I50,1,0))","v":""},{"$f":"IF(解答!J50=\"\",\"\",IF(S52=解答!J50,1,0))","v":""},{"$f":"IF(解答!K50=\"\",\"\",IF(T52=解答!K50,1,0))","v":""},{"$f":"IF(解答!B50=\"\",\"\",SUM(U52:AD52))","v":""}]
[50,null,null,null,null,null,null,null,null,0,null,null,null,null,null,null,null,null,null,null,{"$f":"IF(解答!B51=\"\",\"\",IF(K53=解答!B51,1,0))","v":""},{"$f":"IF(解答!C51=\"\",\"\",IF(L53=解答!C51,1,0))","v":""},{"$f":"IF(解答!D51=\"\",\"\",IF(M53=解答!D51,1,0))","v":""},{"$f":"IF(解答!E51=\"\",\"\",IF(N53=解答!E51,1,0))","v":""},{"$f":"IF(解答!F51=\"\",\"\",IF(O53=解答!F51,1,0))","v":""},{"$f":"IF(解答!G51=\"\",\"\",IF(P53=解答!G51,1,0))","v":""},{"$f":"IF(解答!H51=\"\",\"\",IF(Q53=解答!H51,1,0))","v":""},{"$f":"IF(解答!I51=\"\",\"\",IF(R53=解答!I51,1,0))","v":""},{"$f":"IF(解答!J51=\"\",\"\",IF(S53=解答!J51,1,0))","v":""},{"$f":"IF(解答!K51=\"\",\"\",IF(T53=解答!K51,1,0))","v":""},{"$f":"IF(解答!B51=\"\",\"\",SUM(U53:AD53))","v":""}]

{"sheet":"最後","index":8,"n_rows":0,"n_cols":0,"rows_kept":0,"cut":false,"hidden":false,"merged":[]}